BEGIN:VCALENDAR
VERSION:2.0
PRODID:-//Northern Essex CC - ECPv6.15.12//NONSGML v1.0//EN
CALSCALE:GREGORIAN
METHOD:PUBLISH
X-WR-CALNAME:Northern Essex CC
X-ORIGINAL-URL:https://necc.edu
X-WR-CALDESC:Events for Northern Essex CC
REFRESH-INTERVAL;VALUE=DURATION:PT1H
X-Robots-Tag:noindex
X-PUBLISHED-TTL:PT1H
BEGIN:VTIMEZONE
TZID:America/New_York
BEGIN:DAYLIGHT
TZOFFSETFROM:-0500
TZOFFSETTO:-0400
TZNAME:EDT
DTSTART:20240310T070000
END:DAYLIGHT
BEGIN:STANDARD
TZOFFSETFROM:-0400
TZOFFSETTO:-0500
TZNAME:EST
DTSTART:20241103T060000
END:STANDARD
BEGIN:DAYLIGHT
TZOFFSETFROM:-0500
TZOFFSETTO:-0400
TZNAME:EDT
DTSTART:20250309T070000
END:DAYLIGHT
BEGIN:STANDARD
TZOFFSETFROM:-0400
TZOFFSETTO:-0500
TZNAME:EST
DTSTART:20251102T060000
END:STANDARD
BEGIN:DAYLIGHT
TZOFFSETFROM:-0500
TZOFFSETTO:-0400
TZNAME:EDT
DTSTART:20260308T070000
END:DAYLIGHT
BEGIN:STANDARD
TZOFFSETFROM:-0400
TZOFFSETTO:-0500
TZNAME:EST
DTSTART:20261101T060000
END:STANDARD
END:VTIMEZONE
BEGIN:VEVENT
DTSTART;TZID=America/New_York:20250201T080000
DTEND;TZID=America/New_York:20250301T170000
DTSTAMP:20260423T072245
CREATED:20250205T184800Z
LAST-MODIFIED:20250214T164547Z
UID:10009236-1738396800-1740848400@necc.edu
SUMMARY:Book Display: Black History Month
DESCRIPTION:Black History Month is a time to recognize and celebrate Black individuals and communities’ contributions\, history\, and cultural heritage. It serves as a reminder of the struggles\, resilience\, and achievements that have shaped society and continue to inspire progress today. \nBy honoring Black voices\, literature\, and historical milestones\, we foster a deeper understanding of diversity\, inclusion\, and the importance of equity in education and beyond. \nCheck out our Black History Month Library book display at both campus libraries.  \n Print View
URL:https://necc.edu/event/necc-library-black-history-month-display/
LOCATION:All Campuses\, Lawrence\, MA\, United States
CATEGORIES:Student Life
GEO:42.709053;-71.169601
END:VEVENT
BEGIN:VEVENT
DTSTART;VALUE=DATE:20250203
DTEND;VALUE=DATE:20250517
DTSTAMP:20260423T072245
CREATED:20250331T154300Z
LAST-MODIFIED:20250411T162549Z
UID:10010366-1738540800-1747439999@necc.edu
SUMMARY:2025-2026 General Scholarship Deadline
DESCRIPTION:The NECC General Scholarship application has over 42 scholarship opportunities\, which are made possible by the generosity of individual donors\, businesses\, corporations\, and foundations\, all of whom believe that all students should have access to a high-quality education. They are available to you through NECC’s Office of Institutional Advancement. Apply here.  \n Print View
URL:https://necc.edu/event/2025-2026-general-scholarship/
LOCATION:MA
CATEGORIES:Student Life
END:VEVENT
BEGIN:VEVENT
DTSTART;TZID=America/New_York:20250205T000000
DTEND;TZID=America/New_York:20250222T235900
DTSTAMP:20260423T072245
CREATED:20250205T184150Z
LAST-MODIFIED:20250214T163721Z
UID:10009235-1738713600-1740268740@necc.edu
SUMMARY:BrowZine Trial
DESCRIPTION:The library is excited to offer trial access to our scholarly journals through BrowZine. \nBrowZine allows you to browse thousands of top journals by subject\, quickly review tables of contents\, and download full articles\, all in a beautiful visual display. \nLet us know what you think! Trial runs through Feb. 22. \n Print View
URL:https://necc.edu/event/necc-library-browzine-trial/
LOCATION:All Campuses\, Lawrence\, MA\, United States
CATEGORIES:Library
ORGANIZER;CN="Susan Leonardi":MAILTO:sleonardi@necc.mass.edu
GEO:42.709053;-71.169601
END:VEVENT
BEGIN:VEVENT
DTSTART;TZID=America/New_York:20250213T090000
DTEND;TZID=America/New_York:20250213T103000
DTSTAMP:20260423T072245
CREATED:20220812T140127Z
LAST-MODIFIED:20260109T194843Z
UID:10008891-1739437200-1739442600@necc.edu
SUMMARY:Campus Tour and Information Session
DESCRIPTION:Campus Tour and Information Session\n\nVisit us on the Lawrence Campus for an information session and a tour led by one of our admission counselors. We can’t wait to meet you in person and show you all that NECC has to offer.  \nLocation: \nEl Hefni Building Lobby \n414 Common Street St. Lawrence\, MA 01840 \nRegister Now!  \n Print View
URL:https://necc.edu/event/lawrence-campus-tour-and-information-session/2025-02-13/
LOCATION:Lawrence Campus\, Lawrence\, MA\, United States
CATEGORIES:All Info Sessions,Home Page Events,Info Sessions & Tours - Lawrence,Info Sessions and Tours
ORGANIZER;CN="Admissions":MAILTO:enrollmentservices@necc.mass.edu
GEO:42.70734;-71.161052
END:VEVENT
BEGIN:VEVENT
DTSTART;TZID=America/New_York:20250213T100000
DTEND;TZID=America/New_York:20250213T110000
DTSTAMP:20260423T072245
CREATED:20240722T173137Z
LAST-MODIFIED:20240905T184931Z
UID:10006777-1739440800-1739444400@necc.edu
SUMMARY:College Systems Trainings
DESCRIPTION:The College Systems Trainings are geared towards providing all employees with onboarding or refreshers on all of our most used college systems on a more consistent basis. Newly hired and seasoned employees are highly encouraged to attend these trainings\, as needed. \n  \nWe have scheduled these trainings to happen Tuesdays and Thursdays in C204-CPD Computer Lab\, Haverhill Campus\, 10am-11am. It is up to the facilitator’s discretion to adjust the meeting\, depending on registrations. \n  \nCheck out our page on NECC One for the list of available trainings and registration.\n Print View
URL:https://necc.edu/event/college-systems-trainings-2024-2025/2025-02-13/
LOCATION:Haverhill Campus\, 100 Elliott St\, Haverhill\, MA\, United States
CATEGORIES:Professional Development
GEO:42.797649;-71.05113
X-APPLE-STRUCTURED-LOCATION;VALUE=URI;X-ADDRESS=Haverhill Campus 100 Elliott St Haverhill MA United States;X-APPLE-RADIUS=500;X-TITLE=100 Elliott St:geo:-71.05113,42.797649
END:VEVENT
BEGIN:VEVENT
DTSTART;TZID=America/New_York:20250213T123000
DTEND;TZID=America/New_York:20250213T133000
DTSTAMP:20260423T072245
CREATED:20250116T205611Z
LAST-MODIFIED:20250116T205612Z
UID:10009099-1739449800-1739453400@necc.edu
SUMMARY:Lunch & Learn: Personal Finance
DESCRIPTION:As 2025 starts and you begin to gather your 2024 financial records to prepare your taxes\, are you thinking to yourself\, “I really need to get a better handle on tracking my expenses and income this year?” Was “setting a budget and sticking to it” one of your New Year’s Resolutions? Have you ever lost sleep at night wondering about having enough set aside for your retirement?   \n  \nIf you answered yes to any of these questions\, then set aside a lunch hour to join in on the first Monthly Personal Finance Lunch and Learn session this February with Business Faculty Trish Tupaj.  \n  \nHERE is a suggested free link to start thinking about budgets and various tools available to help you get organized for a healthier fiscal 2025.  There are lots of apps available too for tracking investments and budgets that will be discussed in the upcoming monthly sessions. You will not be asked to share your personal information with anyone leading or participating in the session. Various tools and resources will be provided to you\, and it will be your choice if you wish to utilize them or not. Suggestions for topics are always welcome as well.   \n \nAll Faculty and Staff are invited to attend. \nHaverhill: 2/11 12:30-1:30pm | Lawrence: 2/13 12:30-1:30pm \n Print View
URL:https://necc.edu/event/lunch-learn-personal-finance/2025-02-13/
LOCATION:MA
CATEGORIES:Professional Development
END:VEVENT
BEGIN:VEVENT
DTSTART;TZID=America/New_York:20250213T123000
DTEND;TZID=America/New_York:20250213T133000
DTSTAMP:20260423T072245
CREATED:20250123T150730Z
LAST-MODIFIED:20250203T212113Z
UID:10009107-1739449800-1739453400@necc.edu
SUMMARY:Book Talk and Reading Party
DESCRIPTION:Join us for a short talk with Laura Mondt and Susan Leonardi from the library about books related to Black History Month. A reading party will follow! \n  \nWe welcome requests for sign language interpreting and other access requests (i.e. Computer Aided Real Time (CART)\, etc. Please contact Sarah Regan-Kelley (sregankelley@necc.mass.edu) or call at 978-556-3140 for requests\, questions or event information. \n Print View
URL:https://necc.edu/event/book-talk-and-reading-party-2/
LOCATION:Haverhill Campus\, 100 Elliott St\, Haverhill\, MA\, United States
CATEGORIES:Liberal Arts Center
ORGANIZER;CN="Center for Liberal Arts":MAILTO:centerforliberalarts@necc.mass.edu
GEO:42.797649;-71.05113
X-APPLE-STRUCTURED-LOCATION;VALUE=URI;X-ADDRESS=Haverhill Campus 100 Elliott St Haverhill MA United States;X-APPLE-RADIUS=500;X-TITLE=100 Elliott St:geo:-71.05113,42.797649
END:VEVENT
BEGIN:VEVENT
DTSTART;TZID=America/New_York:20250213T160000
DTEND;TZID=America/New_York:20250213T170000
DTSTAMP:20260423T072245
CREATED:20250204T203638Z
LAST-MODIFIED:20250204T203847Z
UID:10009233-1739462400-1739466000@necc.edu
SUMMARY:Know Your Rights: A Discussion on Immigration
DESCRIPTION:Susan Church\nSusan Church\, Chief Operating Officer of The Office of Refugees and Immigrants (ORI) for the Commonwealth of Massachusetts shares her insight into current\, emerging and proposed immigration policies and learn about the rights and resources available to immigrants in our community. \nSusan Church has dedicated more than 25 years to advocating for immigrant right and advancing equity for individuals and families navigating the immigration system.  As a COO of the Office for Refugees and Immigrants (ORI)\, she plays a pivotal role in shaping policy\, managing refugee resettlement programs and coordinating immigration efforts with Massachusetts state government. \nThursday\, February 13\, 2025\n4:00 to 5:00 p.m. on Zoom \nIn person viewing also available:\n\nHaverhill – B218\nLawrence – Dimitry L244\n\nTo register\, please email dreamers@necc.mass.edu and indicate whether you will attend in person and which location or via Zoom. \nWe welcome requests for sign language interpreting and other access requests. Please contact Maria Hernandez at dreamers@necc.mass.edu for requests\, questions or event information. \n Print View
URL:https://necc.edu/event/know-your-rights-a-discussion-on-immigration/
LOCATION:Online\, United States
CATEGORIES:Business Events,Community,Home Page Events,Justice, Equity, Diversity, and Inclusion,Student Activities,Student Life
END:VEVENT
BEGIN:VEVENT
DTSTART;TZID=America/New_York:20250213T210000
DTEND;TZID=America/New_York:20250213T223000
DTSTAMP:20260423T072245
CREATED:20260109T194929Z
LAST-MODIFIED:20260109T201439Z
UID:10011354-1739480400-1739485800@necc.edu
SUMMARY:Campus Tour and Information Session
DESCRIPTION:Campus Tour and Information Session\n\nVisit us on the Lawrence Campus for an information session and a tour led by one of our admission counselors. We can’t wait to meet you in person and show you all that NECC has to offer.  \nLocation: \nEl Hefni Building Lobby \n414 Common Street St. Lawrence\, MA 01840 \nRegister Now!  \n Print View
URL:https://necc.edu/event/lawrence-campus-tour-and-information-session-3/2025-02-13/
LOCATION:Lawrence Campus\, Lawrence\, MA\, United States
CATEGORIES:All Info Sessions,Home Page Events,Info Sessions & Tours - Lawrence,Info Sessions and Tours
ORGANIZER;CN="Admissions":MAILTO:enrollmentservices@necc.mass.edu
GEO:42.70734;-71.161052
END:VEVENT
END:VCALENDAR