BEGIN:VCALENDAR
VERSION:2.0
PRODID:-//Northern Essex CC - ECPv6.15.12//NONSGML v1.0//EN
CALSCALE:GREGORIAN
METHOD:PUBLISH
X-ORIGINAL-URL:https://necc.edu
X-WR-CALDESC:Events for Northern Essex CC
REFRESH-INTERVAL;VALUE=DURATION:PT1H
X-Robots-Tag:noindex
X-PUBLISHED-TTL:PT1H
BEGIN:VTIMEZONE
TZID:America/New_York
BEGIN:DAYLIGHT
TZOFFSETFROM:-0500
TZOFFSETTO:-0400
TZNAME:EDT
DTSTART:20240310T070000
END:DAYLIGHT
BEGIN:STANDARD
TZOFFSETFROM:-0400
TZOFFSETTO:-0500
TZNAME:EST
DTSTART:20241103T060000
END:STANDARD
BEGIN:DAYLIGHT
TZOFFSETFROM:-0500
TZOFFSETTO:-0400
TZNAME:EDT
DTSTART:20250309T070000
END:DAYLIGHT
BEGIN:STANDARD
TZOFFSETFROM:-0400
TZOFFSETTO:-0500
TZNAME:EST
DTSTART:20251102T060000
END:STANDARD
BEGIN:DAYLIGHT
TZOFFSETFROM:-0500
TZOFFSETTO:-0400
TZNAME:EDT
DTSTART:20260308T070000
END:DAYLIGHT
BEGIN:STANDARD
TZOFFSETFROM:-0400
TZOFFSETTO:-0500
TZNAME:EST
DTSTART:20261101T060000
END:STANDARD
END:VTIMEZONE
BEGIN:VEVENT
DTSTART;TZID=America/New_York:20250201T080000
DTEND;TZID=America/New_York:20250301T170000
DTSTAMP:20260423T072353
CREATED:20250205T184800Z
LAST-MODIFIED:20250214T164547Z
UID:10009236-1738396800-1740848400@necc.edu
SUMMARY:Book Display: Black History Month
DESCRIPTION:Black History Month is a time to recognize and celebrate Black individuals and communities’ contributions\, history\, and cultural heritage. It serves as a reminder of the struggles\, resilience\, and achievements that have shaped society and continue to inspire progress today. \nBy honoring Black voices\, literature\, and historical milestones\, we foster a deeper understanding of diversity\, inclusion\, and the importance of equity in education and beyond. \nCheck out our Black History Month Library book display at both campus libraries.  \n Print View
URL:https://necc.edu/event/necc-library-black-history-month-display/
LOCATION:All Campuses\, Lawrence\, MA\, United States
CATEGORIES:Student Life
GEO:42.709053;-71.169601
END:VEVENT
BEGIN:VEVENT
DTSTART;VALUE=DATE:20250203
DTEND;VALUE=DATE:20250517
DTSTAMP:20260423T072353
CREATED:20250331T154300Z
LAST-MODIFIED:20250411T162549Z
UID:10010366-1738540800-1747439999@necc.edu
SUMMARY:2025-2026 General Scholarship Deadline
DESCRIPTION:The NECC General Scholarship application has over 42 scholarship opportunities\, which are made possible by the generosity of individual donors\, businesses\, corporations\, and foundations\, all of whom believe that all students should have access to a high-quality education. They are available to you through NECC’s Office of Institutional Advancement. Apply here.  \n Print View
URL:https://necc.edu/event/2025-2026-general-scholarship/
LOCATION:MA
CATEGORIES:Student Life
END:VEVENT
BEGIN:VEVENT
DTSTART;TZID=America/New_York:20250225T093000
DTEND;TZID=America/New_York:20250225T213000
DTSTAMP:20260423T072353
CREATED:20250213T172017Z
LAST-MODIFIED:20250214T163814Z
UID:10009485-1740475800-1740519000@necc.edu
SUMMARY:Cereal Challenge
DESCRIPTION:Business 101 Classes and NECC are collaborating with Early College students from Whittier Vocational Technical High School to gather donated boxes of cereal through March 6th\, 2025.  The goal is to receive 2025 boxes of cereal to donate to local food pantries.  The donated boxes will be lined in a dominoes formation on National Cereal Day\, March 7th\, at 9:30 a.m. at Whittier.  Donation boxes are set up in every building on all three campuses.  Please consider donating a box or more by March 6th. You can also order and ship from your favorite online retailer to:  \nNorthern Essex Community College \n100 Elliott Street \nHaverhill\, MA 01830 \nAttention:  Professor Trish Tupaj\, C304E \nThank you for considering contributing to this worthy collaborative community service project!  \n Print View
URL:https://necc.edu/event/cereal-challenge-2025/2025-02-25/
LOCATION:All Campuses\, Lawrence\, MA\, United States
CATEGORIES:Professional Studies Center
ORGANIZER;CN="Center for Business and Accounting":MAILTO:CenterForBusinessAndAccounting@necc.mass.edu
GEO:42.709053;-71.169601
END:VEVENT
BEGIN:VEVENT
DTSTART;TZID=America/New_York:20250225T100000
DTEND;TZID=America/New_York:20250225T110000
DTSTAMP:20260423T072353
CREATED:20240722T173137Z
LAST-MODIFIED:20240905T184931Z
UID:10006780-1740477600-1740481200@necc.edu
SUMMARY:College Systems Trainings
DESCRIPTION:The College Systems Trainings are geared towards providing all employees with onboarding or refreshers on all of our most used college systems on a more consistent basis. Newly hired and seasoned employees are highly encouraged to attend these trainings\, as needed. \n  \nWe have scheduled these trainings to happen Tuesdays and Thursdays in C204-CPD Computer Lab\, Haverhill Campus\, 10am-11am. It is up to the facilitator’s discretion to adjust the meeting\, depending on registrations. \n  \nCheck out our page on NECC One for the list of available trainings and registration.\n Print View
URL:https://necc.edu/event/college-systems-trainings-2024-2025/2025-02-25/
LOCATION:Haverhill Campus\, 100 Elliott St\, Haverhill\, MA\, United States
CATEGORIES:Professional Development
GEO:42.797649;-71.05113
X-APPLE-STRUCTURED-LOCATION;VALUE=URI;X-ADDRESS=Haverhill Campus 100 Elliott St Haverhill MA United States;X-APPLE-RADIUS=500;X-TITLE=100 Elliott St:geo:-71.05113,42.797649
END:VEVENT
BEGIN:VEVENT
DTSTART;TZID=America/New_York:20250225T123000
DTEND;TZID=America/New_York:20250225T133000
DTSTAMP:20260423T072353
CREATED:20250113T174909Z
LAST-MODIFIED:20250113T180721Z
UID:10009057-1740486600-1740490200@necc.edu
SUMMARY:Resume Help (Zoom Drop-In Hour)
DESCRIPTION:Are you looking for tips and resources to create a resume? Have questions about updating or making your resume stronger? Join us for Zoom drop-in hours to discuss your resume questions or get guidance to started. \nCan’t make it on Tuesdays? Visit Handshake for resources or schedule a meeting through Navigate. \n  \nResume drop-in hour \nEvery Tuesday starting February 4th and ending April 29th. \nThis event is free and NECC students from all majors are welcome to participate. \nWe welcome requests for sign language interpreting and other access requests (i.e. Computer Aided Real Time (CART)\, etc.). Please contact us with requests and questions: careerservices@necc.mass.edu \n  \nRegister for Zoom link and a calendar reminder: https://necc-mass-edu.zoom.us/meeting/register/2uTvcsZeTDaN0mPApIFWDg \n Print View
URL:https://necc.edu/event/resume-help-spring2025/2025-02-25/
LOCATION:Online\, United States
CATEGORIES:Career Services
ORGANIZER;CN="Career Services":MAILTO:kyeatonhromada@necc.mass.edu
END:VEVENT
BEGIN:VEVENT
DTSTART;TZID=America/New_York:20250225T160000
DTEND;TZID=America/New_York:20250225T190000
DTSTAMP:20260423T072353
CREATED:20250207T145801Z
LAST-MODIFIED:20250221T165720Z
UID:10009249-1740499200-1740510000@necc.edu
SUMMARY:Lawrence High School Senior and Parent Night
DESCRIPTION:Come join us for FAFSA assistance\, guided self-placement and orientation completion. Parent information sessions\, as well! \nRegister here!! \n Print View
URL:https://necc.edu/event/lawrence-high-school-senior-and-parent-night/
LOCATION:Lawrence Campus\, Lawrence\, MA\, United States
CATEGORIES:Home Page Events,Info Sessions and Tours
ORGANIZER;CN="Admissions":MAILTO:enrollmentservices@necc.mass.edu
GEO:42.70734;-71.161052
END:VEVENT
BEGIN:VEVENT
DTSTART;TZID=America/New_York:20250225T180000
DTEND;TZID=America/New_York:20250225T190000
DTSTAMP:20260423T072353
CREATED:20230914T174405Z
LAST-MODIFIED:20260406T151228Z
UID:10008903-1740506400-1740510000@necc.edu
SUMMARY:Info Session: Free Community College
DESCRIPTION:Join us for a MassEducate & MassReconnect Information Session virtually on Zoom!\nLearn how MassEducate and MassReconnect can provide funding for Massachusetts residents to earn a college degree at no cost. Attendees will learn about eligibility requirements\, and will be offered the ability to apply on the spot if desired. \nRegister Now!\n Print View
URL:https://necc.edu/event/massreconnect-information-session-virtual-online/2025-02-25/
LOCATION:Online\, United States
CATEGORIES:Admissions,All Info Sessions,Home Page Events,Info Sessions and Tours,Online Information Session
ORGANIZER;CN="Enrollment Services":MAILTO:enrollmentservices@necc.mass.edu
END:VEVENT
END:VCALENDAR