BEGIN:VCALENDAR
VERSION:2.0
PRODID:-//Northern Essex CC - ECPv6.15.12//NONSGML v1.0//EN
CALSCALE:GREGORIAN
METHOD:PUBLISH
X-ORIGINAL-URL:https://necc.edu
X-WR-CALDESC:Events for Northern Essex CC
REFRESH-INTERVAL;VALUE=DURATION:PT1H
X-Robots-Tag:noindex
X-PUBLISHED-TTL:PT1H
BEGIN:VTIMEZONE
TZID:America/New_York
BEGIN:DAYLIGHT
TZOFFSETFROM:-0500
TZOFFSETTO:-0400
TZNAME:EDT
DTSTART:20240310T070000
END:DAYLIGHT
BEGIN:STANDARD
TZOFFSETFROM:-0400
TZOFFSETTO:-0500
TZNAME:EST
DTSTART:20241103T060000
END:STANDARD
BEGIN:DAYLIGHT
TZOFFSETFROM:-0500
TZOFFSETTO:-0400
TZNAME:EDT
DTSTART:20250309T070000
END:DAYLIGHT
BEGIN:STANDARD
TZOFFSETFROM:-0400
TZOFFSETTO:-0500
TZNAME:EST
DTSTART:20251102T060000
END:STANDARD
BEGIN:DAYLIGHT
TZOFFSETFROM:-0500
TZOFFSETTO:-0400
TZNAME:EDT
DTSTART:20260308T070000
END:DAYLIGHT
BEGIN:STANDARD
TZOFFSETFROM:-0400
TZOFFSETTO:-0500
TZNAME:EST
DTSTART:20261101T060000
END:STANDARD
END:VTIMEZONE
BEGIN:VEVENT
DTSTART;TZID=America/New_York:20250201T080000
DTEND;TZID=America/New_York:20250301T170000
DTSTAMP:20260423T072438
CREATED:20250205T184800Z
LAST-MODIFIED:20250214T164547Z
UID:10009236-1738396800-1740848400@necc.edu
SUMMARY:Book Display: Black History Month
DESCRIPTION:Black History Month is a time to recognize and celebrate Black individuals and communities’ contributions\, history\, and cultural heritage. It serves as a reminder of the struggles\, resilience\, and achievements that have shaped society and continue to inspire progress today. \nBy honoring Black voices\, literature\, and historical milestones\, we foster a deeper understanding of diversity\, inclusion\, and the importance of equity in education and beyond. \nCheck out our Black History Month Library book display at both campus libraries.  \n Print View
URL:https://necc.edu/event/necc-library-black-history-month-display/
LOCATION:All Campuses\, Lawrence\, MA\, United States
CATEGORIES:Student Life
GEO:42.709053;-71.169601
END:VEVENT
BEGIN:VEVENT
DTSTART;VALUE=DATE:20250203
DTEND;VALUE=DATE:20250517
DTSTAMP:20260423T072438
CREATED:20250331T154300Z
LAST-MODIFIED:20250411T162549Z
UID:10010366-1738540800-1747439999@necc.edu
SUMMARY:2025-2026 General Scholarship Deadline
DESCRIPTION:The NECC General Scholarship application has over 42 scholarship opportunities\, which are made possible by the generosity of individual donors\, businesses\, corporations\, and foundations\, all of whom believe that all students should have access to a high-quality education. They are available to you through NECC’s Office of Institutional Advancement. Apply here.  \n Print View
URL:https://necc.edu/event/2025-2026-general-scholarship/
LOCATION:MA
CATEGORIES:Student Life
END:VEVENT
BEGIN:VEVENT
DTSTART;TZID=America/New_York:20250227T080000
DTEND;TZID=America/New_York:20250227T170000
DTSTAMP:20260423T072438
CREATED:20250124T154406Z
LAST-MODIFIED:20250411T162935Z
UID:10009114-1740643200-1740675600@necc.edu
SUMMARY:Virtual Transfer Appointments - UMass Lowell
DESCRIPTION:Register for a 1:1 Virtual Transfer Appointment with UMass Lowell\n  \nVirtual Appointment Schedule Dates:\nJanuary 23\, February 27\, March 26\, April 14\, May 23 \nClick here to Register: go.uml.edu/portal/NECCOneonOne \n  \n Print View
URL:https://necc.edu/event/virtual-11-transfer-appointments-with-umass-lowell/2025-02-27/
LOCATION:Off-Campus\, MA
CATEGORIES:Transfer Events
ORGANIZER;CN="Deb LaValley":MAILTO:dlavalley@necc.mass.edu
END:VEVENT
BEGIN:VEVENT
DTSTART;TZID=America/New_York:20250227T093000
DTEND;TZID=America/New_York:20250227T213000
DTSTAMP:20260423T072438
CREATED:20250213T172017Z
LAST-MODIFIED:20250214T163814Z
UID:10009487-1740648600-1740691800@necc.edu
SUMMARY:Cereal Challenge
DESCRIPTION:Business 101 Classes and NECC are collaborating with Early College students from Whittier Vocational Technical High School to gather donated boxes of cereal through March 6th\, 2025.  The goal is to receive 2025 boxes of cereal to donate to local food pantries.  The donated boxes will be lined in a dominoes formation on National Cereal Day\, March 7th\, at 9:30 a.m. at Whittier.  Donation boxes are set up in every building on all three campuses.  Please consider donating a box or more by March 6th. You can also order and ship from your favorite online retailer to:  \nNorthern Essex Community College \n100 Elliott Street \nHaverhill\, MA 01830 \nAttention:  Professor Trish Tupaj\, C304E \nThank you for considering contributing to this worthy collaborative community service project!  \n Print View
URL:https://necc.edu/event/cereal-challenge-2025/2025-02-27/
LOCATION:All Campuses\, Lawrence\, MA\, United States
CATEGORIES:Professional Studies Center
ORGANIZER;CN="Center for Business and Accounting":MAILTO:CenterForBusinessAndAccounting@necc.mass.edu
GEO:42.709053;-71.169601
END:VEVENT
BEGIN:VEVENT
DTSTART;TZID=America/New_York:20250227T100000
DTEND;TZID=America/New_York:20250227T110000
DTSTAMP:20260423T072438
CREATED:20240722T173137Z
LAST-MODIFIED:20240905T184931Z
UID:10006781-1740650400-1740654000@necc.edu
SUMMARY:College Systems Trainings
DESCRIPTION:The College Systems Trainings are geared towards providing all employees with onboarding or refreshers on all of our most used college systems on a more consistent basis. Newly hired and seasoned employees are highly encouraged to attend these trainings\, as needed. \n  \nWe have scheduled these trainings to happen Tuesdays and Thursdays in C204-CPD Computer Lab\, Haverhill Campus\, 10am-11am. It is up to the facilitator’s discretion to adjust the meeting\, depending on registrations. \n  \nCheck out our page on NECC One for the list of available trainings and registration.\n Print View
URL:https://necc.edu/event/college-systems-trainings-2024-2025/2025-02-27/
LOCATION:Haverhill Campus\, 100 Elliott St\, Haverhill\, MA\, United States
CATEGORIES:Professional Development
GEO:42.797649;-71.05113
X-APPLE-STRUCTURED-LOCATION;VALUE=URI;X-ADDRESS=Haverhill Campus 100 Elliott St Haverhill MA United States;X-APPLE-RADIUS=500;X-TITLE=100 Elliott St:geo:-71.05113,42.797649
END:VEVENT
BEGIN:VEVENT
DTSTART;TZID=America/New_York:20250227T100000
DTEND;TZID=America/New_York:20250227T133000
DTSTAMP:20260423T072438
CREATED:20250218T184012Z
LAST-MODIFIED:20250218T184018Z
UID:10009515-1740650400-1740663000@necc.edu
SUMMARY:Transfer Event-Regis College Lawrence Campus
DESCRIPTION:Building Character\, Confidence\, and Careers for Nearly 100 Years!\n \nExplore All That Regis Has to Offer!\nCome speak to a Transfer Counselor on the exceptional undergraduate degree programs. Be part of the diverse and dynamic student body via on-campus\, hybrid\, and online modalities. \nDATES:    Feb. 27\nMar.  4\, 11\, 13\nApr. 15\, 17\n  \nLocation and Time : LC (El-Hefni) Building Lobby ~ 10:00am-1:30pm\nNursing – Health Sciences  –  Professional Studies  –  Business and Communication  –  Art and Sciences \n  \n \n  \n Print View
URL:https://necc.edu/event/transfer-event-regis-college-lawrence-campus-2/
LOCATION:Lawrence Campus\, Lawrence\, MA\, United States
CATEGORIES:Transfer Events
ORGANIZER;CN="Deb LaValley":MAILTO:dlavalley@necc.mass.edu
GEO:42.70734;-71.161052
END:VEVENT
BEGIN:VEVENT
DTSTART;TZID=America/New_York:20250227T120000
DTEND;TZID=America/New_York:20250227T140000
DTSTAMP:20260423T072438
CREATED:20250224T205603Z
LAST-MODIFIED:20250224T205604Z
UID:10009459-1740657600-1740664800@necc.edu
SUMMARY:Food Truck: UTEC Breaking Barriers
DESCRIPTION:New for the spring semester\, UTEC’s Breaking Barriers food truck will be on campus each Tuesday\, alternating between Haverhill and Lawrence. \nYou can find UTEC outside the Library and the Student Center in Haverhill on these dates: \n\nJanuary 28\nFebruary 11\nFebruary 27 (Rescheduled from February 25)\nMarch 11\nMarch 25\n\nClick for Menu\n Print View
URL:https://necc.edu/event/food-truck-utec-breaking-barriers-3/
LOCATION:Haverhill Campus\, 100 Elliott St\, Haverhill\, MA\, United States
CATEGORIES:Student Life
GEO:42.797649;-71.05113
X-APPLE-STRUCTURED-LOCATION;VALUE=URI;X-ADDRESS=Haverhill Campus 100 Elliott St Haverhill MA United States;X-APPLE-RADIUS=500;X-TITLE=100 Elliott St:geo:-71.05113,42.797649
END:VEVENT
BEGIN:VEVENT
DTSTART;TZID=America/New_York:20250227T133000
DTEND;TZID=America/New_York:20250227T143000
DTSTAMP:20260423T072438
CREATED:20250221T165427Z
LAST-MODIFIED:20250411T164441Z
UID:10009528-1740663000-1740666600@necc.edu
SUMMARY:Book Discussion: Teaching with AI
DESCRIPTION:Join us to discuss the book Teaching with AI: A Practical Guide to a New Era of Human Learning. The ebook is available from the NECC library here. \nPart I – Thinking with AI\nHaverhill (A208)\, Wed Feb 26 @10AM & Thurs Feb 27 @2PM \nLawrence (L111)\, Thurs Feb 27 @1:30PM \n\nPart II – Teaching with AI \nHaverhill  (A208)\, Wed Mar 26 @10AM & Thurs Mar 27 @2PM  \nLawrence (L111)\, Thurs Mar 27 @1:30PM \n\nPart III – Learning with AI\nHaverhill (A208)\, Wed Apr 23 @10AM & Thurs Apr 24 @2PM  \nLawrence (L111)\, Thurs Apr 24 @1:30PM \nEbook: https://research.ebsco.com/linkprocessor/plink?id=f51caab6-8652-32a6-b8cf-7e5ccd67ab55 \n Print View
URL:https://necc.edu/event/teaching-with-ai-book-discussion/2025-02-27/1/
LOCATION:MA
CATEGORIES:Library,Professional Development,Student Activities
END:VEVENT
BEGIN:VEVENT
DTSTART;TZID=America/New_York:20250227T140000
DTEND;TZID=America/New_York:20250227T150000
DTSTAMP:20260423T072438
CREATED:20250221T165427Z
LAST-MODIFIED:20250411T164441Z
UID:10009529-1740664800-1740668400@necc.edu
SUMMARY:Book Discussion: Teaching with AI
DESCRIPTION:Join us to discuss the book Teaching with AI: A Practical Guide to a New Era of Human Learning. The ebook is available from the NECC library here. \nPart I – Thinking with AI\nHaverhill (A208)\, Wed Feb 26 @10AM & Thurs Feb 27 @2PM \nLawrence (L111)\, Thurs Feb 27 @1:30PM \n\nPart II – Teaching with AI \nHaverhill  (A208)\, Wed Mar 26 @10AM & Thurs Mar 27 @2PM  \nLawrence (L111)\, Thurs Mar 27 @1:30PM \n\nPart III – Learning with AI\nHaverhill (A208)\, Wed Apr 23 @10AM & Thurs Apr 24 @2PM  \nLawrence (L111)\, Thurs Apr 24 @1:30PM \nEbook: https://research.ebsco.com/linkprocessor/plink?id=f51caab6-8652-32a6-b8cf-7e5ccd67ab55 \n Print View
URL:https://necc.edu/event/teaching-with-ai-book-discussion/2025-02-27/2/
LOCATION:MA
CATEGORIES:Library,Professional Development,Student Activities
END:VEVENT
END:VCALENDAR