BEGIN:VCALENDAR
VERSION:2.0
PRODID:-//Northern Essex CC - ECPv6.15.12//NONSGML v1.0//EN
CALSCALE:GREGORIAN
METHOD:PUBLISH
X-WR-CALNAME:Northern Essex CC
X-ORIGINAL-URL:https://necc.edu
X-WR-CALDESC:Events for Northern Essex CC
REFRESH-INTERVAL;VALUE=DURATION:PT1H
X-Robots-Tag:noindex
X-PUBLISHED-TTL:PT1H
BEGIN:VTIMEZONE
TZID:America/New_York
BEGIN:DAYLIGHT
TZOFFSETFROM:-0500
TZOFFSETTO:-0400
TZNAME:EDT
DTSTART:20240310T070000
END:DAYLIGHT
BEGIN:STANDARD
TZOFFSETFROM:-0400
TZOFFSETTO:-0500
TZNAME:EST
DTSTART:20241103T060000
END:STANDARD
BEGIN:DAYLIGHT
TZOFFSETFROM:-0500
TZOFFSETTO:-0400
TZNAME:EDT
DTSTART:20250309T070000
END:DAYLIGHT
BEGIN:STANDARD
TZOFFSETFROM:-0400
TZOFFSETTO:-0500
TZNAME:EST
DTSTART:20251102T060000
END:STANDARD
BEGIN:DAYLIGHT
TZOFFSETFROM:-0500
TZOFFSETTO:-0400
TZNAME:EDT
DTSTART:20260308T070000
END:DAYLIGHT
BEGIN:STANDARD
TZOFFSETFROM:-0400
TZOFFSETTO:-0500
TZNAME:EST
DTSTART:20261101T060000
END:STANDARD
END:VTIMEZONE
BEGIN:VEVENT
DTSTART;TZID=America/New_York:20250201T080000
DTEND;TZID=America/New_York:20250301T170000
DTSTAMP:20260423T072152
CREATED:20250205T184800Z
LAST-MODIFIED:20250214T164547Z
UID:10009236-1738396800-1740848400@necc.edu
SUMMARY:Book Display: Black History Month
DESCRIPTION:Black History Month is a time to recognize and celebrate Black individuals and communities’ contributions\, history\, and cultural heritage. It serves as a reminder of the struggles\, resilience\, and achievements that have shaped society and continue to inspire progress today. \nBy honoring Black voices\, literature\, and historical milestones\, we foster a deeper understanding of diversity\, inclusion\, and the importance of equity in education and beyond. \nCheck out our Black History Month Library book display at both campus libraries.  \n Print View
URL:https://necc.edu/event/necc-library-black-history-month-display/
LOCATION:All Campuses\, Lawrence\, MA\, United States
CATEGORIES:Student Life
GEO:42.709053;-71.169601
END:VEVENT
BEGIN:VEVENT
DTSTART;VALUE=DATE:20250203
DTEND;VALUE=DATE:20250517
DTSTAMP:20260423T072152
CREATED:20250331T154300Z
LAST-MODIFIED:20250411T162549Z
UID:10010366-1738540800-1747439999@necc.edu
SUMMARY:2025-2026 General Scholarship Deadline
DESCRIPTION:The NECC General Scholarship application has over 42 scholarship opportunities\, which are made possible by the generosity of individual donors\, businesses\, corporations\, and foundations\, all of whom believe that all students should have access to a high-quality education. They are available to you through NECC’s Office of Institutional Advancement. Apply here.  \n Print View
URL:https://necc.edu/event/2025-2026-general-scholarship/
LOCATION:MA
CATEGORIES:Student Life
END:VEVENT
BEGIN:VEVENT
DTSTART;VALUE=DATE:20250228
DTEND;VALUE=DATE:20250301
DTSTAMP:20260423T072152
CREATED:20250207T195543Z
LAST-MODIFIED:20250214T163951Z
UID:10009253-1740700800-1740787199@necc.edu
SUMMARY:Free Tax Preparation for NECC Students
DESCRIPTION:FREE TAX PREPARATION \n  \nIf you are in need of tax assistance\, Paula Moore\, an experienced tax professional and alumna of NECC\, is offering Northern Essex students free tax help.  Paula will be located at the Haverhill Senior Center\, 10 Welcome St\, Haverhill each Friday till the end of March. \nThis is by appointment only.  Please email Paula at:  paulamoore180@gmail.com \nRemember to bring your documents with you which may include: all sources of income tax forms\, health insurance documents\, your license\, social security number\, and prior year tax information if available. \n Print View
URL:https://necc.edu/event/free-tax-preparation-for-necc-students/2025-02-28/
LOCATION:Off-Campus\, MA
CATEGORIES:Student Life
ORGANIZER;CN="Lori Smerdon":MAILTO:lsmerdon@necc.mass.edu
END:VEVENT
BEGIN:VEVENT
DTSTART;TZID=America/New_York:20250228T093000
DTEND;TZID=America/New_York:20250228T213000
DTSTAMP:20260423T072152
CREATED:20250213T172017Z
LAST-MODIFIED:20250214T163814Z
UID:10009488-1740735000-1740778200@necc.edu
SUMMARY:Cereal Challenge
DESCRIPTION:Business 101 Classes and NECC are collaborating with Early College students from Whittier Vocational Technical High School to gather donated boxes of cereal through March 6th\, 2025.  The goal is to receive 2025 boxes of cereal to donate to local food pantries.  The donated boxes will be lined in a dominoes formation on National Cereal Day\, March 7th\, at 9:30 a.m. at Whittier.  Donation boxes are set up in every building on all three campuses.  Please consider donating a box or more by March 6th. You can also order and ship from your favorite online retailer to:  \nNorthern Essex Community College \n100 Elliott Street \nHaverhill\, MA 01830 \nAttention:  Professor Trish Tupaj\, C304E \nThank you for considering contributing to this worthy collaborative community service project!  \n Print View
URL:https://necc.edu/event/cereal-challenge-2025/2025-02-28/
LOCATION:All Campuses\, Lawrence\, MA\, United States
CATEGORIES:Professional Studies Center
ORGANIZER;CN="Center for Business and Accounting":MAILTO:CenterForBusinessAndAccounting@necc.mass.edu
GEO:42.709053;-71.169601
END:VEVENT
BEGIN:VEVENT
DTSTART;TZID=America/New_York:20250228T140000
DTEND;TZID=America/New_York:20250228T153000
DTSTAMP:20260423T072152
CREATED:20250213T180906Z
LAST-MODIFIED:20250213T180906Z
UID:10009498-1740751200-1740756600@necc.edu
SUMMARY:English Conversation Group
DESCRIPTION:English Conversation Group: This casual conversation group is open to current NECC students to talk about different topics and practice our English. \nWe will meet on Fridays at 2:00 in the Lawrence campus library (L-007 in Dimitry). \n(Fridays\, 2:00-3:30\, February 21-April 11; NOT on March 14) \nPlease email Grace at sspaulding@necc.mass.edu to sign up and with any questions. \n Print View
URL:https://necc.edu/event/english-conversation-group/2025-02-28/
LOCATION:Lawrence Campus\, Lawrence\, MA\, United States
CATEGORIES:Library
GEO:42.70734;-71.161052
END:VEVENT
BEGIN:VEVENT
DTSTART;TZID=America/New_York:20250228T193000
DTEND;TZID=America/New_York:20250228T210000
DTSTAMP:20260423T072153
CREATED:20250210T153843Z
LAST-MODIFIED:20250210T154205Z
UID:10009315-1740771000-1740776400@necc.edu
SUMMARY:Daddy's Little Girl - a new Jack Neary play presented by Acting Out Productions
DESCRIPTION:“Alice Quinn has a mystery to solve. By midnight. Christmas Eve. She has to solve the mystery to save her life. Her father has the solution. Trouble is—her father died 30 years ago. That leaves only her mother with the answer. Her mother refuses to help. Christmas Eve. Midnight. Without this answer\, Alice has 89 minutes to survive.” \nJack Neary’s gripping\, powerful new play stars North Shore favorite Ashley Risteen\, along with David Sullivan\, Melody Fried\, Jimmy Stewart and Thomas Carnes\, under the direction of the playwright (author of recent area productions of FIRST NIGHT\, MOONGLOW and THE STANDS). \nTickets $28/$26\nGeneral Admission \nFor more information\, visit actingoutnbpt.com/shows or call 978-853-9620.\n\nBuy Tickets\n Print View
URL:https://necc.edu/event/daddys-little-girl-presented-by-acting-out-productions/2025-02-28/
LOCATION:Haverhill Campus\, 100 Elliott St\, Haverhill\, MA\, United States
CATEGORIES:Community,Performing Arts
GEO:42.797649;-71.05113
X-APPLE-STRUCTURED-LOCATION;VALUE=URI;X-ADDRESS=Haverhill Campus 100 Elliott St Haverhill MA United States;X-APPLE-RADIUS=500;X-TITLE=100 Elliott St:geo:-71.05113,42.797649
END:VEVENT
END:VCALENDAR