BEGIN:VCALENDAR
VERSION:2.0
PRODID:-//Northern Essex CC - ECPv6.15.12//NONSGML v1.0//EN
CALSCALE:GREGORIAN
METHOD:PUBLISH
X-ORIGINAL-URL:https://necc.edu
X-WR-CALDESC:Events for Northern Essex CC
REFRESH-INTERVAL;VALUE=DURATION:PT1H
X-Robots-Tag:noindex
X-PUBLISHED-TTL:PT1H
BEGIN:VTIMEZONE
TZID:America/New_York
BEGIN:DAYLIGHT
TZOFFSETFROM:-0500
TZOFFSETTO:-0400
TZNAME:EDT
DTSTART:20240310T070000
END:DAYLIGHT
BEGIN:STANDARD
TZOFFSETFROM:-0400
TZOFFSETTO:-0500
TZNAME:EST
DTSTART:20241103T060000
END:STANDARD
BEGIN:DAYLIGHT
TZOFFSETFROM:-0500
TZOFFSETTO:-0400
TZNAME:EDT
DTSTART:20250309T070000
END:DAYLIGHT
BEGIN:STANDARD
TZOFFSETFROM:-0400
TZOFFSETTO:-0500
TZNAME:EST
DTSTART:20251102T060000
END:STANDARD
BEGIN:DAYLIGHT
TZOFFSETFROM:-0500
TZOFFSETTO:-0400
TZNAME:EDT
DTSTART:20260308T070000
END:DAYLIGHT
BEGIN:STANDARD
TZOFFSETFROM:-0400
TZOFFSETTO:-0500
TZNAME:EST
DTSTART:20261101T060000
END:STANDARD
END:VTIMEZONE
BEGIN:VEVENT
DTSTART;VALUE=DATE:20250203
DTEND;VALUE=DATE:20250517
DTSTAMP:20260423T084826
CREATED:20250331T154300Z
LAST-MODIFIED:20250411T162549Z
UID:10010366-1738540800-1747439999@necc.edu
SUMMARY:2025-2026 General Scholarship Deadline
DESCRIPTION:The NECC General Scholarship application has over 42 scholarship opportunities\, which are made possible by the generosity of individual donors\, businesses\, corporations\, and foundations\, all of whom believe that all students should have access to a high-quality education. They are available to you through NECC’s Office of Institutional Advancement. Apply here.  \n Print View
URL:https://necc.edu/event/2025-2026-general-scholarship/
LOCATION:MA
CATEGORIES:Student Life
END:VEVENT
BEGIN:VEVENT
DTSTART;TZID=America/New_York:20250301T080000
DTEND;TZID=America/New_York:20250331T170000
DTSTAMP:20260423T084826
CREATED:20250205T185924Z
LAST-MODIFIED:20250303T174828Z
UID:10009237-1740816000-1743440400@necc.edu
SUMMARY:Women’s History Month Book Display
DESCRIPTION:Explore our Women’s History Month book display featuring stories of resilience\, leadership\, and groundbreaking achievements. From pioneering activists to modern trailblazers\, discover books highlighting women’s diverse voices and contributions throughout history. \nStop by\, get inspired\, and check out a book to honor women’s past\, present\, and future impact on the world! \nCheck out our book display at both campus libraries. \n Print View
URL:https://necc.edu/event/necc-library-womens-history-month-book-display/
LOCATION:All Campuses\, Lawrence\, MA\, United States
CATEGORIES:Library
GEO:42.709053;-71.169601
END:VEVENT
BEGIN:VEVENT
DTSTART;VALUE=DATE:20250303
DTEND;VALUE=DATE:20250309
DTSTAMP:20260423T084826
CREATED:20240709T170621Z
LAST-MODIFIED:20250212T035011Z
UID:10006679-1740960000-1741478399@necc.edu
SUMMARY:Final Exam Period for Session I classes
DESCRIPTION:Print View
URL:https://necc.edu/event/final-exam-period-for-session-i-classes-4/
LOCATION:MA
CATEGORIES:Academic Calendar
END:VEVENT
BEGIN:VEVENT
DTSTART;TZID=America/New_York:20250305T090000
DTEND;TZID=America/New_York:20250305T163000
DTSTAMP:20260423T084826
CREATED:20250116T210238Z
LAST-MODIFIED:20250303T174745Z
UID:10009100-1741165200-1741192200@necc.edu
SUMMARY:Co-Work Day: National Conference for Women
DESCRIPTION:What is a co-work day?\nIt’s an opportunity to spend some time working in community. You can drop in as needed or spend the day with us. Just bring your laptop to work alongside other colleagues while we stream this conference with guest speakers and topics that you don’t want to miss! \nAll faculty and staff are invited to attend. Please register HERE. \nLawrence Campus Room L111\, 3/5 9am-4:30pm. \n Print View
URL:https://necc.edu/event/co-work-day-national-conference-for-women-streaming/
LOCATION:MA
CATEGORIES:Professional Development
END:VEVENT
BEGIN:VEVENT
DTSTART;TZID=America/New_York:20250305T093000
DTEND;TZID=America/New_York:20250305T213000
DTSTAMP:20260423T084826
CREATED:20250213T172017Z
LAST-MODIFIED:20250214T163814Z
UID:10009493-1741167000-1741210200@necc.edu
SUMMARY:Cereal Challenge
DESCRIPTION:Business 101 Classes and NECC are collaborating with Early College students from Whittier Vocational Technical High School to gather donated boxes of cereal through March 6th\, 2025.  The goal is to receive 2025 boxes of cereal to donate to local food pantries.  The donated boxes will be lined in a dominoes formation on National Cereal Day\, March 7th\, at 9:30 a.m. at Whittier.  Donation boxes are set up in every building on all three campuses.  Please consider donating a box or more by March 6th. You can also order and ship from your favorite online retailer to:  \nNorthern Essex Community College \n100 Elliott Street \nHaverhill\, MA 01830 \nAttention:  Professor Trish Tupaj\, C304E \nThank you for considering contributing to this worthy collaborative community service project!  \n Print View
URL:https://necc.edu/event/cereal-challenge-2025/2025-03-05/
LOCATION:All Campuses\, Lawrence\, MA\, United States
CATEGORIES:Professional Studies Center
ORGANIZER;CN="Center for Business and Accounting":MAILTO:CenterForBusinessAndAccounting@necc.mass.edu
GEO:42.709053;-71.169601
END:VEVENT
BEGIN:VEVENT
DTSTART;TZID=America/New_York:20250305T103000
DTEND;TZID=America/New_York:20250305T133000
DTSTAMP:20260423T084826
CREATED:20250305T155024Z
LAST-MODIFIED:20250305T155034Z
UID:10009557-1741170600-1741181400@necc.edu
SUMMARY:UMass Amherst Transfer Event -Haverhill Visit
DESCRIPTION:Be part of the diverse and dynamic student body at UMass Amherst\n  \nMarch 5th – Spurk Building C 10:30-1:30 Haverhill Campus\n  \nWith over 350 qualifying programs across our 15 partnerships\, you can earn an associate degree at your local community college and transfer to UMass Amherst through the MassTransfer program! \nFrom your first day at your community college until you enroll at UMass Amherst\, you’ll receive support from your UMass Amherst transfer counselor. Pursue your education and plan for your future – all while saving money and making progress towards a bachelor’s degree. You can even earn MassTransfer benefits once you transfer. \n Print View
URL:https://necc.edu/event/umass-amherst-transfer-event-haverhill-visit/
LOCATION:MA
CATEGORIES:Transfer Events
ORGANIZER;CN="Deb LaValley":MAILTO:dlavalley@necc.mass.edu
END:VEVENT
BEGIN:VEVENT
DTSTART;TZID=America/New_York:20250305T110000
DTEND;TZID=America/New_York:20250305T120000
DTSTAMP:20260423T084826
CREATED:20250127T143452Z
LAST-MODIFIED:20250130T142241Z
UID:10009118-1741172400-1741176000@necc.edu
SUMMARY:Copyright and Creativity
DESCRIPTION:In honor of Open Ed week\, come and hear NECC Librarian Laura Mondt discuss how copyright applies to the work you create as a student or anything you create in other areas of your life as well. \nA brief overview of why copyright is important\, how it applies to created works\, and an overview of how you can take agency over how your work is used by applying Creative Commons licenses will be discussed. \nJoin us in the Center for Liberal Arts (room C-209)! \n Print View
URL:https://necc.edu/event/copyright-info-session/
LOCATION:Haverhill Campus\, 100 Elliott St\, Haverhill\, MA\, United States
CATEGORIES:Liberal Arts Center
ORGANIZER;CN="Center for Liberal Arts":MAILTO:centerforliberalarts@necc.mass.edu
GEO:42.797649;-71.05113
X-APPLE-STRUCTURED-LOCATION;VALUE=URI;X-ADDRESS=Haverhill Campus 100 Elliott St Haverhill MA United States;X-APPLE-RADIUS=500;X-TITLE=100 Elliott St:geo:-71.05113,42.797649
END:VEVENT
BEGIN:VEVENT
DTSTART;TZID=America/New_York:20250305T110000
DTEND;TZID=America/New_York:20250305T120000
DTSTAMP:20260423T084826
CREATED:20250227T175130Z
LAST-MODIFIED:20250227T175131Z
UID:10009553-1741172400-1741176000@necc.edu
SUMMARY:Theater Showcase and Celebration
DESCRIPTION:Join us for a showcase featuring NECC Theater student Mirrorajah Metcalfe\, Irene Ryan nominee- Winner of Best Classical Award/ Alternate Scholarship winner\, and scene partner Ana Barrera. \n  \nQ&A with the actors and Director/Professor Brianne Beatrice.  \n  \nComplimentary pizza!  \n  \nWhen:  Wednesday\, March 5 from 11:00-12:00 \nWhere: The Chester H. Hawrylciw Theater – Spurk Building on the Haverhill Campus. \n Print View
URL:https://necc.edu/event/theater-showcase-and-celebration/
LOCATION:MA
CATEGORIES:Student Life
ORGANIZER;CN="Brianne Beatrice":MAILTO:bbeatrice@necc.mass.edu
END:VEVENT
BEGIN:VEVENT
DTSTART;TZID=America/New_York:20250305T110000
DTEND;TZID=America/New_York:20250305T130000
DTSTAMP:20260423T084826
CREATED:20250220T161216Z
LAST-MODIFIED:20250224T182210Z
UID:10009524-1741172400-1741179600@necc.edu
SUMMARY:Federal Funds & Infrastructure Office (FFIO) Community Tour
DESCRIPTION:📢 Calling all Merrimack Valley community leaders! The Federal Funds and Infrastructure Office (FFIO) will be traveling the Commonwealth this year to help municipalities succeed in winning more federal funding for local infrastructure projects.\nJoin the Federal Funds and Infrastructure Office (FFIO) on Wednesday\, March 5\, 2025 for an information session for local officials and community advocates to assist in successful federal grant applications. FFIO Director Quentin Palfrey will present an overview of how to identify the right grants and access technical assistance and matching state funds. This event will outline how FFIO can help municipalities and regional stakeholders successfully navigate the application processes. After the presentation you will have an opportunity to speak directly with state officials about your community’s needs. \nFFIO was created by the Healey-Driscoll Administration to ensure that Massachusetts benefits from the robust federal grant programs currently available. In September 2024\, Governor Healey authorized the Act to Provide for Competitiveness and Infrastructure Investment Act which allows for up to $800 million to be invested over three years to aggressively pursue federal funding opportunities. \nThis event will be held in room TC103 and parking is available by the front door at no charge. \nThe event is open to the public; please register for the Haverhill event here:\nRegister on EventBrite \nA Zoom link will also be available to those registered interested in joining remotely. \n Print View
URL:https://necc.edu/event/federal-funds-infrastructure-office-ffio-community-tour/
LOCATION:Haverhill Campus\, 100 Elliott St\, Haverhill\, MA\, United States
CATEGORIES:Alumni,Business Events,Community
ORGANIZER;CN="Federal Funds and Infrastructure Office":MAILTO:fedfundsinfra@mass.gov
GEO:42.797649;-71.05113
X-APPLE-STRUCTURED-LOCATION;VALUE=URI;X-ADDRESS=Haverhill Campus 100 Elliott St Haverhill MA United States;X-APPLE-RADIUS=500;X-TITLE=100 Elliott St:geo:-71.05113,42.797649
END:VEVENT
BEGIN:VEVENT
DTSTART;TZID=America/New_York:20250305T123000
DTEND;TZID=America/New_York:20250305T133000
DTSTAMP:20260423T084826
CREATED:20250114T150326Z
LAST-MODIFIED:20250214T164441Z
UID:10009084-1741177800-1741181400@necc.edu
SUMMARY:Career Exploration Drop-In Hour
DESCRIPTION:Are you considering different majors? Interested in learning more about your career options? \nJoin us on Wednesdays this semester for drop-in hours to explore your career interests\, options\, and learn about helpful career resources! \n  \nCareer Exploration drop-in hour \nEvery Wednesday starting February 5th and ending April 30th. \nThis event is free and NECC students from all majors are welcome to participate. \nCan’t make it on Wednesdays? Visit Handshake for resources or schedule a meeting through Navigate. \n  \nWe welcome requests for sign language interpreting and other access requests (i.e. Computer Aided Real Time (CART)\, etc.). Please contact us with requests and questions: careerservices@necc.mass.edu \n  \nRegister for a calendar reminder: https://necc-mass-edu.zoom.us/meeting/register/WRNSlMHgQ8eDB5CKWajLIQ \n Print View
URL:https://necc.edu/event/career-exploration-drop-in-spring-2025/2025-03-05/
LOCATION:Online\, United States
CATEGORIES:Career Services
ORGANIZER;CN="Career Services":MAILTO:kyeatonhromada@necc.mass.edu
END:VEVENT
BEGIN:VEVENT
DTSTART;TZID=America/New_York:20250305T123000
DTEND;TZID=America/New_York:20250305T133000
DTSTAMP:20260423T084826
CREATED:20250210T162610Z
LAST-MODIFIED:20250210T162753Z
UID:10009321-1741177800-1741181400@necc.edu
SUMMARY:Strategic Plan: Assessment & Informed Improvement Open Forum
DESCRIPTION:We have passed the half-way point in our current Strategic Plan! Over the past 2.5 years\, an enormous amount of work has gone on across campus to support our 5 strategic goals. The Guiding Coalitions are holding open conversations to share updates on that work and get input on how best to use our remaining time to best address the work that remains. \nThere will be one open forum for each of the 5 strategic goals\, hosted by the Guiding Coalition leads. Each open forum will run from 12:30 – 1:30pm in C204. Please use this link to RSVP; final details will be sent via a calendar invitation. \n Print View
URL:https://necc.edu/event/strategic-plan-assessment-informed-improvement-open-forum/
LOCATION:Haverhill Campus\, 100 Elliott St\, Haverhill\, MA\, United States
CATEGORIES:Professional Development
GEO:42.797649;-71.05113
X-APPLE-STRUCTURED-LOCATION;VALUE=URI;X-ADDRESS=Haverhill Campus 100 Elliott St Haverhill MA United States;X-APPLE-RADIUS=500;X-TITLE=100 Elliott St:geo:-71.05113,42.797649
END:VEVENT
BEGIN:VEVENT
DTSTART;TZID=America/New_York:20250305T150000
DTEND;TZID=America/New_York:20250305T163000
DTSTAMP:20260423T084826
CREATED:20240625T180056Z
LAST-MODIFIED:20250508T175302Z
UID:10008881-1741186800-1741192200@necc.edu
SUMMARY:Campus Tour and Info Session
DESCRIPTION:Campus Tour and Information Session\nVisit us on the Haverhill Campus for an information session and a tour led by one of our admission counselors. We can’t wait to meet you in person and show you all that NECC has to offer.  \nLocation: \nStudent Center Room 104 \n100 Elliott St. Haverhill\, MA 01830 \nRegister Now!  \n Print View
URL:https://necc.edu/event/haverhill-campus-tour-and-information-session-3/2025-03-05/
LOCATION:Haverhill Campus\, 100 Elliott St\, Haverhill\, MA\, United States
CATEGORIES:All Info Sessions,Info Sessions & Tours - Haverhill,Info Sessions and Tours
ORGANIZER;CN="Admissions":MAILTO:enrollmentservices@necc.mass.edu
GEO:42.797649;-71.05113
X-APPLE-STRUCTURED-LOCATION;VALUE=URI;X-ADDRESS=Haverhill Campus 100 Elliott St Haverhill MA United States;X-APPLE-RADIUS=500;X-TITLE=100 Elliott St:geo:-71.05113,42.797649
END:VEVENT
BEGIN:VEVENT
DTSTART;TZID=America/New_York:20250305T160000
DTEND;TZID=America/New_York:20250305T180000
DTSTAMP:20260423T084826
CREATED:20250211T170820Z
LAST-MODIFIED:20260406T151312Z
UID:10009394-1741190400-1741197600@necc.edu
SUMMARY:Enrollment Support Extended Hours
DESCRIPTION:Recruitment counselors available every Wednesday to assist with FAFSA\, guided self-placement and orientation \n Print View
URL:https://necc.edu/event/haverhill-campus-after-hours-enrollment-support/2025-03-05/
LOCATION:Haverhill Campus\, 100 Elliott St\, Haverhill\, MA\, United States
CATEGORIES:Info Sessions and Tours
ORGANIZER;CN="Admissions":MAILTO:enrollmentservices@necc.mass.edu
GEO:42.797649;-71.05113
X-APPLE-STRUCTURED-LOCATION;VALUE=URI;X-ADDRESS=Haverhill Campus 100 Elliott St Haverhill MA United States;X-APPLE-RADIUS=500;X-TITLE=100 Elliott St:geo:-71.05113,42.797649
END:VEVENT
BEGIN:VEVENT
DTSTART;TZID=America/New_York:20250305T160000
DTEND;TZID=America/New_York:20250305T190000
DTSTAMP:20260423T084826
CREATED:20250207T150031Z
LAST-MODIFIED:20250303T175237Z
UID:10009250-1741190400-1741201200@necc.edu
SUMMARY:Haverhill High School Senior and Parent Night
DESCRIPTION:Come join us for FAFSA assistance\, guided self-placement and orientation completion. Parent information sessions\, as well! \nRegister here!! \n Print View
URL:https://necc.edu/event/haverhill-high-school-senior-and-parent-night/
LOCATION:Haverhill Campus\, 100 Elliott St\, Haverhill\, MA\, United States
CATEGORIES:Home Page Events,Info Sessions and Tours
ORGANIZER;CN="Admissions":MAILTO:enrollmentservices@necc.mass.edu
GEO:42.797649;-71.05113
X-APPLE-STRUCTURED-LOCATION;VALUE=URI;X-ADDRESS=Haverhill Campus 100 Elliott St Haverhill MA United States;X-APPLE-RADIUS=500;X-TITLE=100 Elliott St:geo:-71.05113,42.797649
END:VEVENT
END:VCALENDAR