BEGIN:VCALENDAR
VERSION:2.0
PRODID:-//Northern Essex CC - ECPv6.15.12//NONSGML v1.0//EN
CALSCALE:GREGORIAN
METHOD:PUBLISH
X-WR-CALNAME:Northern Essex CC
X-ORIGINAL-URL:https://necc.edu
X-WR-CALDESC:Events for Northern Essex CC
REFRESH-INTERVAL;VALUE=DURATION:PT1H
X-Robots-Tag:noindex
X-PUBLISHED-TTL:PT1H
BEGIN:VTIMEZONE
TZID:America/New_York
BEGIN:DAYLIGHT
TZOFFSETFROM:-0500
TZOFFSETTO:-0400
TZNAME:EDT
DTSTART:20240310T070000
END:DAYLIGHT
BEGIN:STANDARD
TZOFFSETFROM:-0400
TZOFFSETTO:-0500
TZNAME:EST
DTSTART:20241103T060000
END:STANDARD
BEGIN:DAYLIGHT
TZOFFSETFROM:-0500
TZOFFSETTO:-0400
TZNAME:EDT
DTSTART:20250309T070000
END:DAYLIGHT
BEGIN:STANDARD
TZOFFSETFROM:-0400
TZOFFSETTO:-0500
TZNAME:EST
DTSTART:20251102T060000
END:STANDARD
BEGIN:DAYLIGHT
TZOFFSETFROM:-0500
TZOFFSETTO:-0400
TZNAME:EDT
DTSTART:20260308T070000
END:DAYLIGHT
BEGIN:STANDARD
TZOFFSETFROM:-0400
TZOFFSETTO:-0500
TZNAME:EST
DTSTART:20261101T060000
END:STANDARD
END:VTIMEZONE
BEGIN:VEVENT
DTSTART;VALUE=DATE:20250203
DTEND;VALUE=DATE:20250517
DTSTAMP:20260423T084642
CREATED:20250331T154300Z
LAST-MODIFIED:20250411T162549Z
UID:10010366-1738540800-1747439999@necc.edu
SUMMARY:2025-2026 General Scholarship Deadline
DESCRIPTION:The NECC General Scholarship application has over 42 scholarship opportunities\, which are made possible by the generosity of individual donors\, businesses\, corporations\, and foundations\, all of whom believe that all students should have access to a high-quality education. They are available to you through NECC’s Office of Institutional Advancement. Apply here.  \n Print View
URL:https://necc.edu/event/2025-2026-general-scholarship/
LOCATION:MA
CATEGORIES:Student Life
END:VEVENT
BEGIN:VEVENT
DTSTART;TZID=America/New_York:20250301T080000
DTEND;TZID=America/New_York:20250331T170000
DTSTAMP:20260423T084642
CREATED:20250205T185924Z
LAST-MODIFIED:20250303T174828Z
UID:10009237-1740816000-1743440400@necc.edu
SUMMARY:Women’s History Month Book Display
DESCRIPTION:Explore our Women’s History Month book display featuring stories of resilience\, leadership\, and groundbreaking achievements. From pioneering activists to modern trailblazers\, discover books highlighting women’s diverse voices and contributions throughout history. \nStop by\, get inspired\, and check out a book to honor women’s past\, present\, and future impact on the world! \nCheck out our book display at both campus libraries. \n Print View
URL:https://necc.edu/event/necc-library-womens-history-month-book-display/
LOCATION:All Campuses\, Lawrence\, MA\, United States
CATEGORIES:Library
GEO:42.709053;-71.169601
END:VEVENT
BEGIN:VEVENT
DTSTART;VALUE=DATE:20250303
DTEND;VALUE=DATE:20250309
DTSTAMP:20260423T084642
CREATED:20240709T170621Z
LAST-MODIFIED:20250212T035011Z
UID:10006679-1740960000-1741478399@necc.edu
SUMMARY:Final Exam Period for Session I classes
DESCRIPTION:Print View
URL:https://necc.edu/event/final-exam-period-for-session-i-classes-4/
LOCATION:MA
CATEGORIES:Academic Calendar
END:VEVENT
BEGIN:VEVENT
DTSTART;VALUE=DATE:20250307
DTEND;VALUE=DATE:20250308
DTSTAMP:20260423T084642
CREATED:20250207T195543Z
LAST-MODIFIED:20250214T163951Z
UID:10009254-1741305600-1741391999@necc.edu
SUMMARY:Free Tax Preparation for NECC Students
DESCRIPTION:FREE TAX PREPARATION \n  \nIf you are in need of tax assistance\, Paula Moore\, an experienced tax professional and alumna of NECC\, is offering Northern Essex students free tax help.  Paula will be located at the Haverhill Senior Center\, 10 Welcome St\, Haverhill each Friday till the end of March. \nThis is by appointment only.  Please email Paula at:  paulamoore180@gmail.com \nRemember to bring your documents with you which may include: all sources of income tax forms\, health insurance documents\, your license\, social security number\, and prior year tax information if available. \n Print View
URL:https://necc.edu/event/free-tax-preparation-for-necc-students/2025-03-07/
LOCATION:Off-Campus\, MA
CATEGORIES:Student Life
ORGANIZER;CN="Lori Smerdon":MAILTO:lsmerdon@necc.mass.edu
END:VEVENT
BEGIN:VEVENT
DTSTART;VALUE=DATE:20250307
DTEND;VALUE=DATE:20250308
DTSTAMP:20260423T084642
CREATED:20250307T183321Z
LAST-MODIFIED:20250312T134857Z
UID:10009949-1741305600-1741391999@necc.edu
SUMMARY:Nominate this Year's Student Commencement Speaker
DESCRIPTION:NECC Student Commencement Speaker Nomination for 2025 \nIf you have met a graduating student who has a grade point average of 3.5 or above and has impressed you with the contributions he or she has made to the college and/or community\, please consider nominating him or her as this year’s student commencement speaker. Nominations are due March 26th at noon! For more details on this process and the nomination form please visit the Nominate a Student Speaker page \n Print View
URL:https://necc.edu/event/nominate-a-student-speaker/2025-03-07/
LOCATION:All Campuses\, Lawrence\, MA\, United States
CATEGORIES:Professional Studies Center
ORGANIZER;CN="Student Life":MAILTO:studentlife@necc.mass.edu
GEO:42.709053;-71.169601
END:VEVENT
BEGIN:VEVENT
DTSTART;TZID=America/New_York:20250307T093000
DTEND;TZID=America/New_York:20250307T213000
DTSTAMP:20260423T084642
CREATED:20250213T172017Z
LAST-MODIFIED:20250214T163814Z
UID:10009495-1741339800-1741383000@necc.edu
SUMMARY:Cereal Challenge
DESCRIPTION:Business 101 Classes and NECC are collaborating with Early College students from Whittier Vocational Technical High School to gather donated boxes of cereal through March 6th\, 2025.  The goal is to receive 2025 boxes of cereal to donate to local food pantries.  The donated boxes will be lined in a dominoes formation on National Cereal Day\, March 7th\, at 9:30 a.m. at Whittier.  Donation boxes are set up in every building on all three campuses.  Please consider donating a box or more by March 6th. You can also order and ship from your favorite online retailer to:  \nNorthern Essex Community College \n100 Elliott Street \nHaverhill\, MA 01830 \nAttention:  Professor Trish Tupaj\, C304E \nThank you for considering contributing to this worthy collaborative community service project!  \n Print View
URL:https://necc.edu/event/cereal-challenge-2025/2025-03-07/
LOCATION:All Campuses\, Lawrence\, MA\, United States
CATEGORIES:Professional Studies Center
ORGANIZER;CN="Center for Business and Accounting":MAILTO:CenterForBusinessAndAccounting@necc.mass.edu
GEO:42.709053;-71.169601
END:VEVENT
BEGIN:VEVENT
DTSTART;TZID=America/New_York:20250307T140000
DTEND;TZID=America/New_York:20250307T153000
DTSTAMP:20260423T084642
CREATED:20250213T180906Z
LAST-MODIFIED:20250213T180906Z
UID:10009499-1741356000-1741361400@necc.edu
SUMMARY:English Conversation Group
DESCRIPTION:English Conversation Group: This casual conversation group is open to current NECC students to talk about different topics and practice our English. \nWe will meet on Fridays at 2:00 in the Lawrence campus library (L-007 in Dimitry). \n(Fridays\, 2:00-3:30\, February 21-April 11; NOT on March 14) \nPlease email Grace at sspaulding@necc.mass.edu to sign up and with any questions. \n Print View
URL:https://necc.edu/event/english-conversation-group/2025-03-07/
LOCATION:Lawrence Campus\, Lawrence\, MA\, United States
CATEGORIES:Library
GEO:42.70734;-71.161052
END:VEVENT
END:VCALENDAR