BEGIN:VCALENDAR
VERSION:2.0
PRODID:-//Northern Essex CC - ECPv6.15.12//NONSGML v1.0//EN
CALSCALE:GREGORIAN
METHOD:PUBLISH
X-ORIGINAL-URL:https://necc.edu
X-WR-CALDESC:Events for Northern Essex CC
REFRESH-INTERVAL;VALUE=DURATION:PT1H
X-Robots-Tag:noindex
X-PUBLISHED-TTL:PT1H
BEGIN:VTIMEZONE
TZID:America/New_York
BEGIN:DAYLIGHT
TZOFFSETFROM:-0500
TZOFFSETTO:-0400
TZNAME:EDT
DTSTART:20240310T070000
END:DAYLIGHT
BEGIN:STANDARD
TZOFFSETFROM:-0400
TZOFFSETTO:-0500
TZNAME:EST
DTSTART:20241103T060000
END:STANDARD
BEGIN:DAYLIGHT
TZOFFSETFROM:-0500
TZOFFSETTO:-0400
TZNAME:EDT
DTSTART:20250309T070000
END:DAYLIGHT
BEGIN:STANDARD
TZOFFSETFROM:-0400
TZOFFSETTO:-0500
TZNAME:EST
DTSTART:20251102T060000
END:STANDARD
BEGIN:DAYLIGHT
TZOFFSETFROM:-0500
TZOFFSETTO:-0400
TZNAME:EDT
DTSTART:20260308T070000
END:DAYLIGHT
BEGIN:STANDARD
TZOFFSETFROM:-0400
TZOFFSETTO:-0500
TZNAME:EST
DTSTART:20261101T060000
END:STANDARD
END:VTIMEZONE
BEGIN:VEVENT
DTSTART;VALUE=DATE:20250203
DTEND;VALUE=DATE:20250517
DTSTAMP:20260423T084836
CREATED:20250331T154300Z
LAST-MODIFIED:20250411T162549Z
UID:10010366-1738540800-1747439999@necc.edu
SUMMARY:2025-2026 General Scholarship Deadline
DESCRIPTION:The NECC General Scholarship application has over 42 scholarship opportunities\, which are made possible by the generosity of individual donors\, businesses\, corporations\, and foundations\, all of whom believe that all students should have access to a high-quality education. They are available to you through NECC’s Office of Institutional Advancement. Apply here.  \n Print View
URL:https://necc.edu/event/2025-2026-general-scholarship/
LOCATION:MA
CATEGORIES:Student Life
END:VEVENT
BEGIN:VEVENT
DTSTART;TZID=America/New_York:20250301T080000
DTEND;TZID=America/New_York:20250331T170000
DTSTAMP:20260423T084836
CREATED:20250205T185924Z
LAST-MODIFIED:20250303T174828Z
UID:10009237-1740816000-1743440400@necc.edu
SUMMARY:Women’s History Month Book Display
DESCRIPTION:Explore our Women’s History Month book display featuring stories of resilience\, leadership\, and groundbreaking achievements. From pioneering activists to modern trailblazers\, discover books highlighting women’s diverse voices and contributions throughout history. \nStop by\, get inspired\, and check out a book to honor women’s past\, present\, and future impact on the world! \nCheck out our book display at both campus libraries. \n Print View
URL:https://necc.edu/event/necc-library-womens-history-month-book-display/
LOCATION:All Campuses\, Lawrence\, MA\, United States
CATEGORIES:Library
GEO:42.709053;-71.169601
END:VEVENT
BEGIN:VEVENT
DTSTART;VALUE=DATE:20250311
DTEND;VALUE=DATE:20250312
DTSTAMP:20260423T084836
CREATED:20240709T170622Z
LAST-MODIFIED:20250212T035011Z
UID:10006681-1741651200-1741737599@necc.edu
SUMMARY:Grades due by noon (Session I classes)
DESCRIPTION:Print View
URL:https://necc.edu/event/grades-due-by-noon-session-i-classes-2/
LOCATION:MA
CATEGORIES:Academic Calendar
END:VEVENT
BEGIN:VEVENT
DTSTART;VALUE=DATE:20250311
DTEND;VALUE=DATE:20250312
DTSTAMP:20260423T084836
CREATED:20250307T183321Z
LAST-MODIFIED:20250312T134857Z
UID:10009953-1741651200-1741737599@necc.edu
SUMMARY:Nominate this Year's Student Commencement Speaker
DESCRIPTION:NECC Student Commencement Speaker Nomination for 2025 \nIf you have met a graduating student who has a grade point average of 3.5 or above and has impressed you with the contributions he or she has made to the college and/or community\, please consider nominating him or her as this year’s student commencement speaker. Nominations are due March 26th at noon! For more details on this process and the nomination form please visit the Nominate a Student Speaker page \n Print View
URL:https://necc.edu/event/nominate-a-student-speaker/2025-03-11/
LOCATION:All Campuses\, Lawrence\, MA\, United States
CATEGORIES:Professional Studies Center
ORGANIZER;CN="Student Life":MAILTO:studentlife@necc.mass.edu
GEO:42.709053;-71.169601
END:VEVENT
BEGIN:VEVENT
DTSTART;TZID=America/New_York:20250311T100000
DTEND;TZID=America/New_York:20250311T110000
DTSTAMP:20260423T084836
CREATED:20240722T173137Z
LAST-MODIFIED:20240905T184931Z
UID:10006784-1741687200-1741690800@necc.edu
SUMMARY:College Systems Trainings
DESCRIPTION:The College Systems Trainings are geared towards providing all employees with onboarding or refreshers on all of our most used college systems on a more consistent basis. Newly hired and seasoned employees are highly encouraged to attend these trainings\, as needed. \n  \nWe have scheduled these trainings to happen Tuesdays and Thursdays in C204-CPD Computer Lab\, Haverhill Campus\, 10am-11am. It is up to the facilitator’s discretion to adjust the meeting\, depending on registrations. \n  \nCheck out our page on NECC One for the list of available trainings and registration.\n Print View
URL:https://necc.edu/event/college-systems-trainings-2024-2025/2025-03-11/
LOCATION:Haverhill Campus\, 100 Elliott St\, Haverhill\, MA\, United States
CATEGORIES:Professional Development
GEO:42.797649;-71.05113
X-APPLE-STRUCTURED-LOCATION;VALUE=URI;X-ADDRESS=Haverhill Campus 100 Elliott St Haverhill MA United States;X-APPLE-RADIUS=500;X-TITLE=100 Elliott St:geo:-71.05113,42.797649
END:VEVENT
BEGIN:VEVENT
DTSTART;TZID=America/New_York:20250311T100000
DTEND;TZID=America/New_York:20250311T133000
DTSTAMP:20260423T084836
CREATED:20240405T171630Z
LAST-MODIFIED:20250312T140607Z
UID:10009517-1741687200-1741699800@necc.edu
SUMMARY:Transfer Event - Regis College
DESCRIPTION:Building Character\, Confidence\, and Careers for Nearly 100 Years!\n \nExplore All That Regis Has to Offer!\nCome speak to a Transfer Counselor on the exceptional undergraduate degree programs. Be part of the diverse and dynamic student body via on-campus\, hybrid\, and online modalities. \nDATES:    Feb. 27\nMar.  4\, 11\, 13\nApr. 15\, 17\n  \nLocation and Time : LC (El-Hefni) Building Lobby ~ 10:00am-1:30pm\nNursing – Health Sciences  –  Professional Studies  –  Business and Communication  –  Art and Sciences \n  \n \n  \n Print View
URL:https://necc.edu/event/transfer-event-regis-college-lawrence-campus/2025-03-11/
LOCATION:Lawrence Campus\, Lawrence\, MA\, United States
CATEGORIES:Transfer Events
ORGANIZER;CN="Deb LaValley":MAILTO:dlavalley@necc.mass.edu
GEO:42.70734;-71.161052
END:VEVENT
BEGIN:VEVENT
DTSTART;TZID=America/New_York:20250311T100000
DTEND;TZID=America/New_York:20250311T133000
DTSTAMP:20260423T084836
CREATED:20241017T200117Z
LAST-MODIFIED:20250310T144823Z
UID:10008775-1741687200-1741699800@necc.edu
SUMMARY:UMass System Mini Transfer Fair: Amherst-Boston-Dartmouth-Lowell
DESCRIPTION:The 4 Campuses of UMass System Mini Transfer Fair at NECC.\nStudents will have the opportunity to explore the different opportunities EACH campus has to offer\, as well as speak to transfer counselors from the different campuses.\n \nTuesday\, March 11th – Dimitry Atrium Building L – 10:00am to 1:30 pm\n  \n  \n  \n Print View
URL:https://necc.edu/event/umass-system-mini-transfer-fair-amherst-boston-dartmouth-lowell-2/
LOCATION:Lawrence Campus\, Lawrence\, MA\, United States
CATEGORIES:Transfer Events
ORGANIZER;CN="Deb LaValley":MAILTO:dlavalley@necc.mass.edu
GEO:42.70734;-71.161052
END:VEVENT
BEGIN:VEVENT
DTSTART;TZID=America/New_York:20250311T110000
DTEND;TZID=America/New_York:20250311T130000
DTSTAMP:20260423T084836
CREATED:20250310T143139Z
LAST-MODIFIED:20250310T143139Z
UID:10010335-1741690800-1741698000@necc.edu
SUMMARY:Observer Newsroom Open House
DESCRIPTION:Please join us for an Open House in the Observer Newsroom on Tuesday\, March 11th from 11:00 – 1:00 pm in Spurk C318. \n  \nLearn where the news is made!  Meet the team and share some pizza! \n  \nPlease contact Observer Faculty Advisor Mary Jo Shafer for more information.   \n  \n  \n Print View
URL:https://necc.edu/event/observer-newsroom-open-house/
LOCATION:Haverhill Campus\, 100 Elliott St\, Haverhill\, MA\, United States
CATEGORIES:Student Life
GEO:42.797649;-71.05113
X-APPLE-STRUCTURED-LOCATION;VALUE=URI;X-ADDRESS=Haverhill Campus 100 Elliott St Haverhill MA United States;X-APPLE-RADIUS=500;X-TITLE=100 Elliott St:geo:-71.05113,42.797649
END:VEVENT
BEGIN:VEVENT
DTSTART;TZID=America/New_York:20250311T120000
DTEND;TZID=America/New_York:20250311T140000
DTSTAMP:20260423T084836
CREATED:20250224T205646Z
LAST-MODIFIED:20250224T205647Z
UID:10009541-1741694400-1741701600@necc.edu
SUMMARY:Food Truck: UTEC Breaking Barriers
DESCRIPTION:New for the spring semester\, UTEC’s Breaking Barriers food truck will be on campus each Tuesday\, alternating between Haverhill and Lawrence. \nYou can find UTEC outside the Library and the Student Center in Haverhill on these dates: \n\nJanuary 28\nFebruary 11\nFebruary 27 (Rescheduled from February 25)\nMarch 11\nMarch 25\n\nClick for Menu\n Print View
URL:https://necc.edu/event/food-truck-utec-breaking-barriers-3-2/2025-03-11/
LOCATION:Haverhill Campus\, 100 Elliott St\, Haverhill\, MA\, United States
CATEGORIES:Student Life
GEO:42.797649;-71.05113
X-APPLE-STRUCTURED-LOCATION;VALUE=URI;X-ADDRESS=Haverhill Campus 100 Elliott St Haverhill MA United States;X-APPLE-RADIUS=500;X-TITLE=100 Elliott St:geo:-71.05113,42.797649
END:VEVENT
BEGIN:VEVENT
DTSTART;TZID=America/New_York:20250311T123000
DTEND;TZID=America/New_York:20250311T133000
DTSTAMP:20260423T084836
CREATED:20250113T174909Z
LAST-MODIFIED:20250113T180721Z
UID:10009059-1741696200-1741699800@necc.edu
SUMMARY:Resume Help (Zoom Drop-In Hour)
DESCRIPTION:Are you looking for tips and resources to create a resume? Have questions about updating or making your resume stronger? Join us for Zoom drop-in hours to discuss your resume questions or get guidance to started. \nCan’t make it on Tuesdays? Visit Handshake for resources or schedule a meeting through Navigate. \n  \nResume drop-in hour \nEvery Tuesday starting February 4th and ending April 29th. \nThis event is free and NECC students from all majors are welcome to participate. \nWe welcome requests for sign language interpreting and other access requests (i.e. Computer Aided Real Time (CART)\, etc.). Please contact us with requests and questions: careerservices@necc.mass.edu \n  \nRegister for Zoom link and a calendar reminder: https://necc-mass-edu.zoom.us/meeting/register/2uTvcsZeTDaN0mPApIFWDg \n Print View
URL:https://necc.edu/event/resume-help-spring2025/2025-03-11/
LOCATION:Online\, United States
CATEGORIES:Career Services
ORGANIZER;CN="Career Services":MAILTO:kyeatonhromada@necc.mass.edu
END:VEVENT
BEGIN:VEVENT
DTSTART;TZID=America/New_York:20250311T150000
DTEND;TZID=America/New_York:20250311T163000
DTSTAMP:20260423T084836
CREATED:20250225T173345Z
LAST-MODIFIED:20250225T173345Z
UID:10009547-1741705200-1741710600@necc.edu
SUMMARY:Workshop: Power Standards for Language Acquisition & Support Strategies
DESCRIPTION:In this interactive workshop\, faculty across disciplines—science\, math\, social sciences\, and beyond—will explore practical\, research-based strategies to empower and support English language learners in their classrooms. Tailored for educators in all subject areas\, this session focuses on Power Standards for language acquisition and provides tools to enhance instructional practices\, foster student engagement\, and ensure all learners succeed in mastering both content and language skills. Participants will gain insights into differentiated instruction\, scaffolding techniques\, and culturally responsive methods\, while collaborating with peers to share ideas and strategies. Whether you’re teaching core academic subjects or seeking to strengthen language support in your classroom\, this workshop will equip you with powerful tools to create an inclusive and effective learning experience for every student.  \n\nSnacks will be provided! Please RSVP HERE.  \n3/11 Lawrence Campus L244 \n3/13 Haverhill Campus C204 \n Print View
URL:https://necc.edu/event/workshop-power-standards-for-language-acquisition-support-strategies/2025-03-11/
LOCATION:All Campuses\, Lawrence\, MA\, United States
CATEGORIES:Professional Development
GEO:42.709053;-71.169601
END:VEVENT
END:VCALENDAR