BEGIN:VCALENDAR
VERSION:2.0
PRODID:-//Northern Essex CC - ECPv6.15.12//NONSGML v1.0//EN
CALSCALE:GREGORIAN
METHOD:PUBLISH
X-ORIGINAL-URL:https://necc.edu
X-WR-CALDESC:Events for Northern Essex CC
REFRESH-INTERVAL;VALUE=DURATION:PT1H
X-Robots-Tag:noindex
X-PUBLISHED-TTL:PT1H
BEGIN:VTIMEZONE
TZID:America/New_York
BEGIN:DAYLIGHT
TZOFFSETFROM:-0500
TZOFFSETTO:-0400
TZNAME:EDT
DTSTART:20240310T070000
END:DAYLIGHT
BEGIN:STANDARD
TZOFFSETFROM:-0400
TZOFFSETTO:-0500
TZNAME:EST
DTSTART:20241103T060000
END:STANDARD
BEGIN:DAYLIGHT
TZOFFSETFROM:-0500
TZOFFSETTO:-0400
TZNAME:EDT
DTSTART:20250309T070000
END:DAYLIGHT
BEGIN:STANDARD
TZOFFSETFROM:-0400
TZOFFSETTO:-0500
TZNAME:EST
DTSTART:20251102T060000
END:STANDARD
BEGIN:DAYLIGHT
TZOFFSETFROM:-0500
TZOFFSETTO:-0400
TZNAME:EDT
DTSTART:20260308T070000
END:DAYLIGHT
BEGIN:STANDARD
TZOFFSETFROM:-0400
TZOFFSETTO:-0500
TZNAME:EST
DTSTART:20261101T060000
END:STANDARD
END:VTIMEZONE
BEGIN:VEVENT
DTSTART;VALUE=DATE:20250203
DTEND;VALUE=DATE:20250517
DTSTAMP:20260423T084836
CREATED:20250331T154300Z
LAST-MODIFIED:20250411T162549Z
UID:10010366-1738540800-1747439999@necc.edu
SUMMARY:2025-2026 General Scholarship Deadline
DESCRIPTION:The NECC General Scholarship application has over 42 scholarship opportunities\, which are made possible by the generosity of individual donors\, businesses\, corporations\, and foundations\, all of whom believe that all students should have access to a high-quality education. They are available to you through NECC’s Office of Institutional Advancement. Apply here.  \n Print View
URL:https://necc.edu/event/2025-2026-general-scholarship/
LOCATION:MA
CATEGORIES:Student Life
END:VEVENT
BEGIN:VEVENT
DTSTART;TZID=America/New_York:20250301T080000
DTEND;TZID=America/New_York:20250331T170000
DTSTAMP:20260423T084836
CREATED:20250205T185924Z
LAST-MODIFIED:20250303T174828Z
UID:10009237-1740816000-1743440400@necc.edu
SUMMARY:Women’s History Month Book Display
DESCRIPTION:Explore our Women’s History Month book display featuring stories of resilience\, leadership\, and groundbreaking achievements. From pioneering activists to modern trailblazers\, discover books highlighting women’s diverse voices and contributions throughout history. \nStop by\, get inspired\, and check out a book to honor women’s past\, present\, and future impact on the world! \nCheck out our book display at both campus libraries. \n Print View
URL:https://necc.edu/event/necc-library-womens-history-month-book-display/
LOCATION:All Campuses\, Lawrence\, MA\, United States
CATEGORIES:Library
GEO:42.709053;-71.169601
END:VEVENT
BEGIN:VEVENT
DTSTART;VALUE=DATE:20250312
DTEND;VALUE=DATE:20250313
DTSTAMP:20260423T084836
CREATED:20250307T183321Z
LAST-MODIFIED:20250312T134857Z
UID:10009954-1741737600-1741823999@necc.edu
SUMMARY:Nominate this Year's Student Commencement Speaker
DESCRIPTION:NECC Student Commencement Speaker Nomination for 2025 \nIf you have met a graduating student who has a grade point average of 3.5 or above and has impressed you with the contributions he or she has made to the college and/or community\, please consider nominating him or her as this year’s student commencement speaker. Nominations are due March 26th at noon! For more details on this process and the nomination form please visit the Nominate a Student Speaker page \n Print View
URL:https://necc.edu/event/nominate-a-student-speaker/2025-03-12/
LOCATION:All Campuses\, Lawrence\, MA\, United States
CATEGORIES:Professional Studies Center
ORGANIZER;CN="Student Life":MAILTO:studentlife@necc.mass.edu
GEO:42.709053;-71.169601
END:VEVENT
BEGIN:VEVENT
DTSTART;TZID=America/New_York:20250312T100000
DTEND;TZID=America/New_York:20250312T110000
DTSTAMP:20260423T084836
CREATED:20250109T214430Z
LAST-MODIFIED:20250109T214431Z
UID:10009044-1741773600-1741777200@necc.edu
SUMMARY:CPD Coffee & Conversation
DESCRIPTION:Drop by the Center for Professional Development for some Coffee & Conversation with your colleagues! \nHaverhill C204: 2/10\, 3/10\, 4/14 10-11am\nLawrence L233: 2/12\, 3/12\, 4/16 10-11am \nFor registration and more information about our upcoming events\, please click HERE.  \n Print View
URL:https://necc.edu/event/cpd-coffee-conversation/2025-03-12/
LOCATION:MA
CATEGORIES:Professional Development
END:VEVENT
BEGIN:VEVENT
DTSTART;TZID=America/New_York:20250312T100000
DTEND;TZID=America/New_York:20250312T133000
DTSTAMP:20260423T084836
CREATED:20250306T190601Z
LAST-MODIFIED:20250312T140511Z
UID:10009560-1741773600-1741786200@necc.edu
SUMMARY:Mini Transfer Fair
DESCRIPTION: Join us at a Mini Transfer Fair on the Haverhill Campus\n \nWhen:     March 12\, 2025\nTime:      10:00am – 1:30pm\nLocation: 1st Floor Lobby in Building C (Spurk) Haverhill Campus\n \nFeaturing the following Institutions:  \n\n\n\n\n\nMerrimack College\nQuincy College\nSouthern New Hampshire University (SNHU)\nSt. Anselm College\nUMass Lowell Graduate\, Online and Professional Studies\n\n\n\n\n\n  \n  \n  \n  \n  \n  \n  \n Print View
URL:https://necc.edu/event/mini-transfer-fair-march-12-on-the-haverhill-campus/
LOCATION:MA
CATEGORIES:Transfer Events
ORGANIZER;CN="Deb LaValley":MAILTO:dlavalley@necc.mass.edu
END:VEVENT
BEGIN:VEVENT
DTSTART;TZID=America/New_York:20250312T120000
DTEND;TZID=America/New_York:20250312T140000
DTSTAMP:20260423T084836
CREATED:20250306T161422Z
LAST-MODIFIED:20250306T161422Z
UID:10009559-1741780800-1741788000@necc.edu
SUMMARY:NJCAA National Championship 1st Round vs. Dallas College Richland
DESCRIPTION:The #8 Knights men basketball team heads to Herkimer\, NY to face #9 Dallas College Richland in opening round play of the 2025 NJCAA Division III Championship Tournament. \nMaking their third consecutive national tournament appearance\, the Knights enter the tournament with a 28-3 overall record. \n\n\n Passes to stream live can be purchased online\n\n\nREAD MORE\n Print View
URL:https://necc.edu/event/njcaa-national-championship-1st-round-vs-dallas-college-richland/
LOCATION:Off-Campus\, MA
CATEGORIES:Alumni,Athletics,Community,Home Page Events,Men's Basketball,Student Activities,Student Life
END:VEVENT
BEGIN:VEVENT
DTSTART;TZID=America/New_York:20250312T123000
DTEND;TZID=America/New_York:20250312T133000
DTSTAMP:20260423T084836
CREATED:20240605T191647Z
LAST-MODIFIED:20250212T035012Z
UID:10006250-1741782600-1741786200@necc.edu
SUMMARY:President's General Staff Meeting
DESCRIPTION:TC103AB/LC301 Telecast \n Print View
URL:https://necc.edu/event/presidents-general-staff-meeting-5/
LOCATION:TC103AB/LC301 Telecast
CATEGORIES:Academic Calendar
END:VEVENT
BEGIN:VEVENT
DTSTART;TZID=America/New_York:20250312T123000
DTEND;TZID=America/New_York:20250312T133000
DTSTAMP:20260423T084836
CREATED:20250114T150326Z
LAST-MODIFIED:20250214T164441Z
UID:10009085-1741782600-1741786200@necc.edu
SUMMARY:Career Exploration Drop-In Hour
DESCRIPTION:Are you considering different majors? Interested in learning more about your career options? \nJoin us on Wednesdays this semester for drop-in hours to explore your career interests\, options\, and learn about helpful career resources! \n  \nCareer Exploration drop-in hour \nEvery Wednesday starting February 5th and ending April 30th. \nThis event is free and NECC students from all majors are welcome to participate. \nCan’t make it on Wednesdays? Visit Handshake for resources or schedule a meeting through Navigate. \n  \nWe welcome requests for sign language interpreting and other access requests (i.e. Computer Aided Real Time (CART)\, etc.). Please contact us with requests and questions: careerservices@necc.mass.edu \n  \nRegister for a calendar reminder: https://necc-mass-edu.zoom.us/meeting/register/WRNSlMHgQ8eDB5CKWajLIQ \n Print View
URL:https://necc.edu/event/career-exploration-drop-in-spring-2025/2025-03-12/
LOCATION:Online\, United States
CATEGORIES:Career Services
ORGANIZER;CN="Career Services":MAILTO:kyeatonhromada@necc.mass.edu
END:VEVENT
BEGIN:VEVENT
DTSTART;TZID=America/New_York:20250312T123000
DTEND;TZID=America/New_York:20250312T133000
DTSTAMP:20260423T084836
CREATED:20250210T162643Z
LAST-MODIFIED:20250210T162746Z
UID:10009322-1741782600-1741786200@necc.edu
SUMMARY:Strategic Plan: Academic Innovations Open Forum
DESCRIPTION:We have passed the half-way point in our current Strategic Plan! Over the past 2.5 years\, an enormous amount of work has gone on across campus to support our 5 strategic goals. The Guiding Coalitions are holding open conversations to share updates on that work and get input on how best to use our remaining time to best address the work that remains. \nThere will be one open forum for each of the 5 strategic goals\, hosted by the Guiding Coalition leads. Each open forum will run from 12:30 – 1:30pm in C204. Please use this link to RSVP; final details will be sent via a calendar invitation. \n Print View
URL:https://necc.edu/event/strategic-plan-academic-innovations-open-forum/
LOCATION:Haverhill Campus\, 100 Elliott St\, Haverhill\, MA\, United States
CATEGORIES:Professional Development
GEO:42.797649;-71.05113
X-APPLE-STRUCTURED-LOCATION;VALUE=URI;X-ADDRESS=Haverhill Campus 100 Elliott St Haverhill MA United States;X-APPLE-RADIUS=500;X-TITLE=100 Elliott St:geo:-71.05113,42.797649
END:VEVENT
BEGIN:VEVENT
DTSTART;TZID=America/New_York:20250312T160000
DTEND;TZID=America/New_York:20250312T180000
DTSTAMP:20260423T084836
CREATED:20250211T170820Z
LAST-MODIFIED:20260406T151312Z
UID:10009395-1741795200-1741802400@necc.edu
SUMMARY:Enrollment Support Extended Hours
DESCRIPTION:Recruitment counselors available every Wednesday to assist with FAFSA\, guided self-placement and orientation \n Print View
URL:https://necc.edu/event/haverhill-campus-after-hours-enrollment-support/2025-03-12/
LOCATION:Haverhill Campus\, 100 Elliott St\, Haverhill\, MA\, United States
CATEGORIES:Info Sessions and Tours
ORGANIZER;CN="Admissions":MAILTO:enrollmentservices@necc.mass.edu
GEO:42.797649;-71.05113
X-APPLE-STRUCTURED-LOCATION;VALUE=URI;X-ADDRESS=Haverhill Campus 100 Elliott St Haverhill MA United States;X-APPLE-RADIUS=500;X-TITLE=100 Elliott St:geo:-71.05113,42.797649
END:VEVENT
END:VCALENDAR