BEGIN:VCALENDAR
VERSION:2.0
PRODID:-//Northern Essex CC - ECPv6.15.12//NONSGML v1.0//EN
CALSCALE:GREGORIAN
METHOD:PUBLISH
X-WR-CALNAME:Northern Essex CC
X-ORIGINAL-URL:https://necc.edu
X-WR-CALDESC:Events for Northern Essex CC
REFRESH-INTERVAL;VALUE=DURATION:PT1H
X-Robots-Tag:noindex
X-PUBLISHED-TTL:PT1H
BEGIN:VTIMEZONE
TZID:America/New_York
BEGIN:DAYLIGHT
TZOFFSETFROM:-0500
TZOFFSETTO:-0400
TZNAME:EDT
DTSTART:20240310T070000
END:DAYLIGHT
BEGIN:STANDARD
TZOFFSETFROM:-0400
TZOFFSETTO:-0500
TZNAME:EST
DTSTART:20241103T060000
END:STANDARD
BEGIN:DAYLIGHT
TZOFFSETFROM:-0500
TZOFFSETTO:-0400
TZNAME:EDT
DTSTART:20250309T070000
END:DAYLIGHT
BEGIN:STANDARD
TZOFFSETFROM:-0400
TZOFFSETTO:-0500
TZNAME:EST
DTSTART:20251102T060000
END:STANDARD
BEGIN:DAYLIGHT
TZOFFSETFROM:-0500
TZOFFSETTO:-0400
TZNAME:EDT
DTSTART:20260308T070000
END:DAYLIGHT
BEGIN:STANDARD
TZOFFSETFROM:-0400
TZOFFSETTO:-0500
TZNAME:EST
DTSTART:20261101T060000
END:STANDARD
END:VTIMEZONE
BEGIN:VEVENT
DTSTART;VALUE=DATE:20250203
DTEND;VALUE=DATE:20250517
DTSTAMP:20260423T084728
CREATED:20250331T154300Z
LAST-MODIFIED:20250411T162549Z
UID:10010366-1738540800-1747439999@necc.edu
SUMMARY:2025-2026 General Scholarship Deadline
DESCRIPTION:The NECC General Scholarship application has over 42 scholarship opportunities\, which are made possible by the generosity of individual donors\, businesses\, corporations\, and foundations\, all of whom believe that all students should have access to a high-quality education. They are available to you through NECC’s Office of Institutional Advancement. Apply here.  \n Print View
URL:https://necc.edu/event/2025-2026-general-scholarship/
LOCATION:MA
CATEGORIES:Student Life
END:VEVENT
BEGIN:VEVENT
DTSTART;TZID=America/New_York:20250301T080000
DTEND;TZID=America/New_York:20250331T170000
DTSTAMP:20260423T084728
CREATED:20250205T185924Z
LAST-MODIFIED:20250303T174828Z
UID:10009237-1740816000-1743440400@necc.edu
SUMMARY:Women’s History Month Book Display
DESCRIPTION:Explore our Women’s History Month book display featuring stories of resilience\, leadership\, and groundbreaking achievements. From pioneering activists to modern trailblazers\, discover books highlighting women’s diverse voices and contributions throughout history. \nStop by\, get inspired\, and check out a book to honor women’s past\, present\, and future impact on the world! \nCheck out our book display at both campus libraries. \n Print View
URL:https://necc.edu/event/necc-library-womens-history-month-book-display/
LOCATION:All Campuses\, Lawrence\, MA\, United States
CATEGORIES:Library
GEO:42.709053;-71.169601
END:VEVENT
BEGIN:VEVENT
DTSTART;VALUE=DATE:20250313
DTEND;VALUE=DATE:20250314
DTSTAMP:20260423T084728
CREATED:20250307T183321Z
LAST-MODIFIED:20250312T134857Z
UID:10009955-1741824000-1741910399@necc.edu
SUMMARY:Nominate this Year's Student Commencement Speaker
DESCRIPTION:NECC Student Commencement Speaker Nomination for 2025 \nIf you have met a graduating student who has a grade point average of 3.5 or above and has impressed you with the contributions he or she has made to the college and/or community\, please consider nominating him or her as this year’s student commencement speaker. Nominations are due March 26th at noon! For more details on this process and the nomination form please visit the Nominate a Student Speaker page \n Print View
URL:https://necc.edu/event/nominate-a-student-speaker/2025-03-13/
LOCATION:All Campuses\, Lawrence\, MA\, United States
CATEGORIES:Professional Studies Center
ORGANIZER;CN="Student Life":MAILTO:studentlife@necc.mass.edu
GEO:42.709053;-71.169601
END:VEVENT
BEGIN:VEVENT
DTSTART;TZID=America/New_York:20250313T090000
DTEND;TZID=America/New_York:20250313T103000
DTSTAMP:20260423T084728
CREATED:20220812T140127Z
LAST-MODIFIED:20260109T194843Z
UID:10008893-1741856400-1741861800@necc.edu
SUMMARY:Campus Tour and Information Session
DESCRIPTION:Campus Tour and Information Session\n\nVisit us on the Lawrence Campus for an information session and a tour led by one of our admission counselors. We can’t wait to meet you in person and show you all that NECC has to offer.  \nLocation: \nEl Hefni Building Lobby \n414 Common Street St. Lawrence\, MA 01840 \nRegister Now!  \n Print View
URL:https://necc.edu/event/lawrence-campus-tour-and-information-session/2025-03-13/
LOCATION:Lawrence Campus\, Lawrence\, MA\, United States
CATEGORIES:All Info Sessions,Home Page Events,Info Sessions & Tours - Lawrence,Info Sessions and Tours
ORGANIZER;CN="Admissions":MAILTO:enrollmentservices@necc.mass.edu
GEO:42.70734;-71.161052
END:VEVENT
BEGIN:VEVENT
DTSTART;TZID=America/New_York:20250313T100000
DTEND;TZID=America/New_York:20250313T110000
DTSTAMP:20260423T084728
CREATED:20240722T173137Z
LAST-MODIFIED:20240905T184931Z
UID:10006785-1741860000-1741863600@necc.edu
SUMMARY:College Systems Trainings
DESCRIPTION:The College Systems Trainings are geared towards providing all employees with onboarding or refreshers on all of our most used college systems on a more consistent basis. Newly hired and seasoned employees are highly encouraged to attend these trainings\, as needed. \n  \nWe have scheduled these trainings to happen Tuesdays and Thursdays in C204-CPD Computer Lab\, Haverhill Campus\, 10am-11am. It is up to the facilitator’s discretion to adjust the meeting\, depending on registrations. \n  \nCheck out our page on NECC One for the list of available trainings and registration.\n Print View
URL:https://necc.edu/event/college-systems-trainings-2024-2025/2025-03-13/
LOCATION:Haverhill Campus\, 100 Elliott St\, Haverhill\, MA\, United States
CATEGORIES:Professional Development
GEO:42.797649;-71.05113
X-APPLE-STRUCTURED-LOCATION;VALUE=URI;X-ADDRESS=Haverhill Campus 100 Elliott St Haverhill MA United States;X-APPLE-RADIUS=500;X-TITLE=100 Elliott St:geo:-71.05113,42.797649
END:VEVENT
BEGIN:VEVENT
DTSTART;TZID=America/New_York:20250313T100000
DTEND;TZID=America/New_York:20250313T133000
DTSTAMP:20260423T084728
CREATED:20240405T171630Z
LAST-MODIFIED:20250312T140607Z
UID:10009518-1741860000-1741872600@necc.edu
SUMMARY:Transfer Event - Regis College
DESCRIPTION:Building Character\, Confidence\, and Careers for Nearly 100 Years!\n \nExplore All That Regis Has to Offer!\nCome speak to a Transfer Counselor on the exceptional undergraduate degree programs. Be part of the diverse and dynamic student body via on-campus\, hybrid\, and online modalities. \nDATES:    Feb. 27\nMar.  4\, 11\, 13\nApr. 15\, 17\n  \nLocation and Time : LC (El-Hefni) Building Lobby ~ 10:00am-1:30pm\nNursing – Health Sciences  –  Professional Studies  –  Business and Communication  –  Art and Sciences \n  \n \n  \n Print View
URL:https://necc.edu/event/transfer-event-regis-college-lawrence-campus/2025-03-13/
LOCATION:Lawrence Campus\, Lawrence\, MA\, United States
CATEGORIES:Transfer Events
ORGANIZER;CN="Deb LaValley":MAILTO:dlavalley@necc.mass.edu
GEO:42.70734;-71.161052
END:VEVENT
BEGIN:VEVENT
DTSTART;TZID=America/New_York:20250313T120000
DTEND;TZID=America/New_York:20250313T130000
DTSTAMP:20260423T084728
CREATED:20250310T182624Z
LAST-MODIFIED:20250310T182658Z
UID:10010337-1741867200-1741870800@necc.edu
SUMMARY:Global Café - Understanding Immigrant Trauma
DESCRIPTION:Join us for a discussion on Immigrant Trauma with Glavielinys Cruz\, PsyD\, LMHC\, and Gabriel Garcia\, M.S.\, LMHC. Our speakers will explore how today’s immigration policies impact the mental health of immigrants and share strategies for support and resilience. \nSpeakers\nDr. Glavielinys Cruz\nA proud Lawrence native and experienced psychotherapist\, Dr. Cruz provides bilingual and bicultural mental health services across the North Shore and Greater Lawrence. She oversees behavioral health services for the Lynn Public School community and serves as a clinician at Lynn Community Health Center and the Integrated Center for Group Medical Visits (ICGMV) in Lawrence. She is also a Board Director for two Lawrence nonprofits\, Waystone Health and Human Services and The Integrated School of Medicine\, and the owner of Wellness Way Psychological Services\, LLC. \nGabriel Garcia\nA licensed mental health counselor with over a decade of experience\, Gabriel has been supporting students at NECC since 2017. He specializes in outpatient therapy for individuals\, couples\, and families\, using a strengths-based and holistic approach. Passionate about research and continuous learning\, he integrates various therapeutic techniques to foster a supportive and healing environment. \nDon’t miss this opportunity to learn\, connect\, and engage in meaningful dialogue. \nPlease join us in L244 on the Lawrence Campus and in B218 on the Haverhill Campus. \n Print View
URL:https://necc.edu/event/global-cafe-understanding-immigrant-trauma/
LOCATION:Lawrence Campus\, Lawrence\, MA\, United States
CATEGORIES:Alumni,Business Events,Civic Engagement Service Learning,Community,Home Page Events,Justice, Equity, Diversity, and Inclusion,Student Activities,Student Life
GEO:42.70734;-71.161052
END:VEVENT
BEGIN:VEVENT
DTSTART;TZID=America/New_York:20250313T150000
DTEND;TZID=America/New_York:20250313T163000
DTSTAMP:20260423T084728
CREATED:20250225T173345Z
LAST-MODIFIED:20250225T173345Z
UID:10009548-1741878000-1741883400@necc.edu
SUMMARY:Workshop: Power Standards for Language Acquisition & Support Strategies
DESCRIPTION:In this interactive workshop\, faculty across disciplines—science\, math\, social sciences\, and beyond—will explore practical\, research-based strategies to empower and support English language learners in their classrooms. Tailored for educators in all subject areas\, this session focuses on Power Standards for language acquisition and provides tools to enhance instructional practices\, foster student engagement\, and ensure all learners succeed in mastering both content and language skills. Participants will gain insights into differentiated instruction\, scaffolding techniques\, and culturally responsive methods\, while collaborating with peers to share ideas and strategies. Whether you’re teaching core academic subjects or seeking to strengthen language support in your classroom\, this workshop will equip you with powerful tools to create an inclusive and effective learning experience for every student.  \n\nSnacks will be provided! Please RSVP HERE.  \n3/11 Lawrence Campus L244 \n3/13 Haverhill Campus C204 \n Print View
URL:https://necc.edu/event/workshop-power-standards-for-language-acquisition-support-strategies/2025-03-13/
LOCATION:All Campuses\, Lawrence\, MA\, United States
CATEGORIES:Professional Development
GEO:42.709053;-71.169601
END:VEVENT
BEGIN:VEVENT
DTSTART;TZID=America/New_York:20250313T210000
DTEND;TZID=America/New_York:20250313T223000
DTSTAMP:20260423T084728
CREATED:20260109T194929Z
LAST-MODIFIED:20260109T201439Z
UID:10011355-1741899600-1741905000@necc.edu
SUMMARY:Campus Tour and Information Session
DESCRIPTION:Campus Tour and Information Session\n\nVisit us on the Lawrence Campus for an information session and a tour led by one of our admission counselors. We can’t wait to meet you in person and show you all that NECC has to offer.  \nLocation: \nEl Hefni Building Lobby \n414 Common Street St. Lawrence\, MA 01840 \nRegister Now!  \n Print View
URL:https://necc.edu/event/lawrence-campus-tour-and-information-session-3/2025-03-13/
LOCATION:Lawrence Campus\, Lawrence\, MA\, United States
CATEGORIES:All Info Sessions,Home Page Events,Info Sessions & Tours - Lawrence,Info Sessions and Tours
ORGANIZER;CN="Admissions":MAILTO:enrollmentservices@necc.mass.edu
GEO:42.70734;-71.161052
END:VEVENT
END:VCALENDAR