BEGIN:VCALENDAR
VERSION:2.0
PRODID:-//Northern Essex CC - ECPv6.15.12//NONSGML v1.0//EN
CALSCALE:GREGORIAN
METHOD:PUBLISH
X-ORIGINAL-URL:https://necc.edu
X-WR-CALDESC:Events for Northern Essex CC
REFRESH-INTERVAL;VALUE=DURATION:PT1H
X-Robots-Tag:noindex
X-PUBLISHED-TTL:PT1H
BEGIN:VTIMEZONE
TZID:America/New_York
BEGIN:DAYLIGHT
TZOFFSETFROM:-0500
TZOFFSETTO:-0400
TZNAME:EDT
DTSTART:20240310T070000
END:DAYLIGHT
BEGIN:STANDARD
TZOFFSETFROM:-0400
TZOFFSETTO:-0500
TZNAME:EST
DTSTART:20241103T060000
END:STANDARD
BEGIN:DAYLIGHT
TZOFFSETFROM:-0500
TZOFFSETTO:-0400
TZNAME:EDT
DTSTART:20250309T070000
END:DAYLIGHT
BEGIN:STANDARD
TZOFFSETFROM:-0400
TZOFFSETTO:-0500
TZNAME:EST
DTSTART:20251102T060000
END:STANDARD
BEGIN:DAYLIGHT
TZOFFSETFROM:-0500
TZOFFSETTO:-0400
TZNAME:EDT
DTSTART:20260308T070000
END:DAYLIGHT
BEGIN:STANDARD
TZOFFSETFROM:-0400
TZOFFSETTO:-0500
TZNAME:EST
DTSTART:20261101T060000
END:STANDARD
END:VTIMEZONE
BEGIN:VEVENT
DTSTART;VALUE=DATE:20250203
DTEND;VALUE=DATE:20250517
DTSTAMP:20260423T084839
CREATED:20250331T154300Z
LAST-MODIFIED:20250411T162549Z
UID:10010366-1738540800-1747439999@necc.edu
SUMMARY:2025-2026 General Scholarship Deadline
DESCRIPTION:The NECC General Scholarship application has over 42 scholarship opportunities\, which are made possible by the generosity of individual donors\, businesses\, corporations\, and foundations\, all of whom believe that all students should have access to a high-quality education. They are available to you through NECC’s Office of Institutional Advancement. Apply here.  \n Print View
URL:https://necc.edu/event/2025-2026-general-scholarship/
LOCATION:MA
CATEGORIES:Student Life
END:VEVENT
BEGIN:VEVENT
DTSTART;TZID=America/New_York:20250301T080000
DTEND;TZID=America/New_York:20250331T170000
DTSTAMP:20260423T084839
CREATED:20250205T185924Z
LAST-MODIFIED:20250303T174828Z
UID:10009237-1740816000-1743440400@necc.edu
SUMMARY:Women’s History Month Book Display
DESCRIPTION:Explore our Women’s History Month book display featuring stories of resilience\, leadership\, and groundbreaking achievements. From pioneering activists to modern trailblazers\, discover books highlighting women’s diverse voices and contributions throughout history. \nStop by\, get inspired\, and check out a book to honor women’s past\, present\, and future impact on the world! \nCheck out our book display at both campus libraries. \n Print View
URL:https://necc.edu/event/necc-library-womens-history-month-book-display/
LOCATION:All Campuses\, Lawrence\, MA\, United States
CATEGORIES:Library
GEO:42.709053;-71.169601
END:VEVENT
BEGIN:VEVENT
DTSTART;VALUE=DATE:20250317
DTEND;VALUE=DATE:20250323
DTSTAMP:20260423T084839
CREATED:20240709T170622Z
LAST-MODIFIED:20250314T035212Z
UID:10006682-1742169600-1742687999@necc.edu
SUMMARY:Spring break (no classes)
DESCRIPTION:Print View
URL:https://necc.edu/event/spring-break-no-classes-2/
LOCATION:MA
CATEGORIES:Academic Calendar
END:VEVENT
BEGIN:VEVENT
DTSTART;VALUE=DATE:20250317
DTEND;VALUE=DATE:20250329
DTSTAMP:20260423T084839
CREATED:20240709T170621Z
LAST-MODIFIED:20250314T035212Z
UID:10006680-1742169600-1743206399@necc.edu
SUMMARY:Book voucher period for Session II classes
DESCRIPTION:Print View
URL:https://necc.edu/event/book-voucher-period-for-session-ii-classes-2/
LOCATION:MA
CATEGORIES:Academic Calendar
END:VEVENT
BEGIN:VEVENT
DTSTART;VALUE=DATE:20250319
DTEND;VALUE=DATE:20250320
DTSTAMP:20260423T084839
CREATED:20250307T183321Z
LAST-MODIFIED:20250312T134857Z
UID:10009961-1742342400-1742428799@necc.edu
SUMMARY:Nominate this Year's Student Commencement Speaker
DESCRIPTION:NECC Student Commencement Speaker Nomination for 2025 \nIf you have met a graduating student who has a grade point average of 3.5 or above and has impressed you with the contributions he or she has made to the college and/or community\, please consider nominating him or her as this year’s student commencement speaker. Nominations are due March 26th at noon! For more details on this process and the nomination form please visit the Nominate a Student Speaker page \n Print View
URL:https://necc.edu/event/nominate-a-student-speaker/2025-03-19/
LOCATION:All Campuses\, Lawrence\, MA\, United States
CATEGORIES:Professional Studies Center
ORGANIZER;CN="Student Life":MAILTO:studentlife@necc.mass.edu
GEO:42.709053;-71.169601
END:VEVENT
BEGIN:VEVENT
DTSTART;TZID=America/New_York:20250319T113000
DTEND;TZID=America/New_York:20250319T130000
DTSTAMP:20260423T084839
CREATED:20250306T191327Z
LAST-MODIFIED:20250306T191742Z
UID:10009561-1742383800-1742389200@necc.edu
SUMMARY:Spring Break Bloom Bar
DESCRIPTION:Spring Break Bloom Bar: Mason Jar Flower Arranging Fun at the NECC Library! Spring Break is here\, and it’s time to get flower-fabulous! Create your unique bouquet to brighten your office desk with fresh\, springy vibes. Whether you’re a floral pro or just looking for a creative escape while working on-campus\, this is all about staff and faculty having fun and making something beautiful together while students enjoy a break. All materials\, including mason jars\, ribbon\, and flowers\, will be provided—bring your creativity (and maybe a coworker or two). While supplies last.    \nContact Susan at sleonardi@necc.mass.edu if you have any questions.  \n\nWednesday\, March 19th – 11:30 am – 1:00 pm at Bentley Library\, Building A\nThursday\, March 20th – 11:00 am – 12:30 pm at Lawrence Campus Library\, L-007 \n Print View
URL:https://necc.edu/event/spring-break-bloom-bar/
LOCATION:Haverhill Campus\, 100 Elliott St\, Haverhill\, MA\, United States
CATEGORIES:Library,Professional Development
ORGANIZER;CN="Susan Leonardi":MAILTO:sleonardi@necc.mass.edu
GEO:42.797649;-71.05113
X-APPLE-STRUCTURED-LOCATION;VALUE=URI;X-ADDRESS=Haverhill Campus 100 Elliott St Haverhill MA United States;X-APPLE-RADIUS=500;X-TITLE=100 Elliott St:geo:-71.05113,42.797649
END:VEVENT
BEGIN:VEVENT
DTSTART;TZID=America/New_York:20250319T123000
DTEND;TZID=America/New_York:20250319T133000
DTSTAMP:20260423T084839
CREATED:20250114T150326Z
LAST-MODIFIED:20250214T164441Z
UID:10009086-1742387400-1742391000@necc.edu
SUMMARY:Career Exploration Drop-In Hour
DESCRIPTION:Are you considering different majors? Interested in learning more about your career options? \nJoin us on Wednesdays this semester for drop-in hours to explore your career interests\, options\, and learn about helpful career resources! \n  \nCareer Exploration drop-in hour \nEvery Wednesday starting February 5th and ending April 30th. \nThis event is free and NECC students from all majors are welcome to participate. \nCan’t make it on Wednesdays? Visit Handshake for resources or schedule a meeting through Navigate. \n  \nWe welcome requests for sign language interpreting and other access requests (i.e. Computer Aided Real Time (CART)\, etc.). Please contact us with requests and questions: careerservices@necc.mass.edu \n  \nRegister for a calendar reminder: https://necc-mass-edu.zoom.us/meeting/register/WRNSlMHgQ8eDB5CKWajLIQ \n Print View
URL:https://necc.edu/event/career-exploration-drop-in-spring-2025/2025-03-19/
LOCATION:Online\, United States
CATEGORIES:Career Services
ORGANIZER;CN="Career Services":MAILTO:kyeatonhromada@necc.mass.edu
END:VEVENT
BEGIN:VEVENT
DTSTART;TZID=America/New_York:20250319T160000
DTEND;TZID=America/New_York:20250319T180000
DTSTAMP:20260423T084839
CREATED:20250211T170820Z
LAST-MODIFIED:20260406T151312Z
UID:10009396-1742400000-1742407200@necc.edu
SUMMARY:Enrollment Support Extended Hours
DESCRIPTION:Recruitment counselors available every Wednesday to assist with FAFSA\, guided self-placement and orientation \n Print View
URL:https://necc.edu/event/haverhill-campus-after-hours-enrollment-support/2025-03-19/
LOCATION:Haverhill Campus\, 100 Elliott St\, Haverhill\, MA\, United States
CATEGORIES:Info Sessions and Tours
ORGANIZER;CN="Admissions":MAILTO:enrollmentservices@necc.mass.edu
GEO:42.797649;-71.05113
X-APPLE-STRUCTURED-LOCATION;VALUE=URI;X-ADDRESS=Haverhill Campus 100 Elliott St Haverhill MA United States;X-APPLE-RADIUS=500;X-TITLE=100 Elliott St:geo:-71.05113,42.797649
END:VEVENT
END:VCALENDAR