BEGIN:VCALENDAR
VERSION:2.0
PRODID:-//Northern Essex CC - ECPv6.15.12//NONSGML v1.0//EN
CALSCALE:GREGORIAN
METHOD:PUBLISH
X-ORIGINAL-URL:https://necc.edu
X-WR-CALDESC:Events for Northern Essex CC
REFRESH-INTERVAL;VALUE=DURATION:PT1H
X-Robots-Tag:noindex
X-PUBLISHED-TTL:PT1H
BEGIN:VTIMEZONE
TZID:America/New_York
BEGIN:DAYLIGHT
TZOFFSETFROM:-0500
TZOFFSETTO:-0400
TZNAME:EDT
DTSTART:20240310T070000
END:DAYLIGHT
BEGIN:STANDARD
TZOFFSETFROM:-0400
TZOFFSETTO:-0500
TZNAME:EST
DTSTART:20241103T060000
END:STANDARD
BEGIN:DAYLIGHT
TZOFFSETFROM:-0500
TZOFFSETTO:-0400
TZNAME:EDT
DTSTART:20250309T070000
END:DAYLIGHT
BEGIN:STANDARD
TZOFFSETFROM:-0400
TZOFFSETTO:-0500
TZNAME:EST
DTSTART:20251102T060000
END:STANDARD
BEGIN:DAYLIGHT
TZOFFSETFROM:-0500
TZOFFSETTO:-0400
TZNAME:EDT
DTSTART:20260308T070000
END:DAYLIGHT
BEGIN:STANDARD
TZOFFSETFROM:-0400
TZOFFSETTO:-0500
TZNAME:EST
DTSTART:20261101T060000
END:STANDARD
END:VTIMEZONE
BEGIN:VEVENT
DTSTART;VALUE=DATE:20250203
DTEND;VALUE=DATE:20250517
DTSTAMP:20260423T084837
CREATED:20250331T154300Z
LAST-MODIFIED:20250411T162549Z
UID:10010366-1738540800-1747439999@necc.edu
SUMMARY:2025-2026 General Scholarship Deadline
DESCRIPTION:The NECC General Scholarship application has over 42 scholarship opportunities\, which are made possible by the generosity of individual donors\, businesses\, corporations\, and foundations\, all of whom believe that all students should have access to a high-quality education. They are available to you through NECC’s Office of Institutional Advancement. Apply here.  \n Print View
URL:https://necc.edu/event/2025-2026-general-scholarship/
LOCATION:MA
CATEGORIES:Student Life
END:VEVENT
BEGIN:VEVENT
DTSTART;TZID=America/New_York:20250301T080000
DTEND;TZID=America/New_York:20250331T170000
DTSTAMP:20260423T084837
CREATED:20250205T185924Z
LAST-MODIFIED:20250303T174828Z
UID:10009237-1740816000-1743440400@necc.edu
SUMMARY:Women’s History Month Book Display
DESCRIPTION:Explore our Women’s History Month book display featuring stories of resilience\, leadership\, and groundbreaking achievements. From pioneering activists to modern trailblazers\, discover books highlighting women’s diverse voices and contributions throughout history. \nStop by\, get inspired\, and check out a book to honor women’s past\, present\, and future impact on the world! \nCheck out our book display at both campus libraries. \n Print View
URL:https://necc.edu/event/necc-library-womens-history-month-book-display/
LOCATION:All Campuses\, Lawrence\, MA\, United States
CATEGORIES:Library
GEO:42.709053;-71.169601
END:VEVENT
BEGIN:VEVENT
DTSTART;VALUE=DATE:20250317
DTEND;VALUE=DATE:20250329
DTSTAMP:20260423T084837
CREATED:20240709T170621Z
LAST-MODIFIED:20250314T035212Z
UID:10006680-1742169600-1743206399@necc.edu
SUMMARY:Book voucher period for Session II classes
DESCRIPTION:Print View
URL:https://necc.edu/event/book-voucher-period-for-session-ii-classes-2/
LOCATION:MA
CATEGORIES:Academic Calendar
END:VEVENT
BEGIN:VEVENT
DTSTART;VALUE=DATE:20250323
DTEND;VALUE=DATE:20250326
DTSTAMP:20260423T084837
CREATED:20250304T185227Z
LAST-MODIFIED:20250304T190006Z
UID:10009556-1742688000-1742947199@necc.edu
SUMMARY:35th Annual TASS Conference
DESCRIPTION:The Teaching Academic Survival and Success Conference (TASS) is a forum for faculty\, staff\, student support personnel\, administrators and others who help under-prepared students succeed in college and beyond. \nNECC President Lane Glenn will deliver a keynote address. \nMar 23\, 2025 – Mar 26\, 2025\nEmbassy Suites by Hilton in Fort Lauderdale\, FL \nLEARN MORE\nFormer NECC President David Hartleb and Dean David Kelley (retired) played key roles growing the TASS Conference and continue to serve on the TASS Executive Board along with NECC Interim VP of Student Affairs Sharon McDermot. \n Print View
URL:https://necc.edu/event/35th-annual-tass-conference/
LOCATION:Off-Campus\, MA
CATEGORIES:Alumni,Community,Home Page Events,Professional Development
ORGANIZER;CN="TASS Conference":MAILTO:info@tassconference.org
END:VEVENT
BEGIN:VEVENT
DTSTART;VALUE=DATE:20250324
DTEND;VALUE=DATE:20250401
DTSTAMP:20260423T084837
CREATED:20240709T170623Z
LAST-MODIFIED:20250314T035214Z
UID:10006684-1742774400-1743465599@necc.edu
SUMMARY:Add/drop period for Session II classes
DESCRIPTION:Print View
URL:https://necc.edu/event/add-drop-period-for-session-ii-classes-2/
LOCATION:MA
CATEGORIES:Academic Calendar
END:VEVENT
BEGIN:VEVENT
DTSTART;VALUE=DATE:20250325
DTEND;VALUE=DATE:20250326
DTSTAMP:20260423T084837
CREATED:20250307T183321Z
LAST-MODIFIED:20250312T134857Z
UID:10009967-1742860800-1742947199@necc.edu
SUMMARY:Nominate this Year's Student Commencement Speaker
DESCRIPTION:NECC Student Commencement Speaker Nomination for 2025 \nIf you have met a graduating student who has a grade point average of 3.5 or above and has impressed you with the contributions he or she has made to the college and/or community\, please consider nominating him or her as this year’s student commencement speaker. Nominations are due March 26th at noon! For more details on this process and the nomination form please visit the Nominate a Student Speaker page \n Print View
URL:https://necc.edu/event/nominate-a-student-speaker/2025-03-25/
LOCATION:All Campuses\, Lawrence\, MA\, United States
CATEGORIES:Professional Studies Center
ORGANIZER;CN="Student Life":MAILTO:studentlife@necc.mass.edu
GEO:42.709053;-71.169601
END:VEVENT
BEGIN:VEVENT
DTSTART;TZID=America/New_York:20250325T080000
DTEND;TZID=America/New_York:20250325T170000
DTSTAMP:20260423T084837
CREATED:20250325T195554Z
LAST-MODIFIED:20250325T195554Z
UID:10010352-1742889600-1742922000@necc.edu
SUMMARY:test event 2
DESCRIPTION:test 2 \n Print View
URL:https://necc.edu/event/test-event-2/
LOCATION:MA
CATEGORIES:Home Page Events,Justice, Equity, Diversity, and Inclusion
END:VEVENT
BEGIN:VEVENT
DTSTART;TZID=America/New_York:20250325T100000
DTEND;TZID=America/New_York:20250325T110000
DTSTAMP:20260423T084837
CREATED:20240722T173137Z
LAST-MODIFIED:20240905T184931Z
UID:10006788-1742896800-1742900400@necc.edu
SUMMARY:College Systems Trainings
DESCRIPTION:The College Systems Trainings are geared towards providing all employees with onboarding or refreshers on all of our most used college systems on a more consistent basis. Newly hired and seasoned employees are highly encouraged to attend these trainings\, as needed. \n  \nWe have scheduled these trainings to happen Tuesdays and Thursdays in C204-CPD Computer Lab\, Haverhill Campus\, 10am-11am. It is up to the facilitator’s discretion to adjust the meeting\, depending on registrations. \n  \nCheck out our page on NECC One for the list of available trainings and registration.\n Print View
URL:https://necc.edu/event/college-systems-trainings-2024-2025/2025-03-25/
LOCATION:Haverhill Campus\, 100 Elliott St\, Haverhill\, MA\, United States
CATEGORIES:Professional Development
GEO:42.797649;-71.05113
X-APPLE-STRUCTURED-LOCATION;VALUE=URI;X-ADDRESS=Haverhill Campus 100 Elliott St Haverhill MA United States;X-APPLE-RADIUS=500;X-TITLE=100 Elliott St:geo:-71.05113,42.797649
END:VEVENT
BEGIN:VEVENT
DTSTART;TZID=America/New_York:20250325T110000
DTEND;TZID=America/New_York:20250325T120000
DTSTAMP:20260423T084837
CREATED:20250310T160727Z
LAST-MODIFIED:20250310T160727Z
UID:10010336-1742900400-1742904000@necc.edu
SUMMARY:What Can I Do With a Liberal Arts Degree? Panel Discussion
DESCRIPTION:Join us for an inspiring panel discussion about using your liberal arts degree to build a dynamic career. In this session\, you’ll hear how a Liberal Arts education provides transferable skills that can lead to professional opportunities across multiple industries. Our panelists will share their unique career journeys\, demonstrating the incredible opportunities available to Liberal Arts graduates. Don’t miss this opportunity to explore the possibilities for Liberal Arts graduates! \n\nEvent Details:\nDate: Tuesday\, March 25\nTime: 11am-12pm\nLocation: Room C209 \n Print View
URL:https://necc.edu/event/what-can-i-do-with-a-liberal-arts-degree-panel-discussion/
LOCATION:Haverhill Campus\, 100 Elliott St\, Haverhill\, MA\, United States
CATEGORIES:Career Services
ORGANIZER;CN="Center for Liberal Arts":MAILTO:centerforliberalarts@necc.mass.edu
GEO:42.797649;-71.05113
X-APPLE-STRUCTURED-LOCATION;VALUE=URI;X-ADDRESS=Haverhill Campus 100 Elliott St Haverhill MA United States;X-APPLE-RADIUS=500;X-TITLE=100 Elliott St:geo:-71.05113,42.797649
END:VEVENT
BEGIN:VEVENT
DTSTART;TZID=America/New_York:20250325T120000
DTEND;TZID=America/New_York:20250325T140000
DTSTAMP:20260423T084837
CREATED:20250224T205646Z
LAST-MODIFIED:20250224T205647Z
UID:10009543-1742904000-1742911200@necc.edu
SUMMARY:Food Truck: UTEC Breaking Barriers
DESCRIPTION:New for the spring semester\, UTEC’s Breaking Barriers food truck will be on campus each Tuesday\, alternating between Haverhill and Lawrence. \nYou can find UTEC outside the Library and the Student Center in Haverhill on these dates: \n\nJanuary 28\nFebruary 11\nFebruary 27 (Rescheduled from February 25)\nMarch 11\nMarch 25\n\nClick for Menu\n Print View
URL:https://necc.edu/event/food-truck-utec-breaking-barriers-3-2/2025-03-25/
LOCATION:Haverhill Campus\, 100 Elliott St\, Haverhill\, MA\, United States
CATEGORIES:Student Life
GEO:42.797649;-71.05113
X-APPLE-STRUCTURED-LOCATION;VALUE=URI;X-ADDRESS=Haverhill Campus 100 Elliott St Haverhill MA United States;X-APPLE-RADIUS=500;X-TITLE=100 Elliott St:geo:-71.05113,42.797649
END:VEVENT
BEGIN:VEVENT
DTSTART;TZID=America/New_York:20250325T123000
DTEND;TZID=America/New_York:20250325T133000
DTSTAMP:20260423T084837
CREATED:20250113T174909Z
LAST-MODIFIED:20250113T180721Z
UID:10009061-1742905800-1742909400@necc.edu
SUMMARY:Resume Help (Zoom Drop-In Hour)
DESCRIPTION:Are you looking for tips and resources to create a resume? Have questions about updating or making your resume stronger? Join us for Zoom drop-in hours to discuss your resume questions or get guidance to started. \nCan’t make it on Tuesdays? Visit Handshake for resources or schedule a meeting through Navigate. \n  \nResume drop-in hour \nEvery Tuesday starting February 4th and ending April 29th. \nThis event is free and NECC students from all majors are welcome to participate. \nWe welcome requests for sign language interpreting and other access requests (i.e. Computer Aided Real Time (CART)\, etc.). Please contact us with requests and questions: careerservices@necc.mass.edu \n  \nRegister for Zoom link and a calendar reminder: https://necc-mass-edu.zoom.us/meeting/register/2uTvcsZeTDaN0mPApIFWDg \n Print View
URL:https://necc.edu/event/resume-help-spring2025/2025-03-25/
LOCATION:Online\, United States
CATEGORIES:Career Services
ORGANIZER;CN="Career Services":MAILTO:kyeatonhromada@necc.mass.edu
END:VEVENT
BEGIN:VEVENT
DTSTART;TZID=America/New_York:20250325T130000
DTEND;TZID=America/New_York:20250325T140000
DTSTAMP:20260423T084837
CREATED:20250207T125614Z
LAST-MODIFIED:20250207T125614Z
UID:10009243-1742907600-1742911200@necc.edu
SUMMARY:Dental Assisting Information Session - Online
DESCRIPTION:At the Information Session you can learn more about what it’s like to be a student in NECC’s Dental Program.\nAttend a Dental Assisting Information Session and Learn More About the Program and NECC\nJoin us for a Dental Assisting Program Information Session and you can: \n\nGet answers to all of your questions about the Dental Assisting Certificate and NECC.\nDiscover career pathways.\n\nDental assistants provide patient care and maintain patient records\, in addition to working closely with dentists and dental hygienists and assisting during procedures and examinations. Job opportunities are excellent and are expected to continue to grow\, especially as research continues to show the link between oral health and overall health. \nThe NECC Dental Assisting Certificate is a criteria-based health program and therefore requires students to attend an information session. \nView all of the Health Information Session Dates \nRegister in Advance\nPlease register online here in advance for the information session. \nThe meeting will take place online with Zoom. After registering\, you will receive a confirmation email containing information about joining the meeting. \nMore Information\nFor more information\, or for sign language interpreting\, please contact Davann Chhem\, Program Coordinator at 978-738-7657. \n Print View
URL:https://necc.edu/event/dental-assisting-information-session-online-4/
LOCATION:MA
CATEGORIES:Dental Info Sessions,Health Info Sessions
ORGANIZER;CN="Davann Chhem":MAILTO:dchhem@necc.mass.edu
END:VEVENT
BEGIN:VEVENT
DTSTART;TZID=America/New_York:20250325T130000
DTEND;TZID=America/New_York:20250325T140000
DTSTAMP:20260423T084837
CREATED:20250207T130558Z
LAST-MODIFIED:20250207T130617Z
UID:10009244-1742907600-1742911200@necc.edu
SUMMARY:Dental Assisting Information Session - Online
DESCRIPTION:At the Information Session you can learn more about what it’s like to be a student in NECC’s Dental Program.\nAttend a Dental Assisting Information Session and Learn More About the Program and NECC\nJoin us for a Dental Assisting Program Information Session and you can: \n\nGet answers to all of your questions about the Dental Assisting Certificate and NECC.\nDiscover career pathways.\n\nDental assistants provide patient care and maintain patient records\, in addition to working closely with dentists and dental hygienists and assisting during procedures and examinations. Job opportunities are excellent and are expected to continue to grow\, especially as research continues to show the link between oral health and overall health. \nThe NECC Dental Assisting Certificate is a criteria-based health program and therefore requires students to attend an information session. \nView all of the Health Information Session Dates \nRegister in Advance\nPlease register online here in advance for the information session. \nThe meeting will take place online with Zoom. After registering\, you will receive a confirmation email containing information about joining the meeting. \nMore Information\nFor more information\, or for sign language interpreting\, please contact Davann Chhem\, Program Coordinator at 978-738-7657. \n Print View
URL:https://necc.edu/event/dental-assisting-information-session-online-5/
LOCATION:MA
CATEGORIES:Dental Info Sessions,Health Info Sessions
ORGANIZER;CN="Davann Chhem":MAILTO:dchhem@necc.mass.edu
END:VEVENT
END:VCALENDAR