BEGIN:VCALENDAR
VERSION:2.0
PRODID:-//Northern Essex CC - ECPv6.15.12//NONSGML v1.0//EN
CALSCALE:GREGORIAN
METHOD:PUBLISH
X-ORIGINAL-URL:https://necc.edu
X-WR-CALDESC:Events for Northern Essex CC
REFRESH-INTERVAL;VALUE=DURATION:PT1H
X-Robots-Tag:noindex
X-PUBLISHED-TTL:PT1H
BEGIN:VTIMEZONE
TZID:America/New_York
BEGIN:DAYLIGHT
TZOFFSETFROM:-0500
TZOFFSETTO:-0400
TZNAME:EDT
DTSTART:20240310T070000
END:DAYLIGHT
BEGIN:STANDARD
TZOFFSETFROM:-0400
TZOFFSETTO:-0500
TZNAME:EST
DTSTART:20241103T060000
END:STANDARD
BEGIN:DAYLIGHT
TZOFFSETFROM:-0500
TZOFFSETTO:-0400
TZNAME:EDT
DTSTART:20250309T070000
END:DAYLIGHT
BEGIN:STANDARD
TZOFFSETFROM:-0400
TZOFFSETTO:-0500
TZNAME:EST
DTSTART:20251102T060000
END:STANDARD
BEGIN:DAYLIGHT
TZOFFSETFROM:-0500
TZOFFSETTO:-0400
TZNAME:EDT
DTSTART:20260308T070000
END:DAYLIGHT
BEGIN:STANDARD
TZOFFSETFROM:-0400
TZOFFSETTO:-0500
TZNAME:EST
DTSTART:20261101T060000
END:STANDARD
END:VTIMEZONE
BEGIN:VEVENT
DTSTART;VALUE=DATE:20250203
DTEND;VALUE=DATE:20250517
DTSTAMP:20260423T084723
CREATED:20250331T154300Z
LAST-MODIFIED:20250411T162549Z
UID:10010366-1738540800-1747439999@necc.edu
SUMMARY:2025-2026 General Scholarship Deadline
DESCRIPTION:The NECC General Scholarship application has over 42 scholarship opportunities\, which are made possible by the generosity of individual donors\, businesses\, corporations\, and foundations\, all of whom believe that all students should have access to a high-quality education. They are available to you through NECC’s Office of Institutional Advancement. Apply here.  \n Print View
URL:https://necc.edu/event/2025-2026-general-scholarship/
LOCATION:MA
CATEGORIES:Student Life
END:VEVENT
BEGIN:VEVENT
DTSTART;TZID=America/New_York:20250401T080000
DTEND;TZID=America/New_York:20250430T170000
DTSTAMP:20260423T084723
CREATED:20250205T190505Z
LAST-MODIFIED:20250411T162629Z
UID:10009238-1743494400-1746032400@necc.edu
SUMMARY:Book Display: National Poetry Month
DESCRIPTION:April is National Poetry Month\, a time to celebrate the power of words\, rhythm\, and storytelling. Established by the Academy of American Poets\, this month highlights the impact of poetry on culture\, history\, and personal expression. Whether discovering classic poets or exploring contemporary voices\, poetry uniquely reflects on the world and our place in it. \nVisit our library book displays to explore a diverse selection of poetry books and get inspired!  \n Print View
URL:https://necc.edu/event/necc-library-national-poetry-month-book-display/
LOCATION:All Campuses\, Lawrence\, MA\, United States
CATEGORIES:Library
ORGANIZER;CN="Susan Leonardi":MAILTO:sleonardi@necc.mass.edu
GEO:42.709053;-71.169601
END:VEVENT
BEGIN:VEVENT
DTSTART;TZID=America/New_York:20250402T094500
DTEND;TZID=America/New_York:20250402T104500
DTSTAMP:20260423T084723
CREATED:20250219T233923Z
LAST-MODIFIED:20250219T233923Z
UID:10009523-1743587100-1743590700@necc.edu
SUMMARY:Elevator Pitch
DESCRIPTION:Learn how to create and deliver an effective and memorable elevator pitch\, a short but compelling summary of what you have to offer potential employers and business contacts. A strong elevator pitch will help you make a positive impression when networking\, interviewing\, and introducing yourself at business events- join us for this interactive workshop where you’ll learn how to develop your own unique “commercial” to market yourself and deliver it with confidence. \n\nThis workshop will be led by guest presenter Hailee Centrella\, College Relationship Development Manager at ALKU Staffing\, on Wednesday\, April 2nd at 9:45am in the Center for Business and Professional Studies\, room C203.  \n Print View
URL:https://necc.edu/event/elevator-pitch-spring2025/
LOCATION:Haverhill Campus\, 100 Elliott St\, Haverhill\, MA\, United States
CATEGORIES:Career Services
ORGANIZER;CN="Career Services":MAILTO:kyeatonhromada@necc.mass.edu
GEO:42.797649;-71.05113
X-APPLE-STRUCTURED-LOCATION;VALUE=URI;X-ADDRESS=Haverhill Campus 100 Elliott St Haverhill MA United States;X-APPLE-RADIUS=500;X-TITLE=100 Elliott St:geo:-71.05113,42.797649
END:VEVENT
BEGIN:VEVENT
DTSTART;TZID=America/New_York:20250402T100000
DTEND;TZID=America/New_York:20250402T110000
DTSTAMP:20260423T084723
CREATED:20250331T144318Z
LAST-MODIFIED:20250331T144318Z
UID:10010364-1743588000-1743591600@necc.edu
SUMMARY:Sleep Technology Certificate Information Session
DESCRIPTION:If a Career in Sleep Medicine Interest You\, Then Attend Sleep Technology Certificate Information Session and Get Your Questions Answered\nNECC can prepare you for a career as a sleep technologist. Learn to diagnose sleep disorders in a sleep lab. At the Sleep Technology Certificate Information Session you can find out more about our state-of-the-art sleep lab\, and also learn more about our schedule-friendly hybrid program! In the hybrid program you will complete most coursework online\, and attend class one Saturday a month. View the Sleep Technologist Certificate Program page for additional details about the program. \nLocation and Parking\nLawrence Campus\,\nEl-Hefni Allied Health and Technology Center\n414 Common Street. \nView visitor parking information. \nMore Information\nFor more information\, or for sign language interpreting or access requests (including food-related allergies)\, please contact: \nLyn Blythe\nPhone: 978-665-5892\nEmail: lblythe@necc.mass.edu. \n Print View
URL:https://necc.edu/event/sleep-technology-certificate-information-session/
LOCATION:MA
CATEGORIES:Health Info Sessions,Sleep Tech Info Session
ORGANIZER;CN="Lyn Blythe":MAILTO:lblythe@necc.mass.edu
END:VEVENT
BEGIN:VEVENT
DTSTART;TZID=America/New_York:20250402T100000
DTEND;TZID=America/New_York:20250402T133000
DTSTAMP:20260423T084723
CREATED:20240405T150154Z
LAST-MODIFIED:20250218T184306Z
UID:10006084-1743588000-1743600600@necc.edu
SUMMARY:Transfer Event - Regis College Campus Visit -Haverhill
DESCRIPTION:Building Character\, Confidence\, and Careers for Nearly 100 Years!\n  \nExplore All That Regis Has to Offer!\n \nCome speak to a Transfer Counselor on the exceptional undergraduate degree programs on Wednesday\, April 2nd Spurk ( C ) Building Lobby\nArts and Sciences – Business and Communication  – Health Sciences  –  Professional Studies  –  Nursing   \nBe part of the diverse and dynamic student body via on-campus\, hybrid\, and online modalities.\n Print View
URL:https://necc.edu/event/transfer-event-regis-college-campus-visit/
LOCATION:Haverhill Campus\, 100 Elliott St\, Haverhill\, MA\, United States
CATEGORIES:Transfer Events
ORGANIZER;CN="Deb LaValley":MAILTO:dlavalley@necc.mass.edu
GEO:42.797649;-71.05113
X-APPLE-STRUCTURED-LOCATION;VALUE=URI;X-ADDRESS=Haverhill Campus 100 Elliott St Haverhill MA United States;X-APPLE-RADIUS=500;X-TITLE=100 Elliott St:geo:-71.05113,42.797649
END:VEVENT
BEGIN:VEVENT
DTSTART;TZID=America/New_York:20250402T113000
DTEND;TZID=America/New_York:20250402T123000
DTSTAMP:20260423T084723
CREATED:20250324T194706Z
LAST-MODIFIED:20250401T135223Z
UID:10010351-1743593400-1743597000@necc.edu
SUMMARY:Spill the Tea: A Women’s Health Panel
DESCRIPTION:Join us to “Spill the Tea” with a panel discussing health literacy and advocacy for women working in health spaces today.  In celebration of Women’s History Month\, our expert panel featuring Mariel Batista\, M.S\, Lucia Rondon\, MS\, BPH\, CHW\, and Amanda Prophett\, MPH\, CHES\, will discuss wellness\, self-care\, and healthcare issues affecting women today. Enjoy mini sandwiches\, tea\, and cookies while engaging in an open dialogue with fellow students\, staff\, and faculty. This event will be telecast at the Dr. Ibrahim El-Hefni Allied Health & Technology Center\, LC 129. \nWe welcome requests for ASL sign language interpreting and other ADA access requests. For questions about event information\, please contact Suzanne Reyes at sreyes1@necc.mass.edu or Susan Leonardi at sleonardi@necc.mass.edu. \n  \n  \n  \n Print View
URL:https://necc.edu/event/spill-the-tea-a-womens-health-pane/
LOCATION:Haverhill Campus\, 100 Elliott St\, Haverhill\, MA\, United States
CATEGORIES:Library,Professional Development,Student Activities,Student Life
ORGANIZER;CN="Susan Leonardi":MAILTO:sleonardi@necc.mass.edu
GEO:42.797649;-71.05113
X-APPLE-STRUCTURED-LOCATION;VALUE=URI;X-ADDRESS=Haverhill Campus 100 Elliott St Haverhill MA United States;X-APPLE-RADIUS=500;X-TITLE=100 Elliott St:geo:-71.05113,42.797649
END:VEVENT
BEGIN:VEVENT
DTSTART;TZID=America/New_York:20250402T123000
DTEND;TZID=America/New_York:20250402T133000
DTSTAMP:20260423T084723
CREATED:20250114T150326Z
LAST-MODIFIED:20250214T164441Z
UID:10009088-1743597000-1743600600@necc.edu
SUMMARY:Career Exploration Drop-In Hour
DESCRIPTION:Are you considering different majors? Interested in learning more about your career options? \nJoin us on Wednesdays this semester for drop-in hours to explore your career interests\, options\, and learn about helpful career resources! \n  \nCareer Exploration drop-in hour \nEvery Wednesday starting February 5th and ending April 30th. \nThis event is free and NECC students from all majors are welcome to participate. \nCan’t make it on Wednesdays? Visit Handshake for resources or schedule a meeting through Navigate. \n  \nWe welcome requests for sign language interpreting and other access requests (i.e. Computer Aided Real Time (CART)\, etc.). Please contact us with requests and questions: careerservices@necc.mass.edu \n  \nRegister for a calendar reminder: https://necc-mass-edu.zoom.us/meeting/register/WRNSlMHgQ8eDB5CKWajLIQ \n Print View
URL:https://necc.edu/event/career-exploration-drop-in-spring-2025/2025-04-02/
LOCATION:Online\, United States
CATEGORIES:Career Services
ORGANIZER;CN="Career Services":MAILTO:kyeatonhromada@necc.mass.edu
END:VEVENT
BEGIN:VEVENT
DTSTART;TZID=America/New_York:20250402T123000
DTEND;TZID=America/New_York:20250402T133000
DTSTAMP:20260423T084723
CREATED:20250320T152327Z
LAST-MODIFIED:20250320T152327Z
UID:10010348-1743597000-1743600600@necc.edu
SUMMARY:Educational Opportunity to Learn about Ramadan & Sample Middle Eastern & North African Cuisine
DESCRIPTION:Have you ever been curious about Ramadan?  Have you ever wanted to try Middle Eastern and North African food?  \n  \nThen join us on Wednesday\, April 2 in Haverhill for an educational opportunity to learn about Ramadan from Saida Mofid\, NECC staff member in Accounting & Finance and sample some food.  \n  \nWhen: Wednesday\, April 2\, 2025 \nWhere: Haverhill\, Room B218 \nTime: 12:30pm – 1:30pm \n  \nWe welcome requests for sign language interpreting and other access requests.  Please contact Maria Hernandez at mhernandez@necc.mass.edu for requests\, questions or event information. \n Print View
URL:https://necc.edu/event/educational-opportunity-to-learn-about-ramadan-sample-middle-eastern-north-african-cuisine/
LOCATION:Haverhill Campus\, 100 Elliott St\, Haverhill\, MA\, United States
CATEGORIES:Student Life
ORGANIZER;CN="Maria Hernandez":MAILTO:mhernandez@necc.mass.edu
GEO:42.797649;-71.05113
X-APPLE-STRUCTURED-LOCATION;VALUE=URI;X-ADDRESS=Haverhill Campus 100 Elliott St Haverhill MA United States;X-APPLE-RADIUS=500;X-TITLE=100 Elliott St:geo:-71.05113,42.797649
END:VEVENT
BEGIN:VEVENT
DTSTART;TZID=America/New_York:20250402T150000
DTEND;TZID=America/New_York:20250402T163000
DTSTAMP:20260423T084723
CREATED:20240625T180056Z
LAST-MODIFIED:20250508T175302Z
UID:10008883-1743606000-1743611400@necc.edu
SUMMARY:Campus Tour and Info Session
DESCRIPTION:Campus Tour and Information Session\nVisit us on the Haverhill Campus for an information session and a tour led by one of our admission counselors. We can’t wait to meet you in person and show you all that NECC has to offer.  \nLocation: \nStudent Center Room 104 \n100 Elliott St. Haverhill\, MA 01830 \nRegister Now!  \n Print View
URL:https://necc.edu/event/haverhill-campus-tour-and-information-session-3/2025-04-02/
LOCATION:Haverhill Campus\, 100 Elliott St\, Haverhill\, MA\, United States
CATEGORIES:All Info Sessions,Info Sessions & Tours - Haverhill,Info Sessions and Tours
ORGANIZER;CN="Admissions":MAILTO:enrollmentservices@necc.mass.edu
GEO:42.797649;-71.05113
X-APPLE-STRUCTURED-LOCATION;VALUE=URI;X-ADDRESS=Haverhill Campus 100 Elliott St Haverhill MA United States;X-APPLE-RADIUS=500;X-TITLE=100 Elliott St:geo:-71.05113,42.797649
END:VEVENT
BEGIN:VEVENT
DTSTART;TZID=America/New_York:20250402T160000
DTEND;TZID=America/New_York:20250402T180000
DTSTAMP:20260423T084723
CREATED:20250211T170820Z
LAST-MODIFIED:20260406T151312Z
UID:10009398-1743609600-1743616800@necc.edu
SUMMARY:Enrollment Support Extended Hours
DESCRIPTION:Recruitment counselors available every Wednesday to assist with FAFSA\, guided self-placement and orientation \n Print View
URL:https://necc.edu/event/haverhill-campus-after-hours-enrollment-support/2025-04-02/
LOCATION:Haverhill Campus\, 100 Elliott St\, Haverhill\, MA\, United States
CATEGORIES:Info Sessions and Tours
ORGANIZER;CN="Admissions":MAILTO:enrollmentservices@necc.mass.edu
GEO:42.797649;-71.05113
X-APPLE-STRUCTURED-LOCATION;VALUE=URI;X-ADDRESS=Haverhill Campus 100 Elliott St Haverhill MA United States;X-APPLE-RADIUS=500;X-TITLE=100 Elliott St:geo:-71.05113,42.797649
END:VEVENT
BEGIN:VEVENT
DTSTART;TZID=America/New_York:20250402T160000
DTEND;TZID=America/New_York:20250402T183000
DTSTAMP:20260423T084723
CREATED:20250321T165602Z
LAST-MODIFIED:20250321T165602Z
UID:10010350-1743609600-1743618600@necc.edu
SUMMARY:NECC's Giving Day Kick Off Event at G's In Haverhill
DESCRIPTION:On the evening of Wednesday\, April 2\, NECC will host a kickoff event at G’s Texas Southern Flare at 3 Washington Street in downtown Haverhill. \nStop by at any time between 4 and 6:30 p.m. to chat with us\, donate\, or purchase food. Thanks to the generous support of owners NECC Alumnus Matt and Denise Gaiero\, a portion of all food and drink proceeds will support the NECC Fund! \nCash bar\, light snacks provided. \nFor planning purposes\, registration is encouraged: NECC’S Day Giving Day Kick-off at G’s \nYou can make your gift to the NECC Fund today with your kick-off registration\, and it will count toward our 04.03.24 “Day of Giving” celebration total! \n  \n Print View
URL:https://necc.edu/event/neccs-giving-day-kick-off-event-at-gs-in-haverhill/
LOCATION:MA
CATEGORIES:Alumni,Student Life
END:VEVENT
BEGIN:VEVENT
DTSTART;TZID=America/New_York:20250402T190000
DTEND;TZID=America/New_York:20250402T210000
DTSTAMP:20260423T084723
CREATED:20250212T182314Z
LAST-MODIFIED:20250212T182314Z
UID:10009469-1743620400-1743627600@necc.edu
SUMMARY:28th Music Cabaret
DESCRIPTION:This will be the 28th Cabaret that the Choral and Music Club along with the Music Department will be hosting!    \nThis event will raise money for both the Music Program towards future field trips and for our memorial Music Scholarship fund in honor of Bonnie Surowiec a 2009 NECC Music graduate.   \n$5.00 admission \nProfessor Alisa Bucchiere\nMusic Coordinator\n#NECCMusicThrives \n Print View
URL:https://necc.edu/event/28th-music-cabaret/
LOCATION:Haverhill Campus\, 100 Elliott St\, Haverhill\, MA\, United States
CATEGORIES:Student Life
ORGANIZER;CN="Alisa Bucchiere":MAILTO:abucchiere@necc.mass.edu
GEO:42.797649;-71.05113
X-APPLE-STRUCTURED-LOCATION;VALUE=URI;X-ADDRESS=Haverhill Campus 100 Elliott St Haverhill MA United States;X-APPLE-RADIUS=500;X-TITLE=100 Elliott St:geo:-71.05113,42.797649
END:VEVENT
END:VCALENDAR