BEGIN:VCALENDAR
VERSION:2.0
PRODID:-//Northern Essex CC - ECPv6.15.12//NONSGML v1.0//EN
CALSCALE:GREGORIAN
METHOD:PUBLISH
X-ORIGINAL-URL:https://necc.edu
X-WR-CALDESC:Events for Northern Essex CC
REFRESH-INTERVAL;VALUE=DURATION:PT1H
X-Robots-Tag:noindex
X-PUBLISHED-TTL:PT1H
BEGIN:VTIMEZONE
TZID:America/New_York
BEGIN:DAYLIGHT
TZOFFSETFROM:-0500
TZOFFSETTO:-0400
TZNAME:EDT
DTSTART:20240310T070000
END:DAYLIGHT
BEGIN:STANDARD
TZOFFSETFROM:-0400
TZOFFSETTO:-0500
TZNAME:EST
DTSTART:20241103T060000
END:STANDARD
BEGIN:DAYLIGHT
TZOFFSETFROM:-0500
TZOFFSETTO:-0400
TZNAME:EDT
DTSTART:20250309T070000
END:DAYLIGHT
BEGIN:STANDARD
TZOFFSETFROM:-0400
TZOFFSETTO:-0500
TZNAME:EST
DTSTART:20251102T060000
END:STANDARD
BEGIN:DAYLIGHT
TZOFFSETFROM:-0500
TZOFFSETTO:-0400
TZNAME:EDT
DTSTART:20260308T070000
END:DAYLIGHT
BEGIN:STANDARD
TZOFFSETFROM:-0400
TZOFFSETTO:-0500
TZNAME:EST
DTSTART:20261101T060000
END:STANDARD
END:VTIMEZONE
BEGIN:VEVENT
DTSTART;VALUE=DATE:20250203
DTEND;VALUE=DATE:20250517
DTSTAMP:20260423T084724
CREATED:20250331T154300Z
LAST-MODIFIED:20250411T162549Z
UID:10010366-1738540800-1747439999@necc.edu
SUMMARY:2025-2026 General Scholarship Deadline
DESCRIPTION:The NECC General Scholarship application has over 42 scholarship opportunities\, which are made possible by the generosity of individual donors\, businesses\, corporations\, and foundations\, all of whom believe that all students should have access to a high-quality education. They are available to you through NECC’s Office of Institutional Advancement. Apply here.  \n Print View
URL:https://necc.edu/event/2025-2026-general-scholarship/
LOCATION:MA
CATEGORIES:Student Life
END:VEVENT
BEGIN:VEVENT
DTSTART;TZID=America/New_York:20250401T080000
DTEND;TZID=America/New_York:20250430T170000
DTSTAMP:20260423T084724
CREATED:20250205T190505Z
LAST-MODIFIED:20250411T162629Z
UID:10009238-1743494400-1746032400@necc.edu
SUMMARY:Book Display: National Poetry Month
DESCRIPTION:April is National Poetry Month\, a time to celebrate the power of words\, rhythm\, and storytelling. Established by the Academy of American Poets\, this month highlights the impact of poetry on culture\, history\, and personal expression. Whether discovering classic poets or exploring contemporary voices\, poetry uniquely reflects on the world and our place in it. \nVisit our library book displays to explore a diverse selection of poetry books and get inspired!  \n Print View
URL:https://necc.edu/event/necc-library-national-poetry-month-book-display/
LOCATION:All Campuses\, Lawrence\, MA\, United States
CATEGORIES:Library
ORGANIZER;CN="Susan Leonardi":MAILTO:sleonardi@necc.mass.edu
GEO:42.709053;-71.169601
END:VEVENT
BEGIN:VEVENT
DTSTART;TZID=America/New_York:20250404T080000
DTEND;TZID=America/New_York:20250404T160000
DTSTAMP:20260423T084724
CREATED:20250402T164210Z
LAST-MODIFIED:20250411T162900Z
UID:10010374-1743753600-1743782400@necc.edu
SUMMARY:Pop-Up Show: Art & Design Foundations
DESCRIPTION:Department of Art & Design presents the Foundations Pop-Up Show \nOpening Reception – Thursday\, April 3rd 11:30-12:30 \n  \nShow runs from Thursday\, April 3rd through Monday\, April 14th \nMon-Thurs 8:00am-8:00pm and Friday 8:00am-4:00pm\, Closed Saturday & Sunday  \n  \nLinda Hummel-Shea ArtSpace Gallery in the NECC Haverhill Campus Library \n  \nPlease contact Art & Design Department Chair Michelle Carter for more information.   \n  \n Print View
URL:https://necc.edu/event/department-of-art-design-foundations-pop-up-show/2025-04-04/
LOCATION:Haverhill Campus\, 100 Elliott St\, Haverhill\, MA\, United States
CATEGORIES:Student Life
ORGANIZER;CN="Michelle Carter":MAILTO:mcarter@necc.mass.edu
GEO:42.797649;-71.05113
X-APPLE-STRUCTURED-LOCATION;VALUE=URI;X-ADDRESS=Haverhill Campus 100 Elliott St Haverhill MA United States;X-APPLE-RADIUS=500;X-TITLE=100 Elliott St:geo:-71.05113,42.797649
END:VEVENT
BEGIN:VEVENT
DTSTART;TZID=America/New_York:20250404T090000
DTEND;TZID=America/New_York:20250404T120000
DTSTAMP:20260423T084724
CREATED:20250311T183648Z
LAST-MODIFIED:20250311T183648Z
UID:10010338-1743757200-1743768000@necc.edu
SUMMARY:Police Academy Training
DESCRIPTION:For community awareness\, the NECC Police Academy will be conducting scenario training on these dates: \n\nApril 4\nApril 14\nApril 15\nApril 16\nApril 18 (at 4:00 p.m.)\nApril 22\n\nUnless otherwise noted\, all training begins at 9:00 a.m. \nMost training will be held within the NECC Police Academy\, located in the lower level of the B and E buildings on the Haverhill campus. Some training may be held outside in the quad area outside the B and E buildings. Such training would comprise evidence searches\, and NOT simulated arrests. \nYou may see a number of police vehicles parked on campus.  \nThe NECC Police Academy is coordinating with NECC Chief of Police\, David Hobbs. \nIf you have questions or concerns\, please contact Joshua Stokel\, director of the police academy\, at jstokel@necc.mass.edu. \n Print View
URL:https://necc.edu/event/police-academy-training-april-4/
LOCATION:Haverhill Campus\, 100 Elliott St\, Haverhill\, MA\, United States
CATEGORIES:Community,Student Support Resources
ORGANIZER;CN="NECC Police Academy":MAILTO:jstokel@necc.mass.edu
GEO:42.797649;-71.05113
X-APPLE-STRUCTURED-LOCATION;VALUE=URI;X-ADDRESS=Haverhill Campus 100 Elliott St Haverhill MA United States;X-APPLE-RADIUS=500;X-TITLE=100 Elliott St:geo:-71.05113,42.797649
END:VEVENT
BEGIN:VEVENT
DTSTART;TZID=America/New_York:20250404T140000
DTEND;TZID=America/New_York:20250404T153000
DTSTAMP:20260423T084724
CREATED:20250213T180906Z
LAST-MODIFIED:20250213T180906Z
UID:10009502-1743775200-1743780600@necc.edu
SUMMARY:English Conversation Group
DESCRIPTION:English Conversation Group: This casual conversation group is open to current NECC students to talk about different topics and practice our English. \nWe will meet on Fridays at 2:00 in the Lawrence campus library (L-007 in Dimitry). \n(Fridays\, 2:00-3:30\, February 21-April 11; NOT on March 14) \nPlease email Grace at sspaulding@necc.mass.edu to sign up and with any questions. \n Print View
URL:https://necc.edu/event/english-conversation-group/2025-04-04/
LOCATION:Lawrence Campus\, Lawrence\, MA\, United States
CATEGORIES:Library
GEO:42.70734;-71.161052
END:VEVENT
END:VCALENDAR