BEGIN:VCALENDAR
VERSION:2.0
PRODID:-//Northern Essex CC - ECPv6.15.12//NONSGML v1.0//EN
CALSCALE:GREGORIAN
METHOD:PUBLISH
X-WR-CALNAME:Northern Essex CC
X-ORIGINAL-URL:https://necc.edu
X-WR-CALDESC:Events for Northern Essex CC
REFRESH-INTERVAL;VALUE=DURATION:PT1H
X-Robots-Tag:noindex
X-PUBLISHED-TTL:PT1H
BEGIN:VTIMEZONE
TZID:America/New_York
BEGIN:DAYLIGHT
TZOFFSETFROM:-0500
TZOFFSETTO:-0400
TZNAME:EDT
DTSTART:20240310T070000
END:DAYLIGHT
BEGIN:STANDARD
TZOFFSETFROM:-0400
TZOFFSETTO:-0500
TZNAME:EST
DTSTART:20241103T060000
END:STANDARD
BEGIN:DAYLIGHT
TZOFFSETFROM:-0500
TZOFFSETTO:-0400
TZNAME:EDT
DTSTART:20250309T070000
END:DAYLIGHT
BEGIN:STANDARD
TZOFFSETFROM:-0400
TZOFFSETTO:-0500
TZNAME:EST
DTSTART:20251102T060000
END:STANDARD
BEGIN:DAYLIGHT
TZOFFSETFROM:-0500
TZOFFSETTO:-0400
TZNAME:EDT
DTSTART:20260308T070000
END:DAYLIGHT
BEGIN:STANDARD
TZOFFSETFROM:-0400
TZOFFSETTO:-0500
TZNAME:EST
DTSTART:20261101T060000
END:STANDARD
END:VTIMEZONE
BEGIN:VEVENT
DTSTART;VALUE=DATE:20250203
DTEND;VALUE=DATE:20250517
DTSTAMP:20260423T101930
CREATED:20250331T154300Z
LAST-MODIFIED:20250411T162549Z
UID:10010366-1738540800-1747439999@necc.edu
SUMMARY:2025-2026 General Scholarship Deadline
DESCRIPTION:The NECC General Scholarship application has over 42 scholarship opportunities\, which are made possible by the generosity of individual donors\, businesses\, corporations\, and foundations\, all of whom believe that all students should have access to a high-quality education. They are available to you through NECC’s Office of Institutional Advancement. Apply here.  \n Print View
URL:https://necc.edu/event/2025-2026-general-scholarship/
LOCATION:MA
CATEGORIES:Student Life
END:VEVENT
BEGIN:VEVENT
DTSTART;TZID=America/New_York:20250401T080000
DTEND;TZID=America/New_York:20250430T170000
DTSTAMP:20260423T101930
CREATED:20250205T190505Z
LAST-MODIFIED:20250411T162629Z
UID:10009238-1743494400-1746032400@necc.edu
SUMMARY:Book Display: National Poetry Month
DESCRIPTION:April is National Poetry Month\, a time to celebrate the power of words\, rhythm\, and storytelling. Established by the Academy of American Poets\, this month highlights the impact of poetry on culture\, history\, and personal expression. Whether discovering classic poets or exploring contemporary voices\, poetry uniquely reflects on the world and our place in it. \nVisit our library book displays to explore a diverse selection of poetry books and get inspired!  \n Print View
URL:https://necc.edu/event/necc-library-national-poetry-month-book-display/
LOCATION:All Campuses\, Lawrence\, MA\, United States
CATEGORIES:Library
ORGANIZER;CN="Susan Leonardi":MAILTO:sleonardi@necc.mass.edu
GEO:42.709053;-71.169601
END:VEVENT
BEGIN:VEVENT
DTSTART;VALUE=DATE:20250407
DTEND;VALUE=DATE:20250510
DTSTAMP:20260423T101930
CREATED:20250331T154532Z
LAST-MODIFIED:20250411T162744Z
UID:10010367-1743984000-1746835199@necc.edu
SUMMARY:C.O.R.E. Scholarship Deadline
DESCRIPTION:The Summer Financial Aid C.O.R.E. Scholarship application will be available online from April 9 until May 9. Please be aware that the application may close early depending on available funding for the semester. \nApply here.  \n  \n  \n Print View
URL:https://necc.edu/event/financial-aid-c-o-r-e-scholarship-2/
LOCATION:MA
CATEGORIES:Student Life
END:VEVENT
BEGIN:VEVENT
DTSTART;VALUE=DATE:20250407
DTEND;VALUE=DATE:20250408
DTSTAMP:20260423T101930
CREATED:20240709T170625Z
LAST-MODIFIED:20250314T035227Z
UID:10006689-1743984000-1744070399@necc.edu
SUMMARY:Fall advising and registration begins
DESCRIPTION:Print View
URL:https://necc.edu/event/fall-advising-and-registration-begins/
LOCATION:MA
CATEGORIES:Academic Calendar,Registration
ATTACH;FMTTYPE=image/jpeg:https://necc.edu/wp-content/uploads/home/fall-hero_2023-B-scaled.jpg
END:VEVENT
BEGIN:VEVENT
DTSTART;VALUE=DATE:20250407
DTEND;VALUE=DATE:20250408
DTSTAMP:20260423T101930
CREATED:20240709T170626Z
LAST-MODIFIED:20250314T035216Z
UID:10006690-1743984000-1744070399@necc.edu
SUMMARY:No Show (NS) rosters due for Session II classes
DESCRIPTION:Print View
URL:https://necc.edu/event/no-show-ns-rosters-due-for-session-ii-classes/
LOCATION:MA
CATEGORIES:Academic Calendar
END:VEVENT
BEGIN:VEVENT
DTSTART;TZID=America/New_York:20250407T080000
DTEND;TZID=America/New_York:20250407T200000
DTSTAMP:20260423T101930
CREATED:20250402T164210Z
LAST-MODIFIED:20250411T162900Z
UID:10010375-1744012800-1744056000@necc.edu
SUMMARY:Pop-Up Show: Art & Design Foundations
DESCRIPTION:Department of Art & Design presents the Foundations Pop-Up Show \nOpening Reception – Thursday\, April 3rd 11:30-12:30 \n  \nShow runs from Thursday\, April 3rd through Monday\, April 14th \nMon-Thurs 8:00am-8:00pm and Friday 8:00am-4:00pm\, Closed Saturday & Sunday  \n  \nLinda Hummel-Shea ArtSpace Gallery in the NECC Haverhill Campus Library \n  \nPlease contact Art & Design Department Chair Michelle Carter for more information.   \n  \n Print View
URL:https://necc.edu/event/department-of-art-design-foundations-pop-up-show/2025-04-07/
LOCATION:Haverhill Campus\, 100 Elliott St\, Haverhill\, MA\, United States
CATEGORIES:Student Life
ORGANIZER;CN="Michelle Carter":MAILTO:mcarter@necc.mass.edu
GEO:42.797649;-71.05113
X-APPLE-STRUCTURED-LOCATION;VALUE=URI;X-ADDRESS=Haverhill Campus 100 Elliott St Haverhill MA United States;X-APPLE-RADIUS=500;X-TITLE=100 Elliott St:geo:-71.05113,42.797649
END:VEVENT
BEGIN:VEVENT
DTSTART;TZID=America/New_York:20250407T090000
DTEND;TZID=America/New_York:20250407T140000
DTSTAMP:20260423T101930
CREATED:20250303T142939Z
LAST-MODIFIED:20250303T142939Z
UID:10009555-1744016400-1744034400@necc.edu
SUMMARY:Registration Open House for Liberal Arts Students
DESCRIPTION:Come by the Center for Liberal Arts (room C-209) to speak with an advisor about Fall 2025 classes\, get registered for your classes\, and get your questions answered. \nQuestions? Email us at centerforliberalarts@necc.mass.edu \n Print View
URL:https://necc.edu/event/registration-open-house-for-liberal-arts-students-2/
LOCATION:Haverhill Campus\, 100 Elliott St\, Haverhill\, MA\, United States
CATEGORIES:Liberal Arts Center
ORGANIZER;CN="Center for Liberal Arts":MAILTO:centerforliberalarts@necc.mass.edu
GEO:42.797649;-71.05113
X-APPLE-STRUCTURED-LOCATION;VALUE=URI;X-ADDRESS=Haverhill Campus 100 Elliott St Haverhill MA United States;X-APPLE-RADIUS=500;X-TITLE=100 Elliott St:geo:-71.05113,42.797649
END:VEVENT
BEGIN:VEVENT
DTSTART;TZID=America/New_York:20250407T133000
DTEND;TZID=America/New_York:20250407T150000
DTSTAMP:20260423T101930
CREATED:20250326T135348Z
LAST-MODIFIED:20250326T135549Z
UID:10010353-1744032600-1744038000@necc.edu
SUMMARY:National Public Health Week 2025
DESCRIPTION:MONDAY\, APRIL 7\nLawrence 1:30-3:00pm | El Hefni Lobby\n414 Common St\, Lawrence \n\n·         Lucia Rondon\, Greater Lawrence Family Health Center\n                 Black and Latino Male and Women and Non- Binary Reentry Programs\n\nWEDNESDAY\, APRIL 9\nLawrence 8:30am-10:30am | El Hefni Lobby\n414 Common St\, Lawrence \n\n·         Lucia Rondon\, Greater Lawrence Family Health Center\n                 Black and Latino Male and Women and Non- Binary Reentry Programs\n\nHaverhill 12:00-2:00pm | Building C Lobby\n100 Elliott St\, Haverhill \n\n·         Cindy Cadoret\, MA Health Officers Association\n\nTHURSDAY\, APRIL 10\nLawrence 12:00-2:00pm | El Hefni Lobby\n414 Common St\, Lawrence \n\n·         Elecia Miller\, City of Lawrence Mayor’s Health Task Force\n\n Print View
URL:https://necc.edu/event/national-public-health-week-2025/2025-04-07/
LOCATION:Lawrence Campus\, Lawrence\, MA\, United States
CATEGORIES:Center for Health Professions
ORGANIZER;CN="Amanda Prophett":MAILTO:aprophett@necc.mass.edu
GEO:42.70734;-71.161052
END:VEVENT
END:VCALENDAR