BEGIN:VCALENDAR
VERSION:2.0
PRODID:-//Northern Essex CC - ECPv6.15.12//NONSGML v1.0//EN
CALSCALE:GREGORIAN
METHOD:PUBLISH
X-ORIGINAL-URL:https://necc.edu
X-WR-CALDESC:Events for Northern Essex CC
REFRESH-INTERVAL;VALUE=DURATION:PT1H
X-Robots-Tag:noindex
X-PUBLISHED-TTL:PT1H
BEGIN:VTIMEZONE
TZID:America/New_York
BEGIN:DAYLIGHT
TZOFFSETFROM:-0500
TZOFFSETTO:-0400
TZNAME:EDT
DTSTART:20240310T070000
END:DAYLIGHT
BEGIN:STANDARD
TZOFFSETFROM:-0400
TZOFFSETTO:-0500
TZNAME:EST
DTSTART:20241103T060000
END:STANDARD
BEGIN:DAYLIGHT
TZOFFSETFROM:-0500
TZOFFSETTO:-0400
TZNAME:EDT
DTSTART:20250309T070000
END:DAYLIGHT
BEGIN:STANDARD
TZOFFSETFROM:-0400
TZOFFSETTO:-0500
TZNAME:EST
DTSTART:20251102T060000
END:STANDARD
BEGIN:DAYLIGHT
TZOFFSETFROM:-0500
TZOFFSETTO:-0400
TZNAME:EDT
DTSTART:20260308T070000
END:DAYLIGHT
BEGIN:STANDARD
TZOFFSETFROM:-0400
TZOFFSETTO:-0500
TZNAME:EST
DTSTART:20261101T060000
END:STANDARD
END:VTIMEZONE
BEGIN:VEVENT
DTSTART;VALUE=DATE:20250203
DTEND;VALUE=DATE:20250517
DTSTAMP:20260423T103424
CREATED:20250331T154300Z
LAST-MODIFIED:20250411T162549Z
UID:10010366-1738540800-1747439999@necc.edu
SUMMARY:2025-2026 General Scholarship Deadline
DESCRIPTION:The NECC General Scholarship application has over 42 scholarship opportunities\, which are made possible by the generosity of individual donors\, businesses\, corporations\, and foundations\, all of whom believe that all students should have access to a high-quality education. They are available to you through NECC’s Office of Institutional Advancement. Apply here.  \n Print View
URL:https://necc.edu/event/2025-2026-general-scholarship/
LOCATION:MA
CATEGORIES:Student Life
END:VEVENT
BEGIN:VEVENT
DTSTART;TZID=America/New_York:20250401T080000
DTEND;TZID=America/New_York:20250430T170000
DTSTAMP:20260423T103424
CREATED:20250205T190505Z
LAST-MODIFIED:20250411T162629Z
UID:10009238-1743494400-1746032400@necc.edu
SUMMARY:Book Display: National Poetry Month
DESCRIPTION:April is National Poetry Month\, a time to celebrate the power of words\, rhythm\, and storytelling. Established by the Academy of American Poets\, this month highlights the impact of poetry on culture\, history\, and personal expression. Whether discovering classic poets or exploring contemporary voices\, poetry uniquely reflects on the world and our place in it. \nVisit our library book displays to explore a diverse selection of poetry books and get inspired!  \n Print View
URL:https://necc.edu/event/necc-library-national-poetry-month-book-display/
LOCATION:All Campuses\, Lawrence\, MA\, United States
CATEGORIES:Library
ORGANIZER;CN="Susan Leonardi":MAILTO:sleonardi@necc.mass.edu
GEO:42.709053;-71.169601
END:VEVENT
BEGIN:VEVENT
DTSTART;VALUE=DATE:20250407
DTEND;VALUE=DATE:20250510
DTSTAMP:20260423T103424
CREATED:20250331T154532Z
LAST-MODIFIED:20250411T162744Z
UID:10010367-1743984000-1746835199@necc.edu
SUMMARY:C.O.R.E. Scholarship Deadline
DESCRIPTION:The Summer Financial Aid C.O.R.E. Scholarship application will be available online from April 9 until May 9. Please be aware that the application may close early depending on available funding for the semester. \nApply here.  \n  \n  \n Print View
URL:https://necc.edu/event/financial-aid-c-o-r-e-scholarship-2/
LOCATION:MA
CATEGORIES:Student Life
END:VEVENT
BEGIN:VEVENT
DTSTART;VALUE=DATE:20250414
DTEND;VALUE=DATE:20250504
DTSTAMP:20260423T103424
CREATED:20250414T192557Z
LAST-MODIFIED:20250414T192558Z
UID:10010477-1744588800-1746316799@necc.edu
SUMMARY:Course and Faculty Evaluations.
DESCRIPTION:Hi Knights! Don’t forget to complete your course and faculty evaluations on NECC’s Blackboard (just follow the pop-up notification). Your feedback helps make our courses even better! Need a hand? Email us at evalsupport@necc.mass.edu. 😊 \nClick here to access your evaluation  Please select PS_Users    \n Print View
URL:https://necc.edu/event/course-and-faculty-evaluations/
LOCATION:All Campuses\, Lawrence\, MA\, United States
CATEGORIES:Student Life
GEO:42.709053;-71.169601
END:VEVENT
BEGIN:VEVENT
DTSTART;TZID=America/New_York:20250416T090000
DTEND;TZID=America/New_York:20250416T120000
DTSTAMP:20260423T103424
CREATED:20250311T184009Z
LAST-MODIFIED:20250311T184009Z
UID:10010341-1744794000-1744804800@necc.edu
SUMMARY:Police Academy Training
DESCRIPTION:For community awareness\, the NECC Police Academy will be conducting scenario training on these dates: \n\nApril 4\nApril 14\nApril 15\nApril 16\nApril 18 (at 4:00 p.m.)\nApril 22\n\nUnless otherwise noted\, all training begins at 9:00 a.m. \nMost training will be held within the NECC Police Academy\, located in the lower level of the B and E buildings on the Haverhill campus. Some training may be held outside in the quad area outside the B and E buildings. Such training would comprise evidence searches\, and NOT simulated arrests. \nYou may see a number of police vehicles parked on campus.  \nThe NECC Police Academy is coordinating with NECC Chief of Police\, David Hobbs. \nIf you have questions or concerns\, please contact Joshua Stokel\, director of the police academy\, at jstokel@necc.mass.edu. \n Print View
URL:https://necc.edu/event/police-academy-training-april-16/
LOCATION:Haverhill Campus\, 100 Elliott St\, Haverhill\, MA\, United States
CATEGORIES:Community,Student Support Resources
ORGANIZER;CN="NECC Police Academy":MAILTO:jstokel@necc.mass.edu
GEO:42.797649;-71.05113
X-APPLE-STRUCTURED-LOCATION;VALUE=URI;X-ADDRESS=Haverhill Campus 100 Elliott St Haverhill MA United States;X-APPLE-RADIUS=500;X-TITLE=100 Elliott St:geo:-71.05113,42.797649
END:VEVENT
BEGIN:VEVENT
DTSTART;TZID=America/New_York:20250416T100000
DTEND;TZID=America/New_York:20250416T110000
DTSTAMP:20260423T103424
CREATED:20250109T214430Z
LAST-MODIFIED:20250109T214431Z
UID:10009046-1744797600-1744801200@necc.edu
SUMMARY:CPD Coffee & Conversation
DESCRIPTION:Drop by the Center for Professional Development for some Coffee & Conversation with your colleagues! \nHaverhill C204: 2/10\, 3/10\, 4/14 10-11am\nLawrence L233: 2/12\, 3/12\, 4/16 10-11am \nFor registration and more information about our upcoming events\, please click HERE.  \n Print View
URL:https://necc.edu/event/cpd-coffee-conversation/2025-04-16/
LOCATION:MA
CATEGORIES:Professional Development
END:VEVENT
BEGIN:VEVENT
DTSTART;TZID=America/New_York:20250416T110000
DTEND;TZID=America/New_York:20250416T123000
DTSTAMP:20260423T103424
CREATED:20250224T163056Z
LAST-MODIFIED:20250411T170038Z
UID:10009537-1744801200-1744806600@necc.edu
SUMMARY:How Artificial Intelligence Could Affect Your Career
DESCRIPTION:Wondering how AI (Artificial Intelligence) is already being used in your future career? \nJoin the conversation and ask questions to a panel of professionals currently working with AI in fields such as business\, communication\, engineering\, and health. They will address common myths (like “Will AI replace my job?”) and share their insights about how they are integrating AI into their work. We’ll also discuss potential threats related to AI misuse and bias\, economic and social impact\, and ethical concerns. \nLocation: Lecture Hall A – Spurk Building \nThis event sponsored by the Liberal Arts Division’s Department of Performing Arts & Communication.  The event speaker will be Liberal Arts: Journalism/Communication student Daniela Valdivia-Terres in her role as Newman Civic Fellow at NECC. \nPlease contact Performing Arts & Communication Department Chair Kim Lyng with any questions.   \n  \n Print View
URL:https://necc.edu/event/how-artificial-intelligence-could-affect-your-career/
LOCATION:Haverhill Campus\, 100 Elliott St\, Haverhill\, MA\, United States
CATEGORIES:Home Page Events,Student Life
GEO:42.797649;-71.05113
X-APPLE-STRUCTURED-LOCATION;VALUE=URI;X-ADDRESS=Haverhill Campus 100 Elliott St Haverhill MA United States;X-APPLE-RADIUS=500;X-TITLE=100 Elliott St:geo:-71.05113,42.797649
END:VEVENT
BEGIN:VEVENT
DTSTART;TZID=America/New_York:20250416T110000
DTEND;TZID=America/New_York:20250416T140000
DTSTAMP:20260423T103424
CREATED:20250327T184648Z
LAST-MODIFIED:20250411T163517Z
UID:10010360-1744801200-1744812000@necc.edu
SUMMARY:Spring Jam and Grad Fair
DESCRIPTION:🎉 Get ready to turn up the fun at the NECC Spring Jam and Grad Fair! 🎉 \nWe’re throwing a campus-wide celebration just for you — our amazing NECC Knights! Come hang out\, enjoy free food\, drinks\, music\, and tons of activities that bring our community together. Meet student groups\, connect with campus offices\, and check out awesome activities and giveaways from special guests. \n🔥 Food and giveaways are first come\, first served — so don’t miss out! 🔥 \nLet’s celebrate our year’s achievements and make some great memories along the way. See you there! \n  \n Print View
URL:https://necc.edu/event/spring-jam-grad-fair/
LOCATION:Haverhill Campus\, 100 Elliott St\, Haverhill\, MA\, United States
CATEGORIES:Home Page Events,Student Life
ORGANIZER;CN="Student Life":MAILTO:studentlife@necc.mass.edu
GEO:42.797649;-71.05113
X-APPLE-STRUCTURED-LOCATION;VALUE=URI;X-ADDRESS=Haverhill Campus 100 Elliott St Haverhill MA United States;X-APPLE-RADIUS=500;X-TITLE=100 Elliott St:geo:-71.05113,42.797649
END:VEVENT
BEGIN:VEVENT
DTSTART;TZID=America/New_York:20250416T123000
DTEND;TZID=America/New_York:20250416T133000
DTSTAMP:20260423T103424
CREATED:20250114T150326Z
LAST-MODIFIED:20250214T164441Z
UID:10009090-1744806600-1744810200@necc.edu
SUMMARY:Career Exploration Drop-In Hour
DESCRIPTION:Are you considering different majors? Interested in learning more about your career options? \nJoin us on Wednesdays this semester for drop-in hours to explore your career interests\, options\, and learn about helpful career resources! \n  \nCareer Exploration drop-in hour \nEvery Wednesday starting February 5th and ending April 30th. \nThis event is free and NECC students from all majors are welcome to participate. \nCan’t make it on Wednesdays? Visit Handshake for resources or schedule a meeting through Navigate. \n  \nWe welcome requests for sign language interpreting and other access requests (i.e. Computer Aided Real Time (CART)\, etc.). Please contact us with requests and questions: careerservices@necc.mass.edu \n  \nRegister for a calendar reminder: https://necc-mass-edu.zoom.us/meeting/register/WRNSlMHgQ8eDB5CKWajLIQ \n Print View
URL:https://necc.edu/event/career-exploration-drop-in-spring-2025/2025-04-16/
LOCATION:Online\, United States
CATEGORIES:Career Services
ORGANIZER;CN="Career Services":MAILTO:kyeatonhromada@necc.mass.edu
END:VEVENT
BEGIN:VEVENT
DTSTART;TZID=America/New_York:20250416T160000
DTEND;TZID=America/New_York:20250416T180000
DTSTAMP:20260423T103424
CREATED:20250211T170820Z
LAST-MODIFIED:20260406T151312Z
UID:10009400-1744819200-1744826400@necc.edu
SUMMARY:Enrollment Support Extended Hours
DESCRIPTION:Recruitment counselors available every Wednesday to assist with FAFSA\, guided self-placement and orientation \n Print View
URL:https://necc.edu/event/haverhill-campus-after-hours-enrollment-support/2025-04-16/
LOCATION:Haverhill Campus\, 100 Elliott St\, Haverhill\, MA\, United States
CATEGORIES:Info Sessions and Tours
ORGANIZER;CN="Admissions":MAILTO:enrollmentservices@necc.mass.edu
GEO:42.797649;-71.05113
X-APPLE-STRUCTURED-LOCATION;VALUE=URI;X-ADDRESS=Haverhill Campus 100 Elliott St Haverhill MA United States;X-APPLE-RADIUS=500;X-TITLE=100 Elliott St:geo:-71.05113,42.797649
END:VEVENT
END:VCALENDAR