BEGIN:VCALENDAR
VERSION:2.0
PRODID:-//Northern Essex CC - ECPv6.15.12//NONSGML v1.0//EN
CALSCALE:GREGORIAN
METHOD:PUBLISH
X-WR-CALNAME:Northern Essex CC
X-ORIGINAL-URL:https://necc.edu
X-WR-CALDESC:Events for Northern Essex CC
REFRESH-INTERVAL;VALUE=DURATION:PT1H
X-Robots-Tag:noindex
X-PUBLISHED-TTL:PT1H
BEGIN:VTIMEZONE
TZID:America/New_York
BEGIN:DAYLIGHT
TZOFFSETFROM:-0500
TZOFFSETTO:-0400
TZNAME:EDT
DTSTART:20240310T070000
END:DAYLIGHT
BEGIN:STANDARD
TZOFFSETFROM:-0400
TZOFFSETTO:-0500
TZNAME:EST
DTSTART:20241103T060000
END:STANDARD
BEGIN:DAYLIGHT
TZOFFSETFROM:-0500
TZOFFSETTO:-0400
TZNAME:EDT
DTSTART:20250309T070000
END:DAYLIGHT
BEGIN:STANDARD
TZOFFSETFROM:-0400
TZOFFSETTO:-0500
TZNAME:EST
DTSTART:20251102T060000
END:STANDARD
BEGIN:DAYLIGHT
TZOFFSETFROM:-0500
TZOFFSETTO:-0400
TZNAME:EDT
DTSTART:20260308T070000
END:DAYLIGHT
BEGIN:STANDARD
TZOFFSETFROM:-0400
TZOFFSETTO:-0500
TZNAME:EST
DTSTART:20261101T060000
END:STANDARD
END:VTIMEZONE
BEGIN:VEVENT
DTSTART;VALUE=DATE:20250203
DTEND;VALUE=DATE:20250517
DTSTAMP:20260423T103326
CREATED:20250331T154300Z
LAST-MODIFIED:20250411T162549Z
UID:10010366-1738540800-1747439999@necc.edu
SUMMARY:2025-2026 General Scholarship Deadline
DESCRIPTION:The NECC General Scholarship application has over 42 scholarship opportunities\, which are made possible by the generosity of individual donors\, businesses\, corporations\, and foundations\, all of whom believe that all students should have access to a high-quality education. They are available to you through NECC’s Office of Institutional Advancement. Apply here.  \n Print View
URL:https://necc.edu/event/2025-2026-general-scholarship/
LOCATION:MA
CATEGORIES:Student Life
END:VEVENT
BEGIN:VEVENT
DTSTART;TZID=America/New_York:20250401T080000
DTEND;TZID=America/New_York:20250430T170000
DTSTAMP:20260423T103326
CREATED:20250205T190505Z
LAST-MODIFIED:20250411T162629Z
UID:10009238-1743494400-1746032400@necc.edu
SUMMARY:Book Display: National Poetry Month
DESCRIPTION:April is National Poetry Month\, a time to celebrate the power of words\, rhythm\, and storytelling. Established by the Academy of American Poets\, this month highlights the impact of poetry on culture\, history\, and personal expression. Whether discovering classic poets or exploring contemporary voices\, poetry uniquely reflects on the world and our place in it. \nVisit our library book displays to explore a diverse selection of poetry books and get inspired!  \n Print View
URL:https://necc.edu/event/necc-library-national-poetry-month-book-display/
LOCATION:All Campuses\, Lawrence\, MA\, United States
CATEGORIES:Library
ORGANIZER;CN="Susan Leonardi":MAILTO:sleonardi@necc.mass.edu
GEO:42.709053;-71.169601
END:VEVENT
BEGIN:VEVENT
DTSTART;VALUE=DATE:20250407
DTEND;VALUE=DATE:20250510
DTSTAMP:20260423T103326
CREATED:20250331T154532Z
LAST-MODIFIED:20250411T162744Z
UID:10010367-1743984000-1746835199@necc.edu
SUMMARY:C.O.R.E. Scholarship Deadline
DESCRIPTION:The Summer Financial Aid C.O.R.E. Scholarship application will be available online from April 9 until May 9. Please be aware that the application may close early depending on available funding for the semester. \nApply here.  \n  \n  \n Print View
URL:https://necc.edu/event/financial-aid-c-o-r-e-scholarship-2/
LOCATION:MA
CATEGORIES:Student Life
END:VEVENT
BEGIN:VEVENT
DTSTART;VALUE=DATE:20250414
DTEND;VALUE=DATE:20250504
DTSTAMP:20260423T103326
CREATED:20250414T192557Z
LAST-MODIFIED:20250414T192558Z
UID:10010477-1744588800-1746316799@necc.edu
SUMMARY:Course and Faculty Evaluations.
DESCRIPTION:Hi Knights! Don’t forget to complete your course and faculty evaluations on NECC’s Blackboard (just follow the pop-up notification). Your feedback helps make our courses even better! Need a hand? Email us at evalsupport@necc.mass.edu. 😊 \nClick here to access your evaluation  Please select PS_Users    \n Print View
URL:https://necc.edu/event/course-and-faculty-evaluations/
LOCATION:All Campuses\, Lawrence\, MA\, United States
CATEGORIES:Student Life
GEO:42.709053;-71.169601
END:VEVENT
BEGIN:VEVENT
DTSTART;TZID=America/New_York:20250417T090000
DTEND;TZID=America/New_York:20250417T103000
DTSTAMP:20260423T103326
CREATED:20240625T180056Z
LAST-MODIFIED:20250508T175302Z
UID:10008884-1744880400-1744885800@necc.edu
SUMMARY:Campus Tour and Info Session
DESCRIPTION:Campus Tour and Information Session\nVisit us on the Haverhill Campus for an information session and a tour led by one of our admission counselors. We can’t wait to meet you in person and show you all that NECC has to offer.  \nLocation: \nStudent Center Room 104 \n100 Elliott St. Haverhill\, MA 01830 \nRegister Now!  \n Print View
URL:https://necc.edu/event/haverhill-campus-tour-and-information-session-3/2025-04-17/
LOCATION:Haverhill Campus\, 100 Elliott St\, Haverhill\, MA\, United States
CATEGORIES:All Info Sessions,Info Sessions & Tours - Haverhill,Info Sessions and Tours
ORGANIZER;CN="Admissions":MAILTO:enrollmentservices@necc.mass.edu
GEO:42.797649;-71.05113
X-APPLE-STRUCTURED-LOCATION;VALUE=URI;X-ADDRESS=Haverhill Campus 100 Elliott St Haverhill MA United States;X-APPLE-RADIUS=500;X-TITLE=100 Elliott St:geo:-71.05113,42.797649
END:VEVENT
BEGIN:VEVENT
DTSTART;TZID=America/New_York:20250417T100000
DTEND;TZID=America/New_York:20250417T110000
DTSTAMP:20260423T103326
CREATED:20240722T173137Z
LAST-MODIFIED:20240905T184931Z
UID:10006795-1744884000-1744887600@necc.edu
SUMMARY:College Systems Trainings
DESCRIPTION:The College Systems Trainings are geared towards providing all employees with onboarding or refreshers on all of our most used college systems on a more consistent basis. Newly hired and seasoned employees are highly encouraged to attend these trainings\, as needed. \n  \nWe have scheduled these trainings to happen Tuesdays and Thursdays in C204-CPD Computer Lab\, Haverhill Campus\, 10am-11am. It is up to the facilitator’s discretion to adjust the meeting\, depending on registrations. \n  \nCheck out our page on NECC One for the list of available trainings and registration.\n Print View
URL:https://necc.edu/event/college-systems-trainings-2024-2025/2025-04-17/
LOCATION:Haverhill Campus\, 100 Elliott St\, Haverhill\, MA\, United States
CATEGORIES:Professional Development
GEO:42.797649;-71.05113
X-APPLE-STRUCTURED-LOCATION;VALUE=URI;X-ADDRESS=Haverhill Campus 100 Elliott St Haverhill MA United States;X-APPLE-RADIUS=500;X-TITLE=100 Elliott St:geo:-71.05113,42.797649
END:VEVENT
BEGIN:VEVENT
DTSTART;TZID=America/New_York:20250417T100000
DTEND;TZID=America/New_York:20250417T110000
DTSTAMP:20260423T103326
CREATED:20250331T140911Z
LAST-MODIFIED:20250411T163643Z
UID:10010361-1744884000-1744887600@necc.edu
SUMMARY:Info Session: American Sign Language
DESCRIPTION:Please join us for our American Sign Language Studies information session. This meeting will be interpreted. Potential students will have an opportunity to ask questions about the program\, career pathways\, and transfer options that relate to the field of ASL Studies.  \nASL Studies is a unique course of study that allows students to enter a rich linguistic and cultural world. We are proud to offer courses that prepare students to work with Deaf/hard of hearing people.\nThis information session is online\, and you must register via the link provided below.\nWe look forward to seeing you there! \nRegister here \n Print View
URL:https://necc.edu/event/information-session-american-sign-language-studies/
LOCATION:Online\, United States
CATEGORIES:American Sign Language Studies Info Session,Student Life
ORGANIZER;CN="ASL Studies":MAILTO:deafstudies@necc.mass.edu
END:VEVENT
BEGIN:VEVENT
DTSTART;TZID=America/New_York:20250417T100000
DTEND;TZID=America/New_York:20250417T133000
DTSTAMP:20260423T103326
CREATED:20240405T171630Z
LAST-MODIFIED:20250312T140607Z
UID:10009520-1744884000-1744896600@necc.edu
SUMMARY:Transfer Event - Regis College
DESCRIPTION:Building Character\, Confidence\, and Careers for Nearly 100 Years!\n \nExplore All That Regis Has to Offer!\nCome speak to a Transfer Counselor on the exceptional undergraduate degree programs. Be part of the diverse and dynamic student body via on-campus\, hybrid\, and online modalities. \nDATES:    Feb. 27\nMar.  4\, 11\, 13\nApr. 15\, 17\n  \nLocation and Time : LC (El-Hefni) Building Lobby ~ 10:00am-1:30pm\nNursing – Health Sciences  –  Professional Studies  –  Business and Communication  –  Art and Sciences \n  \n \n  \n Print View
URL:https://necc.edu/event/transfer-event-regis-college-lawrence-campus/2025-04-17/
LOCATION:Lawrence Campus\, Lawrence\, MA\, United States
CATEGORIES:Transfer Events
ORGANIZER;CN="Deb LaValley":MAILTO:dlavalley@necc.mass.edu
GEO:42.70734;-71.161052
END:VEVENT
BEGIN:VEVENT
DTSTART;TZID=America/New_York:20250417T110000
DTEND;TZID=America/New_York:20250417T120000
DTSTAMP:20260423T103326
CREATED:20250123T223714Z
LAST-MODIFIED:20250411T163744Z
UID:10009109-1744887600-1744891200@necc.edu
SUMMARY:Detect\, Decode\, Discuss: Modern Day Drug Realities
DESCRIPTION:Hosted by NECC’s Human Services Program \nAn interactive\, honest presentation on the behaviors\, current trends\, and reality of today’s drug use By Eammon’s Heart Foundation \nDoors Open at 10:30am \nSpeaker:  Rebecca Pichardo\, Trainer\, Narcan & Substance Use Disorder \nLocation:  Northern Essex Community College\, Dimitry Building (45 Franklin Street Lawrence\, MA 01840)\, Room\, L244   \nAbout this event:  Contemporary Drug Realities is an insightful conversation about the current drug landscape. Learn how to decode the complexities of drug use\, detect changes in behavior that can be warning signs\, and discuss strategies for prevention and intervention. This live event features an interactive Q&A session\, and opportunities to connect with others passionate about addressing drug-related issues. \nLink to register:  Detect\, Decode\, Discuss \n Print View
URL:https://necc.edu/event/speaker-series-detect-decode-discuss-modern-day-drug-realities/
LOCATION:Lawrence Campus\, Lawrence\, MA\, United States
CATEGORIES:Home Page Events,Professional Studies Center
ORGANIZER;CN="Human Services Program":MAILTO:lfabbri@necc.mass.edu
GEO:42.70734;-71.161052
END:VEVENT
END:VCALENDAR