BEGIN:VCALENDAR
VERSION:2.0
PRODID:-//Northern Essex CC - ECPv6.15.12//NONSGML v1.0//EN
CALSCALE:GREGORIAN
METHOD:PUBLISH
X-ORIGINAL-URL:https://necc.edu
X-WR-CALDESC:Events for Northern Essex CC
REFRESH-INTERVAL;VALUE=DURATION:PT1H
X-Robots-Tag:noindex
X-PUBLISHED-TTL:PT1H
BEGIN:VTIMEZONE
TZID:America/New_York
BEGIN:DAYLIGHT
TZOFFSETFROM:-0500
TZOFFSETTO:-0400
TZNAME:EDT
DTSTART:20240310T070000
END:DAYLIGHT
BEGIN:STANDARD
TZOFFSETFROM:-0400
TZOFFSETTO:-0500
TZNAME:EST
DTSTART:20241103T060000
END:STANDARD
BEGIN:DAYLIGHT
TZOFFSETFROM:-0500
TZOFFSETTO:-0400
TZNAME:EDT
DTSTART:20250309T070000
END:DAYLIGHT
BEGIN:STANDARD
TZOFFSETFROM:-0400
TZOFFSETTO:-0500
TZNAME:EST
DTSTART:20251102T060000
END:STANDARD
BEGIN:DAYLIGHT
TZOFFSETFROM:-0500
TZOFFSETTO:-0400
TZNAME:EDT
DTSTART:20260308T070000
END:DAYLIGHT
BEGIN:STANDARD
TZOFFSETFROM:-0400
TZOFFSETTO:-0500
TZNAME:EST
DTSTART:20261101T060000
END:STANDARD
END:VTIMEZONE
BEGIN:VEVENT
DTSTART;VALUE=DATE:20250203
DTEND;VALUE=DATE:20250517
DTSTAMP:20260423T103446
CREATED:20250331T154300Z
LAST-MODIFIED:20250411T162549Z
UID:10010366-1738540800-1747439999@necc.edu
SUMMARY:2025-2026 General Scholarship Deadline
DESCRIPTION:The NECC General Scholarship application has over 42 scholarship opportunities\, which are made possible by the generosity of individual donors\, businesses\, corporations\, and foundations\, all of whom believe that all students should have access to a high-quality education. They are available to you through NECC’s Office of Institutional Advancement. Apply here.  \n Print View
URL:https://necc.edu/event/2025-2026-general-scholarship/
LOCATION:MA
CATEGORIES:Student Life
END:VEVENT
BEGIN:VEVENT
DTSTART;TZID=America/New_York:20250401T080000
DTEND;TZID=America/New_York:20250430T170000
DTSTAMP:20260423T103446
CREATED:20250205T190505Z
LAST-MODIFIED:20250411T162629Z
UID:10009238-1743494400-1746032400@necc.edu
SUMMARY:Book Display: National Poetry Month
DESCRIPTION:April is National Poetry Month\, a time to celebrate the power of words\, rhythm\, and storytelling. Established by the Academy of American Poets\, this month highlights the impact of poetry on culture\, history\, and personal expression. Whether discovering classic poets or exploring contemporary voices\, poetry uniquely reflects on the world and our place in it. \nVisit our library book displays to explore a diverse selection of poetry books and get inspired!  \n Print View
URL:https://necc.edu/event/necc-library-national-poetry-month-book-display/
LOCATION:All Campuses\, Lawrence\, MA\, United States
CATEGORIES:Library
ORGANIZER;CN="Susan Leonardi":MAILTO:sleonardi@necc.mass.edu
GEO:42.709053;-71.169601
END:VEVENT
BEGIN:VEVENT
DTSTART;VALUE=DATE:20250407
DTEND;VALUE=DATE:20250510
DTSTAMP:20260423T103446
CREATED:20250331T154532Z
LAST-MODIFIED:20250411T162744Z
UID:10010367-1743984000-1746835199@necc.edu
SUMMARY:C.O.R.E. Scholarship Deadline
DESCRIPTION:The Summer Financial Aid C.O.R.E. Scholarship application will be available online from April 9 until May 9. Please be aware that the application may close early depending on available funding for the semester. \nApply here.  \n  \n  \n Print View
URL:https://necc.edu/event/financial-aid-c-o-r-e-scholarship-2/
LOCATION:MA
CATEGORIES:Student Life
END:VEVENT
BEGIN:VEVENT
DTSTART;VALUE=DATE:20250414
DTEND;VALUE=DATE:20250504
DTSTAMP:20260423T103446
CREATED:20250414T192557Z
LAST-MODIFIED:20250414T192558Z
UID:10010477-1744588800-1746316799@necc.edu
SUMMARY:Course and Faculty Evaluations.
DESCRIPTION:Hi Knights! Don’t forget to complete your course and faculty evaluations on NECC’s Blackboard (just follow the pop-up notification). Your feedback helps make our courses even better! Need a hand? Email us at evalsupport@necc.mass.edu. 😊 \nClick here to access your evaluation  Please select PS_Users    \n Print View
URL:https://necc.edu/event/course-and-faculty-evaluations/
LOCATION:All Campuses\, Lawrence\, MA\, United States
CATEGORIES:Student Life
GEO:42.709053;-71.169601
END:VEVENT
BEGIN:VEVENT
DTSTART;TZID=America/New_York:20250422T090000
DTEND;TZID=America/New_York:20250422T120000
DTSTAMP:20260423T103446
CREATED:20250311T184117Z
LAST-MODIFIED:20250311T184145Z
UID:10010343-1745312400-1745323200@necc.edu
SUMMARY:Police Academy Training
DESCRIPTION:For community awareness\, the NECC Police Academy will be conducting scenario training on these dates: \n\nApril 4\nApril 14\nApril 15\nApril 16\nApril 18 (at 4:00 p.m.)\nApril 22\n\nUnless otherwise noted\, all training begins at 9:00 a.m. \nMost training will be held within the NECC Police Academy\, located in the lower level of the B and E buildings on the Haverhill campus. Some training may be held outside in the quad area outside the B and E buildings. Such training would comprise evidence searches\, and NOT simulated arrests. \nYou may see a number of police vehicles parked on campus.  \nThe NECC Police Academy is coordinating with NECC Chief of Police\, David Hobbs. \nIf you have questions or concerns\, please contact Joshua Stokel\, director of the police academy\, at jstokel@necc.mass.edu. \n Print View
URL:https://necc.edu/event/police-academy-training-april-22/
LOCATION:Haverhill Campus\, 100 Elliott St\, Haverhill\, MA\, United States
CATEGORIES:Community,Student Support Resources
ORGANIZER;CN="NECC Police Academy":MAILTO:jstokel@necc.mass.edu
GEO:42.797649;-71.05113
X-APPLE-STRUCTURED-LOCATION;VALUE=URI;X-ADDRESS=Haverhill Campus 100 Elliott St Haverhill MA United States;X-APPLE-RADIUS=500;X-TITLE=100 Elliott St:geo:-71.05113,42.797649
END:VEVENT
BEGIN:VEVENT
DTSTART;TZID=America/New_York:20250422T100000
DTEND;TZID=America/New_York:20250422T110000
DTSTAMP:20260423T103446
CREATED:20240722T173137Z
LAST-MODIFIED:20240905T184931Z
UID:10006796-1745316000-1745319600@necc.edu
SUMMARY:College Systems Trainings
DESCRIPTION:The College Systems Trainings are geared towards providing all employees with onboarding or refreshers on all of our most used college systems on a more consistent basis. Newly hired and seasoned employees are highly encouraged to attend these trainings\, as needed. \n  \nWe have scheduled these trainings to happen Tuesdays and Thursdays in C204-CPD Computer Lab\, Haverhill Campus\, 10am-11am. It is up to the facilitator’s discretion to adjust the meeting\, depending on registrations. \n  \nCheck out our page on NECC One for the list of available trainings and registration.\n Print View
URL:https://necc.edu/event/college-systems-trainings-2024-2025/2025-04-22/
LOCATION:Haverhill Campus\, 100 Elliott St\, Haverhill\, MA\, United States
CATEGORIES:Professional Development
GEO:42.797649;-71.05113
X-APPLE-STRUCTURED-LOCATION;VALUE=URI;X-ADDRESS=Haverhill Campus 100 Elliott St Haverhill MA United States;X-APPLE-RADIUS=500;X-TITLE=100 Elliott St:geo:-71.05113,42.797649
END:VEVENT
BEGIN:VEVENT
DTSTART;TZID=America/New_York:20250422T123000
DTEND;TZID=America/New_York:20250422T133000
DTSTAMP:20260423T103446
CREATED:20250113T174909Z
LAST-MODIFIED:20250113T180721Z
UID:10009065-1745325000-1745328600@necc.edu
SUMMARY:Resume Help (Zoom Drop-In Hour)
DESCRIPTION:Are you looking for tips and resources to create a resume? Have questions about updating or making your resume stronger? Join us for Zoom drop-in hours to discuss your resume questions or get guidance to started. \nCan’t make it on Tuesdays? Visit Handshake for resources or schedule a meeting through Navigate. \n  \nResume drop-in hour \nEvery Tuesday starting February 4th and ending April 29th. \nThis event is free and NECC students from all majors are welcome to participate. \nWe welcome requests for sign language interpreting and other access requests (i.e. Computer Aided Real Time (CART)\, etc.). Please contact us with requests and questions: careerservices@necc.mass.edu \n  \nRegister for Zoom link and a calendar reminder: https://necc-mass-edu.zoom.us/meeting/register/2uTvcsZeTDaN0mPApIFWDg \n Print View
URL:https://necc.edu/event/resume-help-spring2025/2025-04-22/
LOCATION:Online\, United States
CATEGORIES:Career Services
ORGANIZER;CN="Career Services":MAILTO:kyeatonhromada@necc.mass.edu
END:VEVENT
BEGIN:VEVENT
DTSTART;TZID=America/New_York:20250422T130000
DTEND;TZID=America/New_York:20250422T140000
DTSTAMP:20260423T103446
CREATED:20250207T131315Z
LAST-MODIFIED:20250411T163846Z
UID:10009246-1745326800-1745330400@necc.edu
SUMMARY:Info Session: Dental Assisting
DESCRIPTION:At the Information Session you can learn more about what it’s like to be a student in NECC’s Dental Program.\nAttend a Dental Assisting Information Session and Learn More About the Program and NECC\nJoin us for a Dental Assisting Program Information Session and you can: \n\nGet answers to all of your questions about the Dental Assisting Certificate and NECC.\nDiscover career pathways.\n\nDental assistants provide patient care and maintain patient records\, in addition to working closely with dentists and dental hygienists and assisting during procedures and examinations. Job opportunities are excellent and are expected to continue to grow\, especially as research continues to show the link between oral health and overall health. \nThe NECC Dental Assisting Certificate is a criteria-based health program and therefore requires students to attend an information session. \nView all of the Health Information Session Dates \nRegister in Advance\nPlease register online here in advance for the information session. \nThe meeting will take place online with Zoom. After registering\, you will receive a confirmation email containing information about joining the meeting. \nMore Information\nFor more information\, or for sign language interpreting\, please contact Davann Chhem\, Program Coordinator at 978-738-7657. \n Print View
URL:https://necc.edu/event/dental-assisting-information-session-online-7/
LOCATION:Online\, United States
CATEGORIES:Dental Info Sessions,Health Info Sessions
ORGANIZER;CN="Davann Chhem":MAILTO:dchhem@necc.mass.edu
END:VEVENT
BEGIN:VEVENT
DTSTART;TZID=America/New_York:20250422T140000
DTEND;TZID=America/New_York:20250422T190000
DTSTAMP:20260423T103446
CREATED:20250415T191804Z
LAST-MODIFIED:20250415T191805Z
UID:10010479-1745330400-1745348400@necc.edu
SUMMARY:Blood Drive
DESCRIPTION:The American Red Cross is hosting a blood drive. Participants will received a Red Cross t-shirt (limited supply) and be entered to win a $5\,000 prize. \nStreamline your donation experience and save up to 15 minutes by visiting redcrossblood.org/rapidpass to complete your pre-donation reading and health history questionnaire. \nSchedule an Appointment\n Print View
URL:https://necc.edu/event/blood-drive/
LOCATION:Haverhill Campus\, 100 Elliott St\, Haverhill\, MA\, United States
CATEGORIES:Community
GEO:42.797649;-71.05113
X-APPLE-STRUCTURED-LOCATION;VALUE=URI;X-ADDRESS=Haverhill Campus 100 Elliott St Haverhill MA United States;X-APPLE-RADIUS=500;X-TITLE=100 Elliott St:geo:-71.05113,42.797649
END:VEVENT
BEGIN:VEVENT
DTSTART;TZID=America/New_York:20250422T180000
DTEND;TZID=America/New_York:20250422T190000
DTSTAMP:20260423T103446
CREATED:20230914T174405Z
LAST-MODIFIED:20260406T151228Z
UID:10008905-1745344800-1745348400@necc.edu
SUMMARY:Info Session: Free Community College
DESCRIPTION:Join us for a MassEducate & MassReconnect Information Session virtually on Zoom!\nLearn how MassEducate and MassReconnect can provide funding for Massachusetts residents to earn a college degree at no cost. Attendees will learn about eligibility requirements\, and will be offered the ability to apply on the spot if desired. \nRegister Now!\n Print View
URL:https://necc.edu/event/massreconnect-information-session-virtual-online/2025-04-22/
LOCATION:Online\, United States
CATEGORIES:Admissions,All Info Sessions,Home Page Events,Info Sessions and Tours,Online Information Session
ORGANIZER;CN="Enrollment Services":MAILTO:enrollmentservices@necc.mass.edu
END:VEVENT
END:VCALENDAR