BEGIN:VCALENDAR
VERSION:2.0
PRODID:-//Northern Essex CC - ECPv6.15.12//NONSGML v1.0//EN
CALSCALE:GREGORIAN
METHOD:PUBLISH
X-WR-CALNAME:Northern Essex CC
X-ORIGINAL-URL:https://necc.edu
X-WR-CALDESC:Events for Northern Essex CC
REFRESH-INTERVAL;VALUE=DURATION:PT1H
X-Robots-Tag:noindex
X-PUBLISHED-TTL:PT1H
BEGIN:VTIMEZONE
TZID:America/New_York
BEGIN:DAYLIGHT
TZOFFSETFROM:-0500
TZOFFSETTO:-0400
TZNAME:EDT
DTSTART:20240310T070000
END:DAYLIGHT
BEGIN:STANDARD
TZOFFSETFROM:-0400
TZOFFSETTO:-0500
TZNAME:EST
DTSTART:20241103T060000
END:STANDARD
BEGIN:DAYLIGHT
TZOFFSETFROM:-0500
TZOFFSETTO:-0400
TZNAME:EDT
DTSTART:20250309T070000
END:DAYLIGHT
BEGIN:STANDARD
TZOFFSETFROM:-0400
TZOFFSETTO:-0500
TZNAME:EST
DTSTART:20251102T060000
END:STANDARD
BEGIN:DAYLIGHT
TZOFFSETFROM:-0500
TZOFFSETTO:-0400
TZNAME:EDT
DTSTART:20260308T070000
END:DAYLIGHT
BEGIN:STANDARD
TZOFFSETFROM:-0400
TZOFFSETTO:-0500
TZNAME:EST
DTSTART:20261101T060000
END:STANDARD
END:VTIMEZONE
BEGIN:VEVENT
DTSTART;VALUE=DATE:20250203
DTEND;VALUE=DATE:20250517
DTSTAMP:20260423T103323
CREATED:20250331T154300Z
LAST-MODIFIED:20250411T162549Z
UID:10010366-1738540800-1747439999@necc.edu
SUMMARY:2025-2026 General Scholarship Deadline
DESCRIPTION:The NECC General Scholarship application has over 42 scholarship opportunities\, which are made possible by the generosity of individual donors\, businesses\, corporations\, and foundations\, all of whom believe that all students should have access to a high-quality education. They are available to you through NECC’s Office of Institutional Advancement. Apply here.  \n Print View
URL:https://necc.edu/event/2025-2026-general-scholarship/
LOCATION:MA
CATEGORIES:Student Life
END:VEVENT
BEGIN:VEVENT
DTSTART;TZID=America/New_York:20250401T080000
DTEND;TZID=America/New_York:20250430T170000
DTSTAMP:20260423T103323
CREATED:20250205T190505Z
LAST-MODIFIED:20250411T162629Z
UID:10009238-1743494400-1746032400@necc.edu
SUMMARY:Book Display: National Poetry Month
DESCRIPTION:April is National Poetry Month\, a time to celebrate the power of words\, rhythm\, and storytelling. Established by the Academy of American Poets\, this month highlights the impact of poetry on culture\, history\, and personal expression. Whether discovering classic poets or exploring contemporary voices\, poetry uniquely reflects on the world and our place in it. \nVisit our library book displays to explore a diverse selection of poetry books and get inspired!  \n Print View
URL:https://necc.edu/event/necc-library-national-poetry-month-book-display/
LOCATION:All Campuses\, Lawrence\, MA\, United States
CATEGORIES:Library
ORGANIZER;CN="Susan Leonardi":MAILTO:sleonardi@necc.mass.edu
GEO:42.709053;-71.169601
END:VEVENT
BEGIN:VEVENT
DTSTART;VALUE=DATE:20250407
DTEND;VALUE=DATE:20250510
DTSTAMP:20260423T103323
CREATED:20250331T154532Z
LAST-MODIFIED:20250411T162744Z
UID:10010367-1743984000-1746835199@necc.edu
SUMMARY:C.O.R.E. Scholarship Deadline
DESCRIPTION:The Summer Financial Aid C.O.R.E. Scholarship application will be available online from April 9 until May 9. Please be aware that the application may close early depending on available funding for the semester. \nApply here.  \n  \n  \n Print View
URL:https://necc.edu/event/financial-aid-c-o-r-e-scholarship-2/
LOCATION:MA
CATEGORIES:Student Life
END:VEVENT
BEGIN:VEVENT
DTSTART;VALUE=DATE:20250414
DTEND;VALUE=DATE:20250504
DTSTAMP:20260423T103323
CREATED:20250414T192557Z
LAST-MODIFIED:20250414T192558Z
UID:10010477-1744588800-1746316799@necc.edu
SUMMARY:Course and Faculty Evaluations.
DESCRIPTION:Hi Knights! Don’t forget to complete your course and faculty evaluations on NECC’s Blackboard (just follow the pop-up notification). Your feedback helps make our courses even better! Need a hand? Email us at evalsupport@necc.mass.edu. 😊 \nClick here to access your evaluation  Please select PS_Users    \n Print View
URL:https://necc.edu/event/course-and-faculty-evaluations/
LOCATION:All Campuses\, Lawrence\, MA\, United States
CATEGORIES:Student Life
GEO:42.709053;-71.169601
END:VEVENT
BEGIN:VEVENT
DTSTART;TZID=America/New_York:20250423T100000
DTEND;TZID=America/New_York:20250423T110000
DTSTAMP:20260423T103323
CREATED:20250221T165427Z
LAST-MODIFIED:20250411T164441Z
UID:10009533-1745402400-1745406000@necc.edu
SUMMARY:Book Discussion: Teaching with AI
DESCRIPTION:Join us to discuss the book Teaching with AI: A Practical Guide to a New Era of Human Learning. The ebook is available from the NECC library here. \nPart I – Thinking with AI\nHaverhill (A208)\, Wed Feb 26 @10AM & Thurs Feb 27 @2PM \nLawrence (L111)\, Thurs Feb 27 @1:30PM \n\nPart II – Teaching with AI \nHaverhill  (A208)\, Wed Mar 26 @10AM & Thurs Mar 27 @2PM  \nLawrence (L111)\, Thurs Mar 27 @1:30PM \n\nPart III – Learning with AI\nHaverhill (A208)\, Wed Apr 23 @10AM & Thurs Apr 24 @2PM  \nLawrence (L111)\, Thurs Apr 24 @1:30PM \nEbook: https://research.ebsco.com/linkprocessor/plink?id=f51caab6-8652-32a6-b8cf-7e5ccd67ab55 \n Print View
URL:https://necc.edu/event/teaching-with-ai-book-discussion/2025-04-23/
LOCATION:MA
CATEGORIES:Library,Professional Development,Student Activities
END:VEVENT
BEGIN:VEVENT
DTSTART;TZID=America/New_York:20250423T120000
DTEND;TZID=America/New_York:20250423T130000
DTSTAMP:20260423T103323
CREATED:20250423T150623Z
LAST-MODIFIED:20250423T150624Z
UID:10010492-1745409600-1745413200@necc.edu
SUMMARY:2025 Annual Student Art Show
DESCRIPTION:Please join the NECC Art & Design Department for the opening reception for the Annual Student Art Show \nWednesday\, April 23rd from 12:00-1:00 \nLinda Hummel-Shea Artspace in the Bentley Library  \nNECC Haverhill Campus \nAfter the opening reception\, the students’ work will be on view through Thursday\, May 1st during the Library’s scheduled business hours.  \nQuestions?  Contact Art & Design Department Chair Michelle Carter mcarter@necc.mass.edu  \n  \n Print View
URL:https://necc.edu/event/2025-annual-student-art-show/
LOCATION:Haverhill Campus\, 100 Elliott St\, Haverhill\, MA\, United States
CATEGORIES:Student Life
ORGANIZER;CN="Michelle Carter":MAILTO:mcarter@necc.mass.edu
GEO:42.797649;-71.05113
X-APPLE-STRUCTURED-LOCATION;VALUE=URI;X-ADDRESS=Haverhill Campus 100 Elliott St Haverhill MA United States;X-APPLE-RADIUS=500;X-TITLE=100 Elliott St:geo:-71.05113,42.797649
END:VEVENT
BEGIN:VEVENT
DTSTART;TZID=America/New_York:20250423T123000
DTEND;TZID=America/New_York:20250423T133000
DTSTAMP:20260423T103323
CREATED:20250114T150326Z
LAST-MODIFIED:20250214T164441Z
UID:10009091-1745411400-1745415000@necc.edu
SUMMARY:Career Exploration Drop-In Hour
DESCRIPTION:Are you considering different majors? Interested in learning more about your career options? \nJoin us on Wednesdays this semester for drop-in hours to explore your career interests\, options\, and learn about helpful career resources! \n  \nCareer Exploration drop-in hour \nEvery Wednesday starting February 5th and ending April 30th. \nThis event is free and NECC students from all majors are welcome to participate. \nCan’t make it on Wednesdays? Visit Handshake for resources or schedule a meeting through Navigate. \n  \nWe welcome requests for sign language interpreting and other access requests (i.e. Computer Aided Real Time (CART)\, etc.). Please contact us with requests and questions: careerservices@necc.mass.edu \n  \nRegister for a calendar reminder: https://necc-mass-edu.zoom.us/meeting/register/WRNSlMHgQ8eDB5CKWajLIQ \n Print View
URL:https://necc.edu/event/career-exploration-drop-in-spring-2025/2025-04-23/
LOCATION:Online\, United States
CATEGORIES:Career Services
ORGANIZER;CN="Career Services":MAILTO:kyeatonhromada@necc.mass.edu
END:VEVENT
BEGIN:VEVENT
DTSTART;TZID=America/New_York:20250423T150000
DTEND;TZID=America/New_York:20250423T163000
DTSTAMP:20260423T103323
CREATED:20220812T140127Z
LAST-MODIFIED:20260109T194843Z
UID:10008896-1745420400-1745425800@necc.edu
SUMMARY:Campus Tour and Information Session
DESCRIPTION:Campus Tour and Information Session\n\nVisit us on the Lawrence Campus for an information session and a tour led by one of our admission counselors. We can’t wait to meet you in person and show you all that NECC has to offer.  \nLocation: \nEl Hefni Building Lobby \n414 Common Street St. Lawrence\, MA 01840 \nRegister Now!  \n Print View
URL:https://necc.edu/event/lawrence-campus-tour-and-information-session/2025-04-23/
LOCATION:Lawrence Campus\, Lawrence\, MA\, United States
CATEGORIES:All Info Sessions,Home Page Events,Info Sessions & Tours - Lawrence,Info Sessions and Tours
ORGANIZER;CN="Admissions":MAILTO:enrollmentservices@necc.mass.edu
GEO:42.70734;-71.161052
END:VEVENT
BEGIN:VEVENT
DTSTART;TZID=America/New_York:20250423T150000
DTEND;TZID=America/New_York:20250423T163000
DTSTAMP:20260423T103323
CREATED:20260109T194929Z
LAST-MODIFIED:20260109T201439Z
UID:10011347-1745420400-1745425800@necc.edu
SUMMARY:Campus Tour and Information Session
DESCRIPTION:Campus Tour and Information Session\n\nVisit us on the Lawrence Campus for an information session and a tour led by one of our admission counselors. We can’t wait to meet you in person and show you all that NECC has to offer.  \nLocation: \nEl Hefni Building Lobby \n414 Common Street St. Lawrence\, MA 01840 \nRegister Now!  \n Print View
URL:https://necc.edu/event/lawrence-campus-tour-and-information-session-3/2025-04-23/
LOCATION:Lawrence Campus\, Lawrence\, MA\, United States
CATEGORIES:All Info Sessions,Home Page Events,Info Sessions & Tours - Lawrence,Info Sessions and Tours
ORGANIZER;CN="Admissions":MAILTO:enrollmentservices@necc.mass.edu
GEO:42.70734;-71.161052
END:VEVENT
BEGIN:VEVENT
DTSTART;TZID=America/New_York:20250423T160000
DTEND;TZID=America/New_York:20250423T180000
DTSTAMP:20260423T103323
CREATED:20250211T170820Z
LAST-MODIFIED:20260406T151312Z
UID:10009401-1745424000-1745431200@necc.edu
SUMMARY:Enrollment Support Extended Hours
DESCRIPTION:Recruitment counselors available every Wednesday to assist with FAFSA\, guided self-placement and orientation \n Print View
URL:https://necc.edu/event/haverhill-campus-after-hours-enrollment-support/2025-04-23/
LOCATION:Haverhill Campus\, 100 Elliott St\, Haverhill\, MA\, United States
CATEGORIES:Info Sessions and Tours
ORGANIZER;CN="Admissions":MAILTO:enrollmentservices@necc.mass.edu
GEO:42.797649;-71.05113
X-APPLE-STRUCTURED-LOCATION;VALUE=URI;X-ADDRESS=Haverhill Campus 100 Elliott St Haverhill MA United States;X-APPLE-RADIUS=500;X-TITLE=100 Elliott St:geo:-71.05113,42.797649
END:VEVENT
END:VCALENDAR