BEGIN:VCALENDAR
VERSION:2.0
PRODID:-//Northern Essex CC - ECPv6.15.12//NONSGML v1.0//EN
CALSCALE:GREGORIAN
METHOD:PUBLISH
X-WR-CALNAME:Northern Essex CC
X-ORIGINAL-URL:https://necc.edu
X-WR-CALDESC:Events for Northern Essex CC
REFRESH-INTERVAL;VALUE=DURATION:PT1H
X-Robots-Tag:noindex
X-PUBLISHED-TTL:PT1H
BEGIN:VTIMEZONE
TZID:America/New_York
BEGIN:DAYLIGHT
TZOFFSETFROM:-0500
TZOFFSETTO:-0400
TZNAME:EDT
DTSTART:20240310T070000
END:DAYLIGHT
BEGIN:STANDARD
TZOFFSETFROM:-0400
TZOFFSETTO:-0500
TZNAME:EST
DTSTART:20241103T060000
END:STANDARD
BEGIN:DAYLIGHT
TZOFFSETFROM:-0500
TZOFFSETTO:-0400
TZNAME:EDT
DTSTART:20250309T070000
END:DAYLIGHT
BEGIN:STANDARD
TZOFFSETFROM:-0400
TZOFFSETTO:-0500
TZNAME:EST
DTSTART:20251102T060000
END:STANDARD
BEGIN:DAYLIGHT
TZOFFSETFROM:-0500
TZOFFSETTO:-0400
TZNAME:EDT
DTSTART:20260308T070000
END:DAYLIGHT
BEGIN:STANDARD
TZOFFSETFROM:-0400
TZOFFSETTO:-0500
TZNAME:EST
DTSTART:20261101T060000
END:STANDARD
END:VTIMEZONE
BEGIN:VEVENT
DTSTART;VALUE=DATE:20250203
DTEND;VALUE=DATE:20250517
DTSTAMP:20260423T101829
CREATED:20250331T154300Z
LAST-MODIFIED:20250411T162549Z
UID:10010366-1738540800-1747439999@necc.edu
SUMMARY:2025-2026 General Scholarship Deadline
DESCRIPTION:The NECC General Scholarship application has over 42 scholarship opportunities\, which are made possible by the generosity of individual donors\, businesses\, corporations\, and foundations\, all of whom believe that all students should have access to a high-quality education. They are available to you through NECC’s Office of Institutional Advancement. Apply here.  \n Print View
URL:https://necc.edu/event/2025-2026-general-scholarship/
LOCATION:MA
CATEGORIES:Student Life
END:VEVENT
BEGIN:VEVENT
DTSTART;TZID=America/New_York:20250401T080000
DTEND;TZID=America/New_York:20250430T170000
DTSTAMP:20260423T101829
CREATED:20250205T190505Z
LAST-MODIFIED:20250411T162629Z
UID:10009238-1743494400-1746032400@necc.edu
SUMMARY:Book Display: National Poetry Month
DESCRIPTION:April is National Poetry Month\, a time to celebrate the power of words\, rhythm\, and storytelling. Established by the Academy of American Poets\, this month highlights the impact of poetry on culture\, history\, and personal expression. Whether discovering classic poets or exploring contemporary voices\, poetry uniquely reflects on the world and our place in it. \nVisit our library book displays to explore a diverse selection of poetry books and get inspired!  \n Print View
URL:https://necc.edu/event/necc-library-national-poetry-month-book-display/
LOCATION:All Campuses\, Lawrence\, MA\, United States
CATEGORIES:Library
ORGANIZER;CN="Susan Leonardi":MAILTO:sleonardi@necc.mass.edu
GEO:42.709053;-71.169601
END:VEVENT
BEGIN:VEVENT
DTSTART;VALUE=DATE:20250407
DTEND;VALUE=DATE:20250510
DTSTAMP:20260423T101829
CREATED:20250331T154532Z
LAST-MODIFIED:20250411T162744Z
UID:10010367-1743984000-1746835199@necc.edu
SUMMARY:C.O.R.E. Scholarship Deadline
DESCRIPTION:The Summer Financial Aid C.O.R.E. Scholarship application will be available online from April 9 until May 9. Please be aware that the application may close early depending on available funding for the semester. \nApply here.  \n  \n  \n Print View
URL:https://necc.edu/event/financial-aid-c-o-r-e-scholarship-2/
LOCATION:MA
CATEGORIES:Student Life
END:VEVENT
BEGIN:VEVENT
DTSTART;VALUE=DATE:20250414
DTEND;VALUE=DATE:20250504
DTSTAMP:20260423T101829
CREATED:20250414T192557Z
LAST-MODIFIED:20250414T192558Z
UID:10010477-1744588800-1746316799@necc.edu
SUMMARY:Course and Faculty Evaluations.
DESCRIPTION:Hi Knights! Don’t forget to complete your course and faculty evaluations on NECC’s Blackboard (just follow the pop-up notification). Your feedback helps make our courses even better! Need a hand? Email us at evalsupport@necc.mass.edu. 😊 \nClick here to access your evaluation  Please select PS_Users    \n Print View
URL:https://necc.edu/event/course-and-faculty-evaluations/
LOCATION:All Campuses\, Lawrence\, MA\, United States
CATEGORIES:Student Life
GEO:42.709053;-71.169601
END:VEVENT
BEGIN:VEVENT
DTSTART;TZID=America/New_York:20250429T080000
DTEND;TZID=America/New_York:20250429T200000
DTSTAMP:20260423T101829
CREATED:20250423T151137Z
LAST-MODIFIED:20250423T151137Z
UID:10010496-1745913600-1745956800@necc.edu
SUMMARY:2025 Annual Student Art Show
DESCRIPTION:Please join the NECC Art & Design Department for the opening reception for the Annual Student Art Show \nWednesday\, April 23rd from 12:00-1:00 \nLinda Hummel-Shea Artspace in the Bentley Library  \nNECC Haverhill Campus \nAfter the opening reception\, the students’ work will be on view through Thursday\, May 1st during the Library’s scheduled business hours.  Mon-Thurs 8:00am – 8:00pm & Fri 8:00am-4:00pm \nQuestions?  Contact Art & Design Department Chair Michelle Carter mcarter@necc.mass.edu  \n  \n Print View
URL:https://necc.edu/event/2025-annual-student-art-show-2/2025-04-29/
LOCATION:Haverhill Campus\, 100 Elliott St\, Haverhill\, MA\, United States
CATEGORIES:Student Life
ORGANIZER;CN="Michelle Carter":MAILTO:mcarter@necc.mass.edu
GEO:42.797649;-71.05113
X-APPLE-STRUCTURED-LOCATION;VALUE=URI;X-ADDRESS=Haverhill Campus 100 Elliott St Haverhill MA United States;X-APPLE-RADIUS=500;X-TITLE=100 Elliott St:geo:-71.05113,42.797649
END:VEVENT
BEGIN:VEVENT
DTSTART;TZID=America/New_York:20250429T100000
DTEND;TZID=America/New_York:20250429T110000
DTSTAMP:20260423T101829
CREATED:20240722T173137Z
LAST-MODIFIED:20240905T184931Z
UID:10006798-1745920800-1745924400@necc.edu
SUMMARY:College Systems Trainings
DESCRIPTION:The College Systems Trainings are geared towards providing all employees with onboarding or refreshers on all of our most used college systems on a more consistent basis. Newly hired and seasoned employees are highly encouraged to attend these trainings\, as needed. \n  \nWe have scheduled these trainings to happen Tuesdays and Thursdays in C204-CPD Computer Lab\, Haverhill Campus\, 10am-11am. It is up to the facilitator’s discretion to adjust the meeting\, depending on registrations. \n  \nCheck out our page on NECC One for the list of available trainings and registration.\n Print View
URL:https://necc.edu/event/college-systems-trainings-2024-2025/2025-04-29/
LOCATION:Haverhill Campus\, 100 Elliott St\, Haverhill\, MA\, United States
CATEGORIES:Professional Development
GEO:42.797649;-71.05113
X-APPLE-STRUCTURED-LOCATION;VALUE=URI;X-ADDRESS=Haverhill Campus 100 Elliott St Haverhill MA United States;X-APPLE-RADIUS=500;X-TITLE=100 Elliott St:geo:-71.05113,42.797649
END:VEVENT
BEGIN:VEVENT
DTSTART;TZID=America/New_York:20250429T110000
DTEND;TZID=America/New_York:20250429T120000
DTSTAMP:20260423T101829
CREATED:20240206T192100Z
LAST-MODIFIED:20250411T164640Z
UID:10005948-1745924400-1745928000@necc.edu
SUMMARY:Unlocking Innovation - The Power of Protecting Intellectual Property
DESCRIPTION:Intellectual property (IP) protects innovations\, creativity\, and brands through patents\, trademarks\, copyrights\, and trade secrets. It drives economic growth and ensures businesses and creators can thrive by safeguarding their ideas in today’s digital and global markets. \nBorislow Insurance’s Vice President of Compliance\, Bianca Saul will explain how IP shapes industries and why protecting it is crucial for fostering innovation and maintaining competitive advantages. \nBianca Saul has been helping clients for over a decade now. She was drawn to the industry by a combination of her desire to help employers navigate the complex regulations of national health care reform\, her interest in human resources\, and her passion for helping people. Bianca enjoys the challenge of staying up to date with the ever-changing regulations that affect employee benefits. She once successfully supported over 150 employers through national healthcare reform implementation\, helping them navigate regulations and implementing solutions to meet their goals. \nThis event is held both in the Center in Spurk Building room C203 and virtually. \nPlease Register Here. An Outlook calendar invitation will be sent to the email you provide. \n\nBIZTalks Series\nStudents are invited to join business professors to discuss topics in business.  \n Print View
URL:https://necc.edu/event/biztalks-series-unlocking-innovation-the-power-of-protecting-intellectual-property/
LOCATION:MA
CATEGORIES:Business and Accounting Center,Home Page Events
ORGANIZER;CN="Sheila Muller":MAILTO:smuller@necc.mass.edu
END:VEVENT
BEGIN:VEVENT
DTSTART;TZID=America/New_York:20250429T120000
DTEND;TZID=America/New_York:20250429T140000
DTSTAMP:20260423T101829
CREATED:20250423T171140Z
LAST-MODIFIED:20250428T134446Z
UID:10010499-1745928000-1745935200@necc.edu
SUMMARY:UTEC Food Truck - Final Day in Lawrence
DESCRIPTION:MENU \nLast day in Lawrence until the fall semester.  Please visit the food truck in the Dimitry Parking lot from 12:00pm-2:00pm. \n Print View
URL:https://necc.edu/event/utec-food-truck-last-day-in-lawrence/
LOCATION:MA
CATEGORIES:Home Page Events
ORGANIZER;CN="Administration & Finance":MAILTO:kteixeira@necc.mass.edu
END:VEVENT
BEGIN:VEVENT
DTSTART;TZID=America/New_York:20250429T123000
DTEND;TZID=America/New_York:20250429T133000
DTSTAMP:20260423T101829
CREATED:20250113T174909Z
LAST-MODIFIED:20250113T180721Z
UID:10009066-1745929800-1745933400@necc.edu
SUMMARY:Resume Help (Zoom Drop-In Hour)
DESCRIPTION:Are you looking for tips and resources to create a resume? Have questions about updating or making your resume stronger? Join us for Zoom drop-in hours to discuss your resume questions or get guidance to started. \nCan’t make it on Tuesdays? Visit Handshake for resources or schedule a meeting through Navigate. \n  \nResume drop-in hour \nEvery Tuesday starting February 4th and ending April 29th. \nThis event is free and NECC students from all majors are welcome to participate. \nWe welcome requests for sign language interpreting and other access requests (i.e. Computer Aided Real Time (CART)\, etc.). Please contact us with requests and questions: careerservices@necc.mass.edu \n  \nRegister for Zoom link and a calendar reminder: https://necc-mass-edu.zoom.us/meeting/register/2uTvcsZeTDaN0mPApIFWDg \n Print View
URL:https://necc.edu/event/resume-help-spring2025/2025-04-29/
LOCATION:Online\, United States
CATEGORIES:Career Services
ORGANIZER;CN="Career Services":MAILTO:kyeatonhromada@necc.mass.edu
END:VEVENT
BEGIN:VEVENT
DTSTART;TZID=America/New_York:20250429T123000
DTEND;TZID=America/New_York:20250429T140000
DTSTAMP:20260423T101829
CREATED:20250416T132802Z
LAST-MODIFIED:20250428T193900Z
UID:10010480-1745929800-1745935200@necc.edu
SUMMARY:Plant Paint Cross-Pollinate Workshop
DESCRIPTION:Native plants can help save our planet! Learn how. \n\nPLANT native flower seeds for your own garden.\nPAINT butterfly signs for your yard + a community art project.\nWrite Seed Stories with Beth Dyer Clary for free seed packets. \n\nLed by public artist and NECC Art & Design faculty Jenn Houle. \n  \nThis workshop event will be held on Tuesday\, April 29th 12:30-2:00 in Spurk classroom C101 \nFree! Limited to 20 Households. Adult programming\, grades 7+ welcome.\nOpen to NECC community & beyond\, bring your friends! \nPlease contact Jenn Houle for more information: jhoule@necc.mass.edu  \n Print View
URL:https://necc.edu/event/plant-paint-cross-pollinate-art-event/
LOCATION:Haverhill Campus\, 100 Elliott St\, Haverhill\, MA\, United States
CATEGORIES:Community,Student Life
GEO:42.797649;-71.05113
X-APPLE-STRUCTURED-LOCATION;VALUE=URI;X-ADDRESS=Haverhill Campus 100 Elliott St Haverhill MA United States;X-APPLE-RADIUS=500;X-TITLE=100 Elliott St:geo:-71.05113,42.797649
END:VEVENT
BEGIN:VEVENT
DTSTART;TZID=America/New_York:20250429T160000
DTEND;TZID=America/New_York:20250429T180000
DTSTAMP:20260423T101829
CREATED:20230628T192556Z
LAST-MODIFIED:20250501T150734Z
UID:10004249-1745942400-1745949600@necc.edu
SUMMARY:Explore NECC: Open House
DESCRIPTION:Please check back here to see when our NEXT Campus Open House will be happening!!\n  \n Print View
URL:https://necc.edu/event/https-www-necc-mass-edu-admissions-open-house/
LOCATION:Lawrence Campus\, Lawrence\, MA\, United States
CATEGORIES:Admissions,All Info Sessions,Info Sessions & Tours - Haverhill,Info Sessions and Tours
ORGANIZER;CN="Enrollment Services":MAILTO:enrollmentservices@necc.mass.edu
GEO:42.70734;-71.161052
END:VEVENT
BEGIN:VEVENT
DTSTART;TZID=America/New_York:20250429T180000
DTEND;TZID=America/New_York:20250429T190000
DTSTAMP:20260423T101830
CREATED:20250408T204418Z
LAST-MODIFIED:20250411T164812Z
UID:10010390-1745949600-1745953200@necc.edu
SUMMARY:Info Session: SNHU RN to BSN/MSN
DESCRIPTION:Learn more about SNHU 100% online Nursing Programs.\n  \nSouthern New Hampshire University is hosting a Virtual Info Session for RN to BSN/MSN Nursing Students.\nSNHURN to BSN/MSN Virtual Info Session – Thursday\, April 29th@6:00pm  \n Print View
URL:https://necc.edu/event/snhu-rn-o-bsn-msn-virtual-info-session-april-29th-at-600m/
LOCATION:Online\, United States
CATEGORIES:Transfer Events
ORGANIZER;CN="Deb LaValley":MAILTO:dlavalley@necc.mass.edu
END:VEVENT
END:VCALENDAR