BEGIN:VCALENDAR
VERSION:2.0
PRODID:-//Northern Essex CC - ECPv6.15.12//NONSGML v1.0//EN
CALSCALE:GREGORIAN
METHOD:PUBLISH
X-WR-CALNAME:Northern Essex CC
X-ORIGINAL-URL:https://necc.edu
X-WR-CALDESC:Events for Northern Essex CC
REFRESH-INTERVAL;VALUE=DURATION:PT1H
X-Robots-Tag:noindex
X-PUBLISHED-TTL:PT1H
BEGIN:VTIMEZONE
TZID:America/New_York
BEGIN:DAYLIGHT
TZOFFSETFROM:-0500
TZOFFSETTO:-0400
TZNAME:EDT
DTSTART:20240310T070000
END:DAYLIGHT
BEGIN:STANDARD
TZOFFSETFROM:-0400
TZOFFSETTO:-0500
TZNAME:EST
DTSTART:20241103T060000
END:STANDARD
BEGIN:DAYLIGHT
TZOFFSETFROM:-0500
TZOFFSETTO:-0400
TZNAME:EDT
DTSTART:20250309T070000
END:DAYLIGHT
BEGIN:STANDARD
TZOFFSETFROM:-0400
TZOFFSETTO:-0500
TZNAME:EST
DTSTART:20251102T060000
END:STANDARD
BEGIN:DAYLIGHT
TZOFFSETFROM:-0500
TZOFFSETTO:-0400
TZNAME:EDT
DTSTART:20260308T070000
END:DAYLIGHT
BEGIN:STANDARD
TZOFFSETFROM:-0400
TZOFFSETTO:-0500
TZNAME:EST
DTSTART:20261101T060000
END:STANDARD
END:VTIMEZONE
BEGIN:VEVENT
DTSTART;TZID=America/New_York:20250501T080000
DTEND;TZID=America/New_York:20250531T160000
DTSTAMP:20260423T132501
CREATED:20250521T143817Z
LAST-MODIFIED:20250521T144116Z
UID:10010561-1746086400-1748707200@necc.edu
SUMMARY:Asian Pacific American Heritage Month Book Display
DESCRIPTION:Our May book display celebrates Asian Pacific American Heritage Month! Explore Asian American and Pacific Islander experiences through these compelling works by AAPI authors. Browse our booklist\, NECC Asian Pacific American Heritage Month\, for contemporary fiction and historical narratives that have shaped American culture and society. \n Print View
URL:https://necc.edu/event/asian-pacific-american-heritage-month-book-display/
LOCATION:Haverhill Campus\, 100 Elliott St\, Haverhill\, MA\, United States
CATEGORIES:Library,Student Life
GEO:42.797649;-71.05113
X-APPLE-STRUCTURED-LOCATION;VALUE=URI;X-ADDRESS=Haverhill Campus 100 Elliott St Haverhill MA United States;X-APPLE-RADIUS=500;X-TITLE=100 Elliott St:geo:-71.05113,42.797649
END:VEVENT
BEGIN:VEVENT
DTSTART;VALUE=DATE:20250512
DTEND;VALUE=DATE:20250531
DTSTAMP:20260423T132501
CREATED:20241108T020536Z
LAST-MODIFIED:20250513T040718Z
UID:10008814-1747008000-1748649599@necc.edu
SUMMARY:Book voucher period for Summer Session I and Session III classes
DESCRIPTION:Print View
URL:https://necc.edu/event/book-voucher-period-for-summer-session-i-and-session-iii-classes/
LOCATION:MA
CATEGORIES:Academic Calendar
END:VEVENT
BEGIN:VEVENT
DTSTART;TZID=America/New_York:20250520T080000
DTEND;TZID=America/New_York:20250520T170000
DTSTAMP:20260423T132501
CREATED:20250428T160040Z
LAST-MODIFIED:20250428T161552Z
UID:10010511-1747728000-1747760400@necc.edu
SUMMARY:Police Academy Training
DESCRIPTION:For community awareness\, the NECC Police Academy will be conducting scenario training on these dates: \n\nMay 1st\nMay 2nd\nMay 19th\nMay 20th\nMay 21st\n\nThe trainings on May 1st and 2nd will be mostly in the E Building and should be fairly quiet. The trainings on May 19th – 21st will be more dynamic and will take place in the TC and D Buildings. \nThe NECC Police Academy is coordinating with NECC Chief of Police\, David Hobbs. \n  \nIf you have questions or concerns\, please contact Joshua Stokel\, director of the police academy\, at jstokel@necc.mass.edu. \n Print View
URL:https://necc.edu/event/police-academy-training-6/2025-05-20/
LOCATION:Haverhill Campus\, 100 Elliott St\, Haverhill\, MA\, United States
CATEGORIES:Community,Police Academy,Student Support Resources
ORGANIZER;CN="NECC Police Academy":MAILTO:jstokel@necc.mass.edu
GEO:42.797649;-71.05113
X-APPLE-STRUCTURED-LOCATION;VALUE=URI;X-ADDRESS=Haverhill Campus 100 Elliott St Haverhill MA United States;X-APPLE-RADIUS=500;X-TITLE=100 Elliott St:geo:-71.05113,42.797649
END:VEVENT
BEGIN:VEVENT
DTSTART;TZID=America/New_York:20250520T100000
DTEND;TZID=America/New_York:20250520T110000
DTSTAMP:20260423T132501
CREATED:20240722T173137Z
LAST-MODIFIED:20240905T184931Z
UID:10006804-1747735200-1747738800@necc.edu
SUMMARY:College Systems Trainings
DESCRIPTION:The College Systems Trainings are geared towards providing all employees with onboarding or refreshers on all of our most used college systems on a more consistent basis. Newly hired and seasoned employees are highly encouraged to attend these trainings\, as needed. \n  \nWe have scheduled these trainings to happen Tuesdays and Thursdays in C204-CPD Computer Lab\, Haverhill Campus\, 10am-11am. It is up to the facilitator’s discretion to adjust the meeting\, depending on registrations. \n  \nCheck out our page on NECC One for the list of available trainings and registration.\n Print View
URL:https://necc.edu/event/college-systems-trainings-2024-2025/2025-05-20/
LOCATION:Haverhill Campus\, 100 Elliott St\, Haverhill\, MA\, United States
CATEGORIES:Professional Development
GEO:42.797649;-71.05113
X-APPLE-STRUCTURED-LOCATION;VALUE=URI;X-ADDRESS=Haverhill Campus 100 Elliott St Haverhill MA United States;X-APPLE-RADIUS=500;X-TITLE=100 Elliott St:geo:-71.05113,42.797649
END:VEVENT
BEGIN:VEVENT
DTSTART;TZID=America/New_York:20250520T110000
DTEND;TZID=America/New_York:20250520T120000
DTSTAMP:20260423T132501
CREATED:20250427T195936Z
LAST-MODIFIED:20250508T172602Z
UID:10010502-1747738800-1747742400@necc.edu
SUMMARY:MassCareers Info Session
DESCRIPTION:CAre you interested in a career with the Commonwealth of Massachusetts? There are internships and jobs with the state of MA for a wide range of interests and majors. On May 20th from 11am- 12pm on Zoom\, join representatives from the Executive Office of Veterans Services to learn how to successfully navigate the state’s MassCareers job site. We will cover: how to find MassCareers on the mass.gov website\, how to complete your profile and upload your resume\, how to search for jobs and filter for the best results\, and what to look for within job descriptions. Visit Handshake for more details\, registration\, and the Zoom link for this virtual event or email careerservices@necc.mass.edu  \n Print View
URL:https://necc.edu/event/applying-for-internships-jobs-with-the-state-of-massachusetts/
LOCATION:Online\, United States
CATEGORIES:Career Services,Home Page Events
ORGANIZER;CN="Career Services":MAILTO:kyeatonhromada@necc.mass.edu
END:VEVENT
END:VCALENDAR