BEGIN:VCALENDAR
VERSION:2.0
PRODID:-//Northern Essex CC - ECPv6.15.12//NONSGML v1.0//EN
CALSCALE:GREGORIAN
METHOD:PUBLISH
X-ORIGINAL-URL:https://necc.edu
X-WR-CALDESC:Events for Northern Essex CC
REFRESH-INTERVAL;VALUE=DURATION:PT1H
X-Robots-Tag:noindex
X-PUBLISHED-TTL:PT1H
BEGIN:VTIMEZONE
TZID:America/New_York
BEGIN:DAYLIGHT
TZOFFSETFROM:-0500
TZOFFSETTO:-0400
TZNAME:EDT
DTSTART:20240310T070000
END:DAYLIGHT
BEGIN:STANDARD
TZOFFSETFROM:-0400
TZOFFSETTO:-0500
TZNAME:EST
DTSTART:20241103T060000
END:STANDARD
BEGIN:DAYLIGHT
TZOFFSETFROM:-0500
TZOFFSETTO:-0400
TZNAME:EDT
DTSTART:20250309T070000
END:DAYLIGHT
BEGIN:STANDARD
TZOFFSETFROM:-0400
TZOFFSETTO:-0500
TZNAME:EST
DTSTART:20251102T060000
END:STANDARD
BEGIN:DAYLIGHT
TZOFFSETFROM:-0500
TZOFFSETTO:-0400
TZNAME:EDT
DTSTART:20260308T070000
END:DAYLIGHT
BEGIN:STANDARD
TZOFFSETFROM:-0400
TZOFFSETTO:-0500
TZNAME:EST
DTSTART:20261101T060000
END:STANDARD
END:VTIMEZONE
BEGIN:VEVENT
DTSTART;TZID=America/New_York:20250501T080000
DTEND;TZID=America/New_York:20250531T160000
DTSTAMP:20260423T132627
CREATED:20250521T143817Z
LAST-MODIFIED:20250521T144116Z
UID:10010561-1746086400-1748707200@necc.edu
SUMMARY:Asian Pacific American Heritage Month Book Display
DESCRIPTION:Our May book display celebrates Asian Pacific American Heritage Month! Explore Asian American and Pacific Islander experiences through these compelling works by AAPI authors. Browse our booklist\, NECC Asian Pacific American Heritage Month\, for contemporary fiction and historical narratives that have shaped American culture and society. \n Print View
URL:https://necc.edu/event/asian-pacific-american-heritage-month-book-display/
LOCATION:Haverhill Campus\, 100 Elliott St\, Haverhill\, MA\, United States
CATEGORIES:Library,Student Life
GEO:42.797649;-71.05113
X-APPLE-STRUCTURED-LOCATION;VALUE=URI;X-ADDRESS=Haverhill Campus 100 Elliott St Haverhill MA United States;X-APPLE-RADIUS=500;X-TITLE=100 Elliott St:geo:-71.05113,42.797649
END:VEVENT
BEGIN:VEVENT
DTSTART;VALUE=DATE:20250512
DTEND;VALUE=DATE:20250531
DTSTAMP:20260423T132627
CREATED:20241108T020536Z
LAST-MODIFIED:20250513T040718Z
UID:10008814-1747008000-1748649599@necc.edu
SUMMARY:Book voucher period for Summer Session I and Session III classes
DESCRIPTION:Print View
URL:https://necc.edu/event/book-voucher-period-for-summer-session-i-and-session-iii-classes/
LOCATION:MA
CATEGORIES:Academic Calendar
END:VEVENT
BEGIN:VEVENT
DTSTART;TZID=America/New_York:20250528T150000
DTEND;TZID=America/New_York:20250528T163000
DTSTAMP:20260423T132627
CREATED:20220812T140127Z
LAST-MODIFIED:20260109T194843Z
UID:10008898-1748444400-1748449800@necc.edu
SUMMARY:Campus Tour and Information Session
DESCRIPTION:Campus Tour and Information Session\n\nVisit us on the Lawrence Campus for an information session and a tour led by one of our admission counselors. We can’t wait to meet you in person and show you all that NECC has to offer.  \nLocation: \nEl Hefni Building Lobby \n414 Common Street St. Lawrence\, MA 01840 \nRegister Now!  \n Print View
URL:https://necc.edu/event/lawrence-campus-tour-and-information-session/2025-05-28/
LOCATION:Lawrence Campus\, Lawrence\, MA\, United States
CATEGORIES:All Info Sessions,Home Page Events,Info Sessions & Tours - Lawrence,Info Sessions and Tours
ORGANIZER;CN="Admissions":MAILTO:enrollmentservices@necc.mass.edu
GEO:42.70734;-71.161052
END:VEVENT
BEGIN:VEVENT
DTSTART;TZID=America/New_York:20250528T150000
DTEND;TZID=America/New_York:20250528T163000
DTSTAMP:20260423T132627
CREATED:20260109T194929Z
LAST-MODIFIED:20260109T201439Z
UID:10011349-1748444400-1748449800@necc.edu
SUMMARY:Campus Tour and Information Session
DESCRIPTION:Campus Tour and Information Session\n\nVisit us on the Lawrence Campus for an information session and a tour led by one of our admission counselors. We can’t wait to meet you in person and show you all that NECC has to offer.  \nLocation: \nEl Hefni Building Lobby \n414 Common Street St. Lawrence\, MA 01840 \nRegister Now!  \n Print View
URL:https://necc.edu/event/lawrence-campus-tour-and-information-session-3/2025-05-28/
LOCATION:Lawrence Campus\, Lawrence\, MA\, United States
CATEGORIES:All Info Sessions,Home Page Events,Info Sessions & Tours - Lawrence,Info Sessions and Tours
ORGANIZER;CN="Admissions":MAILTO:enrollmentservices@necc.mass.edu
GEO:42.70734;-71.161052
END:VEVENT
BEGIN:VEVENT
DTSTART;TZID=America/New_York:20250528T160000
DTEND;TZID=America/New_York:20250528T180000
DTSTAMP:20260423T132627
CREATED:20250211T170820Z
LAST-MODIFIED:20260406T151312Z
UID:10009406-1748448000-1748455200@necc.edu
SUMMARY:Enrollment Support Extended Hours
DESCRIPTION:Recruitment counselors available every Wednesday to assist with FAFSA\, guided self-placement and orientation \n Print View
URL:https://necc.edu/event/haverhill-campus-after-hours-enrollment-support/2025-05-28/
LOCATION:Haverhill Campus\, 100 Elliott St\, Haverhill\, MA\, United States
CATEGORIES:Info Sessions and Tours
ORGANIZER;CN="Admissions":MAILTO:enrollmentservices@necc.mass.edu
GEO:42.797649;-71.05113
X-APPLE-STRUCTURED-LOCATION;VALUE=URI;X-ADDRESS=Haverhill Campus 100 Elliott St Haverhill MA United States;X-APPLE-RADIUS=500;X-TITLE=100 Elliott St:geo:-71.05113,42.797649
END:VEVENT
END:VCALENDAR