BEGIN:VCALENDAR
VERSION:2.0
PRODID:-//Northern Essex CC - ECPv6.15.12//NONSGML v1.0//EN
CALSCALE:GREGORIAN
METHOD:PUBLISH
X-ORIGINAL-URL:https://necc.edu
X-WR-CALDESC:Events for Northern Essex CC
REFRESH-INTERVAL;VALUE=DURATION:PT1H
X-Robots-Tag:noindex
X-PUBLISHED-TTL:PT1H
BEGIN:VTIMEZONE
TZID:America/New_York
BEGIN:DAYLIGHT
TZOFFSETFROM:-0500
TZOFFSETTO:-0400
TZNAME:EDT
DTSTART:20240310T070000
END:DAYLIGHT
BEGIN:STANDARD
TZOFFSETFROM:-0400
TZOFFSETTO:-0500
TZNAME:EST
DTSTART:20241103T060000
END:STANDARD
BEGIN:DAYLIGHT
TZOFFSETFROM:-0500
TZOFFSETTO:-0400
TZNAME:EDT
DTSTART:20250309T070000
END:DAYLIGHT
BEGIN:STANDARD
TZOFFSETFROM:-0400
TZOFFSETTO:-0500
TZNAME:EST
DTSTART:20251102T060000
END:STANDARD
BEGIN:DAYLIGHT
TZOFFSETFROM:-0500
TZOFFSETTO:-0400
TZNAME:EDT
DTSTART:20260308T070000
END:DAYLIGHT
BEGIN:STANDARD
TZOFFSETFROM:-0400
TZOFFSETTO:-0500
TZNAME:EST
DTSTART:20261101T060000
END:STANDARD
END:VTIMEZONE
BEGIN:VEVENT
DTSTART;VALUE=DATE:20250621
DTEND;VALUE=DATE:20250628
DTSTAMP:20260423T145302
CREATED:20241108T020543Z
LAST-MODIFIED:20250612T041016Z
UID:10008824-1750464000-1751068799@necc.edu
SUMMARY:Summer Session I Final Exam Period
DESCRIPTION:Print View
URL:https://necc.edu/event/summer-session-i-final-exam-period/
LOCATION:MA
CATEGORIES:Academic Calendar
END:VEVENT
BEGIN:VEVENT
DTSTART;VALUE=DATE:20250623
DTEND;VALUE=DATE:20250712
DTSTAMP:20260423T145302
CREATED:20241108T020543Z
LAST-MODIFIED:20250612T041016Z
UID:10008825-1750636800-1752278399@necc.edu
SUMMARY:Book voucher period for Summer Session II classes
DESCRIPTION:Print View
URL:https://necc.edu/event/book-voucher-period-for-summer-session-ii-classes/
LOCATION:MA
CATEGORIES:Academic Calendar
END:VEVENT
BEGIN:VEVENT
DTSTART;VALUE=DATE:20250623
DTEND;VALUE=DATE:20250626
DTSTAMP:20260423T145302
CREATED:20250523T151037Z
LAST-MODIFIED:20250523T151037Z
UID:10010567-1750665600-1750870800@necc.edu
SUMMARY:Building Searches/Active Shooter Police Academy Training
DESCRIPTION:Building Searches/Active Shooter Training\nPolice Academy will be in the Spurk Building. This will be a dynamic training with recruits searching hallways\, classrooms\, etc. They will also be using soap projectiles from training firearms. We will be blocking off areas of the building to ensure safety during this time and there will be certified instructors and safety officers on scene. \n Print View
URL:https://necc.edu/event/building-searches-active-shooter-police-academy-training/2025-06-23/
LOCATION:Haverhill Campus\, 100 Elliott St\, Haverhill\, MA\, United States
CATEGORIES:Police Academy
ORGANIZER;CN="NECC Police Academy":MAILTO:jstokel@necc.mass.edu
GEO:42.797649;-71.05113
X-APPLE-STRUCTURED-LOCATION;VALUE=URI;X-ADDRESS=Haverhill Campus 100 Elliott St Haverhill MA United States;X-APPLE-RADIUS=500;X-TITLE=100 Elliott St:geo:-71.05113,42.797649
END:VEVENT
BEGIN:VEVENT
DTSTART;TZID=America/New_York:20250624T100000
DTEND;TZID=America/New_York:20250624T110000
DTSTAMP:20260423T145302
CREATED:20240722T173137Z
LAST-MODIFIED:20240905T184931Z
UID:10006814-1750759200-1750762800@necc.edu
SUMMARY:College Systems Trainings
DESCRIPTION:The College Systems Trainings are geared towards providing all employees with onboarding or refreshers on all of our most used college systems on a more consistent basis. Newly hired and seasoned employees are highly encouraged to attend these trainings\, as needed. \n  \nWe have scheduled these trainings to happen Tuesdays and Thursdays in C204-CPD Computer Lab\, Haverhill Campus\, 10am-11am. It is up to the facilitator’s discretion to adjust the meeting\, depending on registrations. \n  \nCheck out our page on NECC One for the list of available trainings and registration.\n Print View
URL:https://necc.edu/event/college-systems-trainings-2024-2025/2025-06-24/
LOCATION:Haverhill Campus\, 100 Elliott St\, Haverhill\, MA\, United States
CATEGORIES:Professional Development
GEO:42.797649;-71.05113
X-APPLE-STRUCTURED-LOCATION;VALUE=URI;X-ADDRESS=Haverhill Campus 100 Elliott St Haverhill MA United States;X-APPLE-RADIUS=500;X-TITLE=100 Elliott St:geo:-71.05113,42.797649
END:VEVENT
BEGIN:VEVENT
DTSTART;TZID=America/New_York:20250624T130000
DTEND;TZID=America/New_York:20250624T140000
DTSTAMP:20260423T145302
CREATED:20250523T182415Z
LAST-MODIFIED:20250617T142808Z
UID:10010578-1750770000-1750773600@necc.edu
SUMMARY:NECC Library Summer Bookclub
DESCRIPTION:You’re invited to join us this summer for an NECC Book Club! Students\, staff\, and faculty are welcome. Sign up for one\, two\, or three book discussions. Please get in touch with a librarian at library@necc.mass.edu if you would like help getting a copy of one of these books. We hope to see you there. Happy reading!  \nJUNE: We’re reading Call Me by Your Name by Andre Aciman. Find the audiobook here and the print book here.\nBook discussion – Tuesday\, June 24\, 2025\, at 1:00 -2:00 pm\, Bentley Library.   \nJULY: We’re reading American Spy by Lauren Wilkinson. Find the audiobook here and the print book here.\nBook discussion – Wednesday\, July 23\, 2025. 1:00 – 2:00 pm\, Lawrence Campus Library  \nAUGUST: We’re reading Elin Hilderbrand. Browse books by the author here.\nAuthor discussion – Thursday\, August 28\, 2025\, 1:00 – 2:00 pm\, Bentley Library \n  \n  \n  \n Print View
URL:https://necc.edu/event/82777/
LOCATION:Haverhill Campus\, 100 Elliott St\, Haverhill\, MA\, United States
CATEGORIES:Library,Professional Development,Student Life
ORGANIZER;CN="Susan Leonardi":MAILTO:sleonardi@necc.mass.edu
GEO:42.797649;-71.05113
X-APPLE-STRUCTURED-LOCATION;VALUE=URI;X-ADDRESS=Haverhill Campus 100 Elliott St Haverhill MA United States;X-APPLE-RADIUS=500;X-TITLE=100 Elliott St:geo:-71.05113,42.797649
END:VEVENT
BEGIN:VEVENT
DTSTART;TZID=America/New_York:20250624T180000
DTEND;TZID=America/New_York:20250624T190000
DTSTAMP:20260423T145302
CREATED:20230914T174405Z
LAST-MODIFIED:20260406T151228Z
UID:10008907-1750788000-1750791600@necc.edu
SUMMARY:Info Session: Free Community College
DESCRIPTION:Join us for a MassEducate & MassReconnect Information Session virtually on Zoom!\nLearn how MassEducate and MassReconnect can provide funding for Massachusetts residents to earn a college degree at no cost. Attendees will learn about eligibility requirements\, and will be offered the ability to apply on the spot if desired. \nRegister Now!\n Print View
URL:https://necc.edu/event/massreconnect-information-session-virtual-online/2025-06-24/
LOCATION:Online\, United States
CATEGORIES:Admissions,All Info Sessions,Home Page Events,Info Sessions and Tours,Online Information Session
ORGANIZER;CN="Enrollment Services":MAILTO:enrollmentservices@necc.mass.edu
END:VEVENT
END:VCALENDAR