BEGIN:VCALENDAR
VERSION:2.0
PRODID:-//Northern Essex CC - ECPv6.15.12//NONSGML v1.0//EN
CALSCALE:GREGORIAN
METHOD:PUBLISH
X-WR-CALNAME:Northern Essex CC
X-ORIGINAL-URL:https://necc.edu
X-WR-CALDESC:Events for Northern Essex CC
REFRESH-INTERVAL;VALUE=DURATION:PT1H
X-Robots-Tag:noindex
X-PUBLISHED-TTL:PT1H
BEGIN:VTIMEZONE
TZID:America/New_York
BEGIN:DAYLIGHT
TZOFFSETFROM:-0500
TZOFFSETTO:-0400
TZNAME:EDT
DTSTART:20240310T070000
END:DAYLIGHT
BEGIN:STANDARD
TZOFFSETFROM:-0400
TZOFFSETTO:-0500
TZNAME:EST
DTSTART:20241103T060000
END:STANDARD
BEGIN:DAYLIGHT
TZOFFSETFROM:-0500
TZOFFSETTO:-0400
TZNAME:EDT
DTSTART:20250309T070000
END:DAYLIGHT
BEGIN:STANDARD
TZOFFSETFROM:-0400
TZOFFSETTO:-0500
TZNAME:EST
DTSTART:20251102T060000
END:STANDARD
BEGIN:DAYLIGHT
TZOFFSETFROM:-0500
TZOFFSETTO:-0400
TZNAME:EDT
DTSTART:20260308T070000
END:DAYLIGHT
BEGIN:STANDARD
TZOFFSETFROM:-0400
TZOFFSETTO:-0500
TZNAME:EST
DTSTART:20261101T060000
END:STANDARD
END:VTIMEZONE
BEGIN:VEVENT
DTSTART;VALUE=DATE:20250623
DTEND;VALUE=DATE:20250712
DTSTAMP:20260423T162852
CREATED:20241108T020543Z
LAST-MODIFIED:20250612T041016Z
UID:10008825-1750636800-1752278399@necc.edu
SUMMARY:Book voucher period for Summer Session II classes
DESCRIPTION:Print View
URL:https://necc.edu/event/book-voucher-period-for-summer-session-ii-classes/
LOCATION:MA
CATEGORIES:Academic Calendar
END:VEVENT
BEGIN:VEVENT
DTSTART;VALUE=DATE:20250707
DTEND;VALUE=DATE:20250708
DTSTAMP:20260423T162852
CREATED:20241108T020545Z
LAST-MODIFIED:20250612T041018Z
UID:10008829-1751846400-1751932799@necc.edu
SUMMARY:Last day to withdraw with a "W" for Summer Session III classes
DESCRIPTION:Print View
URL:https://necc.edu/event/last-day-to-withdraw-with-a-w-for-summer-session-iii-classes/
LOCATION:MA
CATEGORIES:Academic Calendar
END:VEVENT
BEGIN:VEVENT
DTSTART;VALUE=DATE:20250707
DTEND;VALUE=DATE:20250708
DTSTAMP:20260423T162852
CREATED:20241108T020546Z
LAST-MODIFIED:20250612T041018Z
UID:10008830-1751846400-1751932799@necc.edu
SUMMARY:Grades posted to Self-Service
DESCRIPTION:Print View
URL:https://necc.edu/event/grades-posted-to-self-service-3/
LOCATION:MA
CATEGORIES:Academic Calendar
END:VEVENT
BEGIN:VEVENT
DTSTART;VALUE=DATE:20250707
DTEND;VALUE=DATE:20250708
DTSTAMP:20260423T162852
CREATED:20241108T020546Z
LAST-MODIFIED:20250612T041033Z
UID:10008831-1751846400-1751932799@necc.edu
SUMMARY:To receive a full refund for Summer Session II\, classes must be dropped by the close of business
DESCRIPTION:Print View
URL:https://necc.edu/event/to-receive-a-full-refund-for-summer-session-ii-classes-must-be-dropped-by-the-close-of-business/
LOCATION:MA
CATEGORIES:Academic Calendar
END:VEVENT
BEGIN:VEVENT
DTSTART;VALUE=DATE:20250707
DTEND;VALUE=DATE:20250711
DTSTAMP:20260423T162852
CREATED:20250523T151651Z
LAST-MODIFIED:20250523T151651Z
UID:10010576-1751846400-1752191999@necc.edu
SUMMARY:OUI/Motor Vehicle Stops Police Academy Training
DESCRIPTION:OUI/Motor Vehicle Stops Police Academy Training\nPolice Academy will have individuals on campus who will be consuming alcohol. These individuals then participate in field sobriety exercises with the recruits. We will also have vehicles participating in motor vehicle stop scenarios in the Spurk parking lot. \n Print View
URL:https://necc.edu/event/oui-motor-vehicle-stops-police-academy-training/2025-07-07/
LOCATION:Haverhill Campus\, 100 Elliott St\, Haverhill\, MA\, United States
ORGANIZER;CN="NECC Police Academy":MAILTO:jstokel@necc.mass.edu
GEO:42.797649;-71.05113
X-APPLE-STRUCTURED-LOCATION;VALUE=URI;X-ADDRESS=Haverhill Campus 100 Elliott St Haverhill MA United States;X-APPLE-RADIUS=500;X-TITLE=100 Elliott St:geo:-71.05113,42.797649
END:VEVENT
BEGIN:VEVENT
DTSTART;TZID=America/New_York:20250707T140000
DTEND;TZID=America/New_York:20250707T150000
DTSTAMP:20260423T162852
CREATED:20250530T192051Z
LAST-MODIFIED:20250530T192052Z
UID:10010583-1751896800-1751900400@necc.edu
SUMMARY:Info Session: Dental Assisting
DESCRIPTION:At the Information Session you can learn more about what it’s like to be a student in NECC’s Dental Program.\nAttend a Dental Assisting Information Session and Learn More About the Program and NECC\nJoin us for a Dental Assisting Program Information Session and you can: \n\nGet answers to all of your questions about the Dental Assisting Certificate and NECC.\nDiscover career pathways.\n\nDental assistants provide patient care and maintain patient records\, in addition to working closely with dentists and dental hygienists and assisting during procedures and examinations. Job opportunities are excellent and are expected to continue to grow\, especially as research continues to show the link between oral health and overall health. \nThe NECC Dental Assisting Certificate is a criteria-based health program and therefore requires students to attend an information session. \nView all of the Health Information Session Dates \nRegister in Advance\nPlease register online here in advance for the information session. \nThe meeting will take place online with Zoom. After registering\, you will receive a confirmation email containing information about joining the meeting. \nMore Information\nFor more information\, or for sign language interpreting\, please contact Davann Chhem\, Program Coordinator at 978-738-7657. \n Print View
URL:https://necc.edu/event/info-session-dental-assisting-3/
LOCATION:Online\, United States
CATEGORIES:Dental Info Sessions,Health Info Sessions
ORGANIZER;CN="Davann Chhem":MAILTO:dchhem@necc.mass.edu
END:VEVENT
END:VCALENDAR