BEGIN:VCALENDAR
VERSION:2.0
PRODID:-//Northern Essex CC - ECPv6.15.12//NONSGML v1.0//EN
CALSCALE:GREGORIAN
METHOD:PUBLISH
X-ORIGINAL-URL:https://necc.edu
X-WR-CALDESC:Events for Northern Essex CC
REFRESH-INTERVAL;VALUE=DURATION:PT1H
X-Robots-Tag:noindex
X-PUBLISHED-TTL:PT1H
BEGIN:VTIMEZONE
TZID:America/New_York
BEGIN:DAYLIGHT
TZOFFSETFROM:-0500
TZOFFSETTO:-0400
TZNAME:EDT
DTSTART:20240310T070000
END:DAYLIGHT
BEGIN:STANDARD
TZOFFSETFROM:-0400
TZOFFSETTO:-0500
TZNAME:EST
DTSTART:20241103T060000
END:STANDARD
BEGIN:DAYLIGHT
TZOFFSETFROM:-0500
TZOFFSETTO:-0400
TZNAME:EDT
DTSTART:20250309T070000
END:DAYLIGHT
BEGIN:STANDARD
TZOFFSETFROM:-0400
TZOFFSETTO:-0500
TZNAME:EST
DTSTART:20251102T060000
END:STANDARD
BEGIN:DAYLIGHT
TZOFFSETFROM:-0500
TZOFFSETTO:-0400
TZNAME:EDT
DTSTART:20260308T070000
END:DAYLIGHT
BEGIN:STANDARD
TZOFFSETFROM:-0400
TZOFFSETTO:-0500
TZNAME:EST
DTSTART:20261101T060000
END:STANDARD
END:VTIMEZONE
BEGIN:VEVENT
DTSTART;TZID=America/New_York:20250721T090000
DTEND;TZID=America/New_York:20250822T170000
DTSTAMP:20260423T162939
CREATED:20250708T132041Z
LAST-MODIFIED:20250708T132337Z
UID:10010602-1753088400-1755882000@necc.edu
SUMMARY:Fall Financial Aid C.O.R.E. Scholarship
DESCRIPTION:The Fall Financial Aid C.O.R.E. Scholarship application will be available online from July 21st until August 22nd. If a student is in a summer course\, final decisions will be sent out once summer grades have been posted. Please be aware the application may close early depending on the availability of funding for the semester. \nPlease apply here.  \n Print View
URL:https://necc.edu/event/fall-financial-aid-c-o-r-e-scholarship/
LOCATION:MA
CATEGORIES:Scholarship Deadlines
END:VEVENT
BEGIN:VEVENT
DTSTART;VALUE=DATE:20250723
DTEND;VALUE=DATE:20250724
DTSTAMP:20260423T162939
CREATED:20241108T020547Z
LAST-MODIFIED:20250712T041743Z
UID:10008833-1753228800-1753315199@necc.edu
SUMMARY:Last day to withdraw with a "W" for Summer Session II classes
DESCRIPTION:Print View
URL:https://necc.edu/event/last-day-to-withdraw-with-a-w-for-summer-session-ii-classes/
LOCATION:MA
CATEGORIES:Academic Calendar
END:VEVENT
BEGIN:VEVENT
DTSTART;TZID=America/New_York:20250723T130000
DTEND;TZID=America/New_York:20250723T140000
DTSTAMP:20260423T162939
CREATED:20250523T183104Z
LAST-MODIFIED:20250603T123214Z
UID:10010579-1753275600-1753279200@necc.edu
SUMMARY:NECC Library Summer Bookclub
DESCRIPTION:You’re invited to join us this summer for an NECC Book Club! Students\, staff\, and faculty are welcome. Sign up for one\, two\, or three book discussions. Please contact a librarian at library@necc.mass.edu if you would like help getting a copy of one of these books. We hope to see you there. Happy reading!  \nJUNE: We’re reading Call Me by Your Name by Andre Aciman. Find the audiobook here and the print book here.\nBook discussion – Tuesday\, June 24\, 2025\, at 1:00 -2:00 pm\, Bentley Library.   \nJULY: We’re reading American Spy by Lauren Wilkinson. Find the audiobook here and the print book here.\nBook discussion – Wednesday\, July 23\, 2025. 1:00 – 2:00 pm\, Lawrence Campus Library  \nAUGUST: We’re reading Elin Hilderbrand. Browse books by the author here.\nAuthor discussion – Thursday\, August 28\, 2025\, 1:00 – 2:00 pm\, Bentley Library \n Print View
URL:https://necc.edu/event/necc-library-summer-bookclub/
LOCATION:Lawrence Campus\, Lawrence\, MA\, United States
CATEGORIES:Library,Professional Development,Student Life
ORGANIZER;CN="Susan Leonardi":MAILTO:sleonardi@necc.mass.edu
GEO:42.70734;-71.161052
END:VEVENT
BEGIN:VEVENT
DTSTART;TZID=America/New_York:20250723T160000
DTEND;TZID=America/New_York:20250723T180000
DTSTAMP:20260423T162939
CREATED:20250211T170820Z
LAST-MODIFIED:20260406T151312Z
UID:10009414-1753286400-1753293600@necc.edu
SUMMARY:Enrollment Support Extended Hours
DESCRIPTION:Recruitment counselors available every Wednesday to assist with FAFSA\, guided self-placement and orientation \n Print View
URL:https://necc.edu/event/haverhill-campus-after-hours-enrollment-support/2025-07-23/
LOCATION:Haverhill Campus\, 100 Elliott St\, Haverhill\, MA\, United States
CATEGORIES:Info Sessions and Tours
ORGANIZER;CN="Admissions":MAILTO:enrollmentservices@necc.mass.edu
GEO:42.797649;-71.05113
X-APPLE-STRUCTURED-LOCATION;VALUE=URI;X-ADDRESS=Haverhill Campus 100 Elliott St Haverhill MA United States;X-APPLE-RADIUS=500;X-TITLE=100 Elliott St:geo:-71.05113,42.797649
END:VEVENT
END:VCALENDAR