BEGIN:VCALENDAR
VERSION:2.0
PRODID:-//Northern Essex CC - ECPv6.15.12//NONSGML v1.0//EN
CALSCALE:GREGORIAN
METHOD:PUBLISH
X-ORIGINAL-URL:https://necc.edu
X-WR-CALDESC:Events for Northern Essex CC
REFRESH-INTERVAL;VALUE=DURATION:PT1H
X-Robots-Tag:noindex
X-PUBLISHED-TTL:PT1H
BEGIN:VTIMEZONE
TZID:America/New_York
BEGIN:DAYLIGHT
TZOFFSETFROM:-0500
TZOFFSETTO:-0400
TZNAME:EDT
DTSTART:20240310T070000
END:DAYLIGHT
BEGIN:STANDARD
TZOFFSETFROM:-0400
TZOFFSETTO:-0500
TZNAME:EST
DTSTART:20241103T060000
END:STANDARD
BEGIN:DAYLIGHT
TZOFFSETFROM:-0500
TZOFFSETTO:-0400
TZNAME:EDT
DTSTART:20250309T070000
END:DAYLIGHT
BEGIN:STANDARD
TZOFFSETFROM:-0400
TZOFFSETTO:-0500
TZNAME:EST
DTSTART:20251102T060000
END:STANDARD
BEGIN:DAYLIGHT
TZOFFSETFROM:-0500
TZOFFSETTO:-0400
TZNAME:EDT
DTSTART:20260308T070000
END:DAYLIGHT
BEGIN:STANDARD
TZOFFSETFROM:-0400
TZOFFSETTO:-0500
TZNAME:EST
DTSTART:20261101T060000
END:STANDARD
END:VTIMEZONE
BEGIN:VEVENT
DTSTART;TZID=America/New_York:20250721T090000
DTEND;TZID=America/New_York:20250822T170000
DTSTAMP:20260423T191228
CREATED:20250708T132041Z
LAST-MODIFIED:20250708T132337Z
UID:10010602-1753088400-1755882000@necc.edu
SUMMARY:Fall Financial Aid C.O.R.E. Scholarship
DESCRIPTION:The Fall Financial Aid C.O.R.E. Scholarship application will be available online from July 21st until August 22nd. If a student is in a summer course\, final decisions will be sent out once summer grades have been posted. Please be aware the application may close early depending on the availability of funding for the semester. \nPlease apply here.  \n Print View
URL:https://necc.edu/event/fall-financial-aid-c-o-r-e-scholarship/
LOCATION:MA
CATEGORIES:Scholarship Deadlines
END:VEVENT
BEGIN:VEVENT
DTSTART;VALUE=DATE:20250802
DTEND;VALUE=DATE:20250809
DTSTAMP:20260423T191228
CREATED:20241108T020548Z
LAST-MODIFIED:20250712T041745Z
UID:10008835-1754092800-1754697599@necc.edu
SUMMARY:Summer Session II and Session III Final Exam Period
DESCRIPTION:Print View
URL:https://necc.edu/event/summer-session-ii-and-session-iii-final-exam-period/
LOCATION:MA
CATEGORIES:Academic Calendar
END:VEVENT
BEGIN:VEVENT
DTSTART;TZID=America/New_York:20250806T090000
DTEND;TZID=America/New_York:20250806T180000
DTSTAMP:20260423T191228
CREATED:20250710T192616Z
LAST-MODIFIED:20250710T200600Z
UID:10010603-1754470800-1754503200@necc.edu
SUMMARY:Finish What You Started!!!
DESCRIPTION:Join us in the Behrakis Student Center on the Haverhill Campus on Wednesday\, August 6th between 9:00 AM and 6:00 PM to complete your enrollment steps! Staff from recruitment\, enrollment services\, financial aid\, student accounts\, testing\, orientation and academic advising will be here to help you finish what you started\, and get you enrolled in your fall 2025 classes!! We can’t wait to see you!!! \n Print View
URL:https://necc.edu/event/finish-what-you-started/
LOCATION:Haverhill Campus\, 100 Elliott St\, Haverhill\, MA\, United States
ORGANIZER;CN="Admissions":MAILTO:enrollmentservices@necc.mass.edu
GEO:42.797649;-71.05113
X-APPLE-STRUCTURED-LOCATION;VALUE=URI;X-ADDRESS=Haverhill Campus 100 Elliott St Haverhill MA United States;X-APPLE-RADIUS=500;X-TITLE=100 Elliott St:geo:-71.05113,42.797649
END:VEVENT
BEGIN:VEVENT
DTSTART;TZID=America/New_York:20250806T123000
DTEND;TZID=America/New_York:20250806T133000
DTSTAMP:20260423T191228
CREATED:20250605T135248Z
LAST-MODIFIED:20250731T145934Z
UID:10010589-1754483400-1754487000@necc.edu
SUMMARY:Bentley Library Summer Ice Cream Social
DESCRIPTION:Join us at the Bentley Library Summer Ice Cream Social on Wednesday\, August 6th\, for an afternoon of fun and cool treats! Bring your bagged lunch and join us on the patio from 12 to 1:30 p.m. Student Life will bring the lawn games so you can challenge coworkers or meet new ones before the fall semester. Indulge your sweet tooth with ice cream and frozen novelties provided by NECC Library while supplies last. \nWe welcome all NECC staff and faculty to stop by to enjoy the summer vibes. Contact Susan Leonardi\, sleonardi@necc.mass.edu for more information.  \n Print View
URL:https://necc.edu/event/83005/
LOCATION:Haverhill Campus\, 100 Elliott St\, Haverhill\, MA\, United States
CATEGORIES:Library,Student Life
ORGANIZER;CN="Susan Leonardi":MAILTO:sleonardi@necc.mass.edu
GEO:42.797649;-71.05113
X-APPLE-STRUCTURED-LOCATION;VALUE=URI;X-ADDRESS=Haverhill Campus 100 Elliott St Haverhill MA United States;X-APPLE-RADIUS=500;X-TITLE=100 Elliott St:geo:-71.05113,42.797649
END:VEVENT
BEGIN:VEVENT
DTSTART;TZID=America/New_York:20250806T160000
DTEND;TZID=America/New_York:20250806T180000
DTSTAMP:20260423T191228
CREATED:20250211T170820Z
LAST-MODIFIED:20260406T151312Z
UID:10009416-1754496000-1754503200@necc.edu
SUMMARY:Enrollment Support Extended Hours
DESCRIPTION:Recruitment counselors available every Wednesday to assist with FAFSA\, guided self-placement and orientation \n Print View
URL:https://necc.edu/event/haverhill-campus-after-hours-enrollment-support/2025-08-06/
LOCATION:Haverhill Campus\, 100 Elliott St\, Haverhill\, MA\, United States
CATEGORIES:Info Sessions and Tours
ORGANIZER;CN="Admissions":MAILTO:enrollmentservices@necc.mass.edu
GEO:42.797649;-71.05113
X-APPLE-STRUCTURED-LOCATION;VALUE=URI;X-ADDRESS=Haverhill Campus 100 Elliott St Haverhill MA United States;X-APPLE-RADIUS=500;X-TITLE=100 Elliott St:geo:-71.05113,42.797649
END:VEVENT
END:VCALENDAR