BEGIN:VCALENDAR
VERSION:2.0
PRODID:-//Northern Essex CC - ECPv6.15.12//NONSGML v1.0//EN
CALSCALE:GREGORIAN
METHOD:PUBLISH
X-WR-CALNAME:Northern Essex CC
X-ORIGINAL-URL:https://necc.edu
X-WR-CALDESC:Events for Northern Essex CC
REFRESH-INTERVAL;VALUE=DURATION:PT1H
X-Robots-Tag:noindex
X-PUBLISHED-TTL:PT1H
BEGIN:VTIMEZONE
TZID:America/New_York
BEGIN:DAYLIGHT
TZOFFSETFROM:-0500
TZOFFSETTO:-0400
TZNAME:EDT
DTSTART:20240310T070000
END:DAYLIGHT
BEGIN:STANDARD
TZOFFSETFROM:-0400
TZOFFSETTO:-0500
TZNAME:EST
DTSTART:20241103T060000
END:STANDARD
BEGIN:DAYLIGHT
TZOFFSETFROM:-0500
TZOFFSETTO:-0400
TZNAME:EDT
DTSTART:20250309T070000
END:DAYLIGHT
BEGIN:STANDARD
TZOFFSETFROM:-0400
TZOFFSETTO:-0500
TZNAME:EST
DTSTART:20251102T060000
END:STANDARD
BEGIN:DAYLIGHT
TZOFFSETFROM:-0500
TZOFFSETTO:-0400
TZNAME:EDT
DTSTART:20260308T070000
END:DAYLIGHT
BEGIN:STANDARD
TZOFFSETFROM:-0400
TZOFFSETTO:-0500
TZNAME:EST
DTSTART:20261101T060000
END:STANDARD
END:VTIMEZONE
BEGIN:VEVENT
DTSTART;TZID=America/New_York:20250721T090000
DTEND;TZID=America/New_York:20250822T170000
DTSTAMP:20260423T191141
CREATED:20250708T132041Z
LAST-MODIFIED:20250708T132337Z
UID:10010602-1753088400-1755882000@necc.edu
SUMMARY:Fall Financial Aid C.O.R.E. Scholarship
DESCRIPTION:The Fall Financial Aid C.O.R.E. Scholarship application will be available online from July 21st until August 22nd. If a student is in a summer course\, final decisions will be sent out once summer grades have been posted. Please be aware the application may close early depending on the availability of funding for the semester. \nPlease apply here.  \n Print View
URL:https://necc.edu/event/fall-financial-aid-c-o-r-e-scholarship/
LOCATION:MA
CATEGORIES:Scholarship Deadlines
END:VEVENT
BEGIN:VEVENT
DTSTART;VALUE=DATE:20250811
DTEND;VALUE=DATE:20250812
DTSTAMP:20260423T191141
CREATED:20241108T020554Z
LAST-MODIFIED:20250811T041948Z
UID:10008837-1754870400-1754956799@necc.edu
SUMMARY:Web registration ends at midnight for Full Semester and Session I classes
DESCRIPTION:At this point forward\, students need to self-pay and/or sign up for NECC’s payment plan or apply for Financial Aid at the point of registration \n Print View
URL:https://necc.edu/event/fall-2025-bills-due/
LOCATION:MA
CATEGORIES:Academic Calendar
END:VEVENT
BEGIN:VEVENT
DTSTART;VALUE=DATE:20250811
DTEND;VALUE=DATE:20250812
DTSTAMP:20260423T191141
CREATED:20250413T040743Z
LAST-MODIFIED:20250811T041948Z
UID:10010437-1754870400-1754956799@necc.edu
SUMMARY:Students will be dropped from classes for non-payment
DESCRIPTION:Print View
URL:https://necc.edu/event/students-will-be-dropped-from-classes-for-non-payment-2/
LOCATION:MA
CATEGORIES:Academic Calendar
END:VEVENT
BEGIN:VEVENT
DTSTART;TZID=America/New_York:20250811T000000
DTEND;TZID=America/New_York:20250916T235900
DTSTAMP:20260423T191141
CREATED:20250801T140132Z
LAST-MODIFIED:20250801T140132Z
UID:10010637-1754870400-1758067140@necc.edu
SUMMARY:NECC Internship Stipend | Fall 2025 Applications
DESCRIPTION:Are you a current student doing an internship for course credit this fall semester? Consider applying for a stipend! \nNorthern Essex Community College is providing stipends to assist students completing a for-credit\, unpaid or underpaid internship\, or other experiential learning. This is intended to help alleviate the cost of expenses and the reduced ability to work while completing this academic experience. We have limited stipends available and anticipate a competitive application pool. Practicums and clinicals could be considered eligible for this stipend; however\, some programs have external accreditation restrictions that prohibit them from receiving payment for experiential learning hours required for licensure (e.g.\, Respiratory Care\, Sleep Technologist). \nApplications will be accepted from August 11th until September 16th at 11:59 pm. \nVisit the website below to review eligibility criteria\, guidelines\, and apply. \n Print View
URL:https://necc.edu/event/necc-internship-stipend-fall-2025-applications/
LOCATION:MA
CATEGORIES:Career Services
ORGANIZER;CN="Career Services":MAILTO:kyeatonhromada@necc.mass.edu
END:VEVENT
BEGIN:VEVENT
DTSTART;TZID=America/New_York:20250811T100000
DTEND;TZID=America/New_York:20250811T110000
DTSTAMP:20260423T191141
CREATED:20250522T171846Z
LAST-MODIFIED:20250522T171846Z
UID:10010565-1754906400-1754910000@necc.edu
SUMMARY:Information Session: Respiratory Care Program
DESCRIPTION: \n \nAre You Looking for a Degree in Respiratory Care? Attend a Respiratory Care Associate Degree Information Session and Get the Answers You Need!\nWith NECC’s Respiratory Care Program you can prepare for a rewarding career as a respiratory therapist.  Respiratory therapists work in hospitals\, physician’s offices\, nursing care facilities\, home health agencies\, and more. Find out more about the program\, facilities\, and NECC\, by attending a Respiratory Care Associate Degree Information Session on our Lawrence Campus. \nJoin the Info Session Online\nThe meeting will take place online with Zoom: \nhttps://zoom.us/j/8755564735 \nZoom Meeting ID\n875 556 4735 \nMeeting Password\n746723 \nOne-Tap mobile\n+19292056099\,\,8755564735# US (New York) \n+13017158592\,\,8755564735# US (Washington DC) \nMore Information\nFor more information please contact Jennifer Jackson-Stevens\, Program Director at 978-655-5893 or email jjacksonstevens@necc.mass.edu \nYou can also read more about our Respiratory Care Program in the NECC Newsroom. \n Print View
URL:https://necc.edu/event/information-session-respiratory-care-program-2/
LOCATION:Online\, United States
CATEGORIES:Health Info Sessions,Home Page Events,Respiratory Care Info Session
ORGANIZER;CN="Jennifer Jackson-Stevens":MAILTO:jjacksonstevens@necc.mass.edu
END:VEVENT
BEGIN:VEVENT
DTSTART;TZID=America/New_York:20250811T140000
DTEND;TZID=America/New_York:20250811T150000
DTSTAMP:20260423T191141
CREATED:20250530T192605Z
LAST-MODIFIED:20250530T192605Z
UID:10010586-1754920800-1754924400@necc.edu
SUMMARY:Info Session: Dental Assisting
DESCRIPTION:At the Information Session you can learn more about what it’s like to be a student in NECC’s Dental Program.\nAttend a Dental Assisting Information Session and Learn More About the Program and NECC\nJoin us for a Dental Assisting Program Information Session and you can: \n\nGet answers to all of your questions about the Dental Assisting Certificate and NECC.\nDiscover career pathways.\n\nDental assistants provide patient care and maintain patient records\, in addition to working closely with dentists and dental hygienists and assisting during procedures and examinations. Job opportunities are excellent and are expected to continue to grow\, especially as research continues to show the link between oral health and overall health. \nThe NECC Dental Assisting Certificate is a criteria-based health program and therefore requires students to attend an information session. \nView all of the Health Information Session Dates \nRegister in Advance\nPlease register online here in advance for the information session. \nThe meeting will take place online with Zoom. After registering\, you will receive a confirmation email containing information about joining the meeting. \nMore Information\nFor more information\, or for sign language interpreting\, please contact Davann Chhem\, Program Coordinator at 978-738-7657. \n Print View
URL:https://necc.edu/event/info-session-dental-assisting-6/
LOCATION:Online\, United States
CATEGORIES:Dental Info Sessions,Health Info Sessions
ORGANIZER;CN="Davann Chhem":MAILTO:dchhem@necc.mass.edu
END:VEVENT
BEGIN:VEVENT
DTSTART;TZID=America/New_York:20250811T150000
DTEND;TZID=America/New_York:20250811T160000
DTSTAMP:20260423T191141
CREATED:20250612T164109Z
LAST-MODIFIED:20250612T164109Z
UID:10010597-1754924400-1754928000@necc.edu
SUMMARY:Nursing Information session
DESCRIPTION:Students in NECC’s Nursing Programs practicing on state-of-the-art equipment.\nAttend a Nursing Information Session and Learn More About the Program and NECC!\n\nLearn more about the Nursing Programs\nGet all of your questions answered.\nDiscover career pathways.\nTour the Lawrence NECC campus.\n\nLocation\nDr. Ibrahim El-Hefni Allied Health & Technology Center (LC Building)\n414 Common Street\nLawrence MA \nParking\nParking in Lawrence is available in the three parking lots located on Common Street. One parking lot is in the fenced lot at the Dimitry Building\, another open lot across the street from the Dimitry Building\, and a third parking lot across the street from the El Hefni Building. \nNECC requires a parking decal to park in many of our parking lots. Visitors must park in Visitor or Free parking lots. \nView maps for Visitor and free parking. \nPlease Note\n\nThe mandatory Nursing Information Session are required for students applying to the Nursing program.\nDue to this requirement attendees are asked to be on-time for the information session.\nWe start promptly at 3:00 pm. Late admissions will not be allowed.  \nThis info session is in-person only.\nAdvanced registration is not required.\n\nView all of the Health Information Session Dates and Nursing Programs at NECC. \n Print View
URL:https://necc.edu/event/nursing-information-session-4/
LOCATION:Lawrence Campus\, Lawrence\, MA\, United States
CATEGORIES:Health Info Sessions,Home Page Events,Nursing General Info Sessions
ORGANIZER;CN="Dawn Wheaten":MAILTO:dwheaton@necc.mass.edu
GEO:42.70734;-71.161052
END:VEVENT
END:VCALENDAR