BEGIN:VCALENDAR
VERSION:2.0
PRODID:-//Northern Essex CC - ECPv6.15.12//NONSGML v1.0//EN
CALSCALE:GREGORIAN
METHOD:PUBLISH
X-WR-CALNAME:Northern Essex CC
X-ORIGINAL-URL:https://necc.edu
X-WR-CALDESC:Events for Northern Essex CC
REFRESH-INTERVAL;VALUE=DURATION:PT1H
X-Robots-Tag:noindex
X-PUBLISHED-TTL:PT1H
BEGIN:VTIMEZONE
TZID:America/New_York
BEGIN:DAYLIGHT
TZOFFSETFROM:-0500
TZOFFSETTO:-0400
TZNAME:EDT
DTSTART:20240310T070000
END:DAYLIGHT
BEGIN:STANDARD
TZOFFSETFROM:-0400
TZOFFSETTO:-0500
TZNAME:EST
DTSTART:20241103T060000
END:STANDARD
BEGIN:DAYLIGHT
TZOFFSETFROM:-0500
TZOFFSETTO:-0400
TZNAME:EDT
DTSTART:20250309T070000
END:DAYLIGHT
BEGIN:STANDARD
TZOFFSETFROM:-0400
TZOFFSETTO:-0500
TZNAME:EST
DTSTART:20251102T060000
END:STANDARD
BEGIN:DAYLIGHT
TZOFFSETFROM:-0500
TZOFFSETTO:-0400
TZNAME:EDT
DTSTART:20260308T070000
END:DAYLIGHT
BEGIN:STANDARD
TZOFFSETFROM:-0400
TZOFFSETTO:-0500
TZNAME:EST
DTSTART:20261101T060000
END:STANDARD
END:VTIMEZONE
BEGIN:VEVENT
DTSTART;TZID=America/New_York:20250811T000000
DTEND;TZID=America/New_York:20250916T235900
DTSTAMP:20260423T191141
CREATED:20250801T140132Z
LAST-MODIFIED:20250801T140132Z
UID:10010637-1754870400-1758067140@necc.edu
SUMMARY:NECC Internship Stipend | Fall 2025 Applications
DESCRIPTION:Are you a current student doing an internship for course credit this fall semester? Consider applying for a stipend! \nNorthern Essex Community College is providing stipends to assist students completing a for-credit\, unpaid or underpaid internship\, or other experiential learning. This is intended to help alleviate the cost of expenses and the reduced ability to work while completing this academic experience. We have limited stipends available and anticipate a competitive application pool. Practicums and clinicals could be considered eligible for this stipend; however\, some programs have external accreditation restrictions that prohibit them from receiving payment for experiential learning hours required for licensure (e.g.\, Respiratory Care\, Sleep Technologist). \nApplications will be accepted from August 11th until September 16th at 11:59 pm. \nVisit the website below to review eligibility criteria\, guidelines\, and apply. \n Print View
URL:https://necc.edu/event/necc-internship-stipend-fall-2025-applications/
LOCATION:MA
CATEGORIES:Career Services
ORGANIZER;CN="Career Services":MAILTO:kyeatonhromada@necc.mass.edu
END:VEVENT
BEGIN:VEVENT
DTSTART;VALUE=DATE:20250825
DTEND;VALUE=DATE:20250920
DTSTAMP:20260423T191141
CREATED:20241108T020603Z
LAST-MODIFIED:20250910T043509Z
UID:10008856-1756080000-1758326399@necc.edu
SUMMARY:Book voucher period for Full Semester and Fall Session I classes
DESCRIPTION:Print View
URL:https://necc.edu/event/book-voucher-period-for-full-semester-and-fall-session-i-classes/
LOCATION:MA
CATEGORIES:Academic Calendar
END:VEVENT
BEGIN:VEVENT
DTSTART;VALUE=DATE:20250825
DTEND;VALUE=DATE:20250902
DTSTAMP:20260423T191141
CREATED:20250801T175451Z
LAST-MODIFIED:20250813T185447Z
UID:10010744-1756108800-1756746000@necc.edu
SUMMARY:Prep for Success Online Course
DESCRIPTION:This one-week online course will equip you with the skills and knowledge needed to thrive online. Hosted on NECC’s Blackboard platform\, the course provides hands-on practice with the technologies and strategies used in online courses. Whether you’re new to online learning or need a refresher\, the course instructor and fellow students will support you in building your confidence and comfort with digital tools. By the end\, you’ll be prepared to succeed in any online or blended NECC course. This course is highly recommended for students who are new to online learning.  \nFall Session I: Monday\, August 18 – Sunday\, August 24\, 2025 \nFall Session I: Monday\, August 25 – Sunday\, August 31\, 2025 \nFall Session II: Monday\, October 20 – Sunday\, October 26\, 2025 \nRegister Today! \nPre-registration is required: Prep for Success Online Registration Form \n Print View
URL:https://necc.edu/event/prep-for-success-online-course/2025-08-25/
LOCATION:Online\, United States
CATEGORIES:Student Life,Student Support Resources
END:VEVENT
BEGIN:VEVENT
DTSTART;TZID=America/New_York:20250827T130000
DTEND;TZID=America/New_York:20250827T140000
DTSTAMP:20260423T191141
CREATED:20250523T183557Z
LAST-MODIFIED:20250806T135025Z
UID:10010580-1756299600-1756303200@necc.edu
SUMMARY:NECC Library Summer Bookclub
DESCRIPTION:You’re invited to join us this summer for an NECC Book Club! Students\, staff\, and faculty are welcome. Sign up for one\, two\, or three book discussions. Please contact a librarian at library@necc.mass.edu if you would like help getting a copy of one of these books. We hope to see you there. Happy reading!  \nJUNE: We’re reading Call Me by Your Name by Andre Aciman. Find the audiobook here and the print book here.\nBook discussion – Tuesday\, June 24\, 2025\, at 1:00 -2:00 pm\, Bentley Library.   \nJULY: We’re reading American Spy by Lauren Wilkinson. Find the audiobook here and the print book here.\nBook discussion – Wednesday\, July 23\, 2025. 1:00 – 2:00 pm\, Lawrence Campus Library  \nAUGUST: We’re reading Elin Hilderbrand. Browse books by the author here.\nAuthor discussion – Wednesday\, August 27\, 2025\, 1:00 – 2:00 pm\, Bentley Library \n Print View
URL:https://necc.edu/event/necc-library-summer-bookclub-2/
LOCATION:Haverhill Campus\, 100 Elliott St\, Haverhill\, MA\, United States
CATEGORIES:Library,Professional Development,Student Activities,Student Life
ORGANIZER;CN="Susan Leonardi":MAILTO:sleonardi@necc.mass.edu
GEO:42.797649;-71.05113
X-APPLE-STRUCTURED-LOCATION;VALUE=URI;X-ADDRESS=Haverhill Campus 100 Elliott St Haverhill MA United States;X-APPLE-RADIUS=500;X-TITLE=100 Elliott St:geo:-71.05113,42.797649
END:VEVENT
BEGIN:VEVENT
DTSTART;TZID=America/New_York:20250827T160000
DTEND;TZID=America/New_York:20250827T180000
DTSTAMP:20260423T191141
CREATED:20250211T170820Z
LAST-MODIFIED:20260406T151312Z
UID:10009419-1756310400-1756317600@necc.edu
SUMMARY:Enrollment Support Extended Hours
DESCRIPTION:Recruitment counselors available every Wednesday to assist with FAFSA\, guided self-placement and orientation \n Print View
URL:https://necc.edu/event/haverhill-campus-after-hours-enrollment-support/2025-08-27/
LOCATION:Haverhill Campus\, 100 Elliott St\, Haverhill\, MA\, United States
CATEGORIES:Info Sessions and Tours
ORGANIZER;CN="Admissions":MAILTO:enrollmentservices@necc.mass.edu
GEO:42.797649;-71.05113
X-APPLE-STRUCTURED-LOCATION;VALUE=URI;X-ADDRESS=Haverhill Campus 100 Elliott St Haverhill MA United States;X-APPLE-RADIUS=500;X-TITLE=100 Elliott St:geo:-71.05113,42.797649
END:VEVENT
END:VCALENDAR