BEGIN:VCALENDAR
VERSION:2.0
PRODID:-//Northern Essex CC - ECPv6.15.12//NONSGML v1.0//EN
CALSCALE:GREGORIAN
METHOD:PUBLISH
X-WR-CALNAME:Northern Essex CC
X-ORIGINAL-URL:https://necc.edu
X-WR-CALDESC:Events for Northern Essex CC
REFRESH-INTERVAL;VALUE=DURATION:PT1H
X-Robots-Tag:noindex
X-PUBLISHED-TTL:PT1H
BEGIN:VTIMEZONE
TZID:America/New_York
BEGIN:DAYLIGHT
TZOFFSETFROM:-0500
TZOFFSETTO:-0400
TZNAME:EDT
DTSTART:20240310T070000
END:DAYLIGHT
BEGIN:STANDARD
TZOFFSETFROM:-0400
TZOFFSETTO:-0500
TZNAME:EST
DTSTART:20241103T060000
END:STANDARD
BEGIN:DAYLIGHT
TZOFFSETFROM:-0500
TZOFFSETTO:-0400
TZNAME:EDT
DTSTART:20250309T070000
END:DAYLIGHT
BEGIN:STANDARD
TZOFFSETFROM:-0400
TZOFFSETTO:-0500
TZNAME:EST
DTSTART:20251102T060000
END:STANDARD
BEGIN:DAYLIGHT
TZOFFSETFROM:-0500
TZOFFSETTO:-0400
TZNAME:EDT
DTSTART:20260308T070000
END:DAYLIGHT
BEGIN:STANDARD
TZOFFSETFROM:-0400
TZOFFSETTO:-0500
TZNAME:EST
DTSTART:20261101T060000
END:STANDARD
END:VTIMEZONE
BEGIN:VEVENT
DTSTART;TZID=America/New_York:20250811T000000
DTEND;TZID=America/New_York:20250916T235900
DTSTAMP:20260423T191140
CREATED:20250801T140132Z
LAST-MODIFIED:20250801T140132Z
UID:10010637-1754870400-1758067140@necc.edu
SUMMARY:NECC Internship Stipend | Fall 2025 Applications
DESCRIPTION:Are you a current student doing an internship for course credit this fall semester? Consider applying for a stipend! \nNorthern Essex Community College is providing stipends to assist students completing a for-credit\, unpaid or underpaid internship\, or other experiential learning. This is intended to help alleviate the cost of expenses and the reduced ability to work while completing this academic experience. We have limited stipends available and anticipate a competitive application pool. Practicums and clinicals could be considered eligible for this stipend; however\, some programs have external accreditation restrictions that prohibit them from receiving payment for experiential learning hours required for licensure (e.g.\, Respiratory Care\, Sleep Technologist). \nApplications will be accepted from August 11th until September 16th at 11:59 pm. \nVisit the website below to review eligibility criteria\, guidelines\, and apply. \n Print View
URL:https://necc.edu/event/necc-internship-stipend-fall-2025-applications/
LOCATION:MA
CATEGORIES:Career Services
ORGANIZER;CN="Career Services":MAILTO:kyeatonhromada@necc.mass.edu
END:VEVENT
BEGIN:VEVENT
DTSTART;VALUE=DATE:20250825
DTEND;VALUE=DATE:20250920
DTSTAMP:20260423T191140
CREATED:20241108T020603Z
LAST-MODIFIED:20250910T043509Z
UID:10008856-1756080000-1758326399@necc.edu
SUMMARY:Book voucher period for Full Semester and Fall Session I classes
DESCRIPTION:Print View
URL:https://necc.edu/event/book-voucher-period-for-full-semester-and-fall-session-i-classes/
LOCATION:MA
CATEGORIES:Academic Calendar
END:VEVENT
BEGIN:VEVENT
DTSTART;VALUE=DATE:20250902
DTEND;VALUE=DATE:20250903
DTSTAMP:20260423T191140
CREATED:20241108T020558Z
LAST-MODIFIED:20250825T134942Z
UID:10008844-1756771200-1756857599@necc.edu
SUMMARY:Fall Convocation
DESCRIPTION:Print View
URL:https://necc.edu/event/fall-convocation-2/
LOCATION:MA
CATEGORIES:Academic Calendar,Home Page Events
END:VEVENT
BEGIN:VEVENT
DTSTART;VALUE=DATE:20250902
DTEND;VALUE=DATE:20250903
DTSTAMP:20260423T191140
CREATED:20241108T020558Z
LAST-MODIFIED:20250811T041950Z
UID:10008845-1756771200-1756857599@necc.edu
SUMMARY:2025-2026 Academic Year begins
DESCRIPTION:Print View
URL:https://necc.edu/event/2025-2026-academic-year-begins/
LOCATION:MA
CATEGORIES:Academic Calendar
END:VEVENT
END:VCALENDAR