BEGIN:VCALENDAR
VERSION:2.0
PRODID:-//Northern Essex CC - ECPv6.15.12//NONSGML v1.0//EN
CALSCALE:GREGORIAN
METHOD:PUBLISH
X-WR-CALNAME:Northern Essex CC
X-ORIGINAL-URL:https://necc.edu
X-WR-CALDESC:Events for Northern Essex CC
REFRESH-INTERVAL;VALUE=DURATION:PT1H
X-Robots-Tag:noindex
X-PUBLISHED-TTL:PT1H
BEGIN:VTIMEZONE
TZID:America/New_York
BEGIN:DAYLIGHT
TZOFFSETFROM:-0500
TZOFFSETTO:-0400
TZNAME:EDT
DTSTART:20240310T070000
END:DAYLIGHT
BEGIN:STANDARD
TZOFFSETFROM:-0400
TZOFFSETTO:-0500
TZNAME:EST
DTSTART:20241103T060000
END:STANDARD
BEGIN:DAYLIGHT
TZOFFSETFROM:-0500
TZOFFSETTO:-0400
TZNAME:EDT
DTSTART:20250309T070000
END:DAYLIGHT
BEGIN:STANDARD
TZOFFSETFROM:-0400
TZOFFSETTO:-0500
TZNAME:EST
DTSTART:20251102T060000
END:STANDARD
BEGIN:DAYLIGHT
TZOFFSETFROM:-0500
TZOFFSETTO:-0400
TZNAME:EDT
DTSTART:20260308T070000
END:DAYLIGHT
BEGIN:STANDARD
TZOFFSETFROM:-0400
TZOFFSETTO:-0500
TZNAME:EST
DTSTART:20261101T060000
END:STANDARD
END:VTIMEZONE
BEGIN:VEVENT
DTSTART;TZID=America/New_York:20250811T000000
DTEND;TZID=America/New_York:20250916T235900
DTSTAMP:20260423T191140
CREATED:20250801T140132Z
LAST-MODIFIED:20250801T140132Z
UID:10010637-1754870400-1758067140@necc.edu
SUMMARY:NECC Internship Stipend | Fall 2025 Applications
DESCRIPTION:Are you a current student doing an internship for course credit this fall semester? Consider applying for a stipend! \nNorthern Essex Community College is providing stipends to assist students completing a for-credit\, unpaid or underpaid internship\, or other experiential learning. This is intended to help alleviate the cost of expenses and the reduced ability to work while completing this academic experience. We have limited stipends available and anticipate a competitive application pool. Practicums and clinicals could be considered eligible for this stipend; however\, some programs have external accreditation restrictions that prohibit them from receiving payment for experiential learning hours required for licensure (e.g.\, Respiratory Care\, Sleep Technologist). \nApplications will be accepted from August 11th until September 16th at 11:59 pm. \nVisit the website below to review eligibility criteria\, guidelines\, and apply. \n Print View
URL:https://necc.edu/event/necc-internship-stipend-fall-2025-applications/
LOCATION:MA
CATEGORIES:Career Services
ORGANIZER;CN="Career Services":MAILTO:kyeatonhromada@necc.mass.edu
END:VEVENT
BEGIN:VEVENT
DTSTART;VALUE=DATE:20250825
DTEND;VALUE=DATE:20250920
DTSTAMP:20260423T191140
CREATED:20241108T020603Z
LAST-MODIFIED:20250910T043509Z
UID:10008856-1756080000-1758326399@necc.edu
SUMMARY:Book voucher period for Full Semester and Fall Session I classes
DESCRIPTION:Print View
URL:https://necc.edu/event/book-voucher-period-for-full-semester-and-fall-session-i-classes/
LOCATION:MA
CATEGORIES:Academic Calendar
END:VEVENT
BEGIN:VEVENT
DTSTART;VALUE=DATE:20250903
DTEND;VALUE=DATE:20250906
DTSTAMP:20260423T191140
CREATED:20241108T020600Z
LAST-MODIFIED:20250811T042000Z
UID:10008849-1756857600-1757116799@necc.edu
SUMMARY:Add/drop period for Fall Session I classes
DESCRIPTION:Print View
URL:https://necc.edu/event/add-drop-period-for-fall-session-i-classes/
LOCATION:MA
CATEGORIES:Academic Calendar
END:VEVENT
BEGIN:VEVENT
DTSTART;VALUE=DATE:20250903
DTEND;VALUE=DATE:20250910
DTSTAMP:20260423T191140
CREATED:20241108T020559Z
LAST-MODIFIED:20250811T042000Z
UID:10008847-1756857600-1757462399@necc.edu
SUMMARY:Add/drop period for Full Semester classes
DESCRIPTION:Print View
URL:https://necc.edu/event/add-drop-period-for-full-semester-classes/
LOCATION:MA
CATEGORIES:Academic Calendar
END:VEVENT
BEGIN:VEVENT
DTSTART;TZID=America/New_York:20250904T073000
DTEND;TZID=America/New_York:20250904T183000
DTSTAMP:20260423T191140
CREATED:20250807T192347Z
LAST-MODIFIED:20250808T172110Z
UID:10010664-1756971000-1757010600@necc.edu
SUMMARY:Weeks of Welcome (WOW)
DESCRIPTION:During the Fall semester on September 3\, September 4\, September 5 and September 8\, there are welcome tables at the entrances of our academic buildings from 7:45am-6:45pm. \nThere will be tables at the following locations on both Haverhill and Lawrence campus. \n  \nNECC Haverhill – Building C- Spurk\, Lobby Floor 1 \nNECC Haverhill – Building TC – Technology Center\, Lobby Floor 1\n  \nNECC Lawrence – Building L- Dimitry Building\, Atrium\nNECC Lawrence – Building LC- El-Hefni Health & Technology\, Lobby Floor 1\nCome on in and become part of the Knight family. Find some helpful resources to make your semester a success and have your questions answered by our staff. \n Print View
URL:https://necc.edu/event/weeks-of-welcome-for-haverhill-campus/
LOCATION:All Campuses\, Lawrence\, MA\, United States
CATEGORIES:Student Life
ORGANIZER;CN="Student Life":MAILTO:studentlife@necc.mass.edu
GEO:42.709053;-71.169601
END:VEVENT
BEGIN:VEVENT
DTSTART;TZID=America/New_York:20250904T080000
DTEND;TZID=America/New_York:20251105T170000
DTSTAMP:20260423T191140
CREATED:20250904T191812Z
LAST-MODIFIED:20250904T192249Z
UID:10010848-1756972800-1762362000@necc.edu
SUMMARY:Share Your Thoughts: Lawrence Campus Perception Survey
DESCRIPTION:Join Us in Shaping Lawrence’s Future! \nWe want to hear from YOU! We’re exploring ways to enhance campus vibrancy and strengthen connections between NECC and the Lawrence community.  \nPlease take our quick 5-minute survey here: https://forms.office.com/r/wzJscM5wXn The deadline to complete the survey is November 5\, 2025.  \nEvery perspective – from longtime residents to new students\, from faculty to community leaders – adds valuable insight to this important conversation about our shared future. \nYour insights will directly shape exciting new initiatives including: \n\nDynamic community events and programming that bring us all together\nEnhanced spaces that welcome students\, families\, and neighbors alike\nMeaningful partnerships between NECC and local organizations\nCreative ways to make our campus a cornerstone of Lawrence life \n\nQuestions? We’d love to connect! Maria Aybar\, Program Manager\, Lawrence Campus and Community Relations Maybar@necc.mass.edu (978) 738-7420 \n Print View
URL:https://necc.edu/event/share-your-thoughts-lawrence-campus-perception-survey/
LOCATION:MA
CATEGORIES:Community
END:VEVENT
BEGIN:VEVENT
DTSTART;TZID=America/New_York:20250904T103000
DTEND;TZID=America/New_York:20250904T123000
DTSTAMP:20260423T191140
CREATED:20250827T134057Z
LAST-MODIFIED:20250827T162404Z
UID:10010765-1756981800-1756989000@necc.edu
SUMMARY:WOW: Binder Bar - Lawrence
DESCRIPTION:Start your semester strong at the Binder Bar\, hosted by the Office of Student Life! Drop in to pick up free school supplies and get organized for the year ahead. Our team will be on hand to help you set up your binder\, share success tips\, and connect you with campus resources. \nCome by\, stock up\, and leave ready to tackle the semester with confidence! \n Print View
URL:https://necc.edu/event/wow-binder-bar-2/
LOCATION:Lawrence Campus\, Lawrence\, MA\, United States
CATEGORIES:Student Activities,Student Life
GEO:42.70734;-71.161052
END:VEVENT
BEGIN:VEVENT
DTSTART;TZID=America/New_York:20250904T140000
DTEND;TZID=America/New_York:20250904T160000
DTSTAMP:20260423T191140
CREATED:20250827T133951Z
LAST-MODIFIED:20250827T162418Z
UID:10010764-1756994400-1757001600@necc.edu
SUMMARY:WOW: Binder Bar - Haverhill
DESCRIPTION:Start your semester strong at the Binder Bar\, hosted by the Office of Student Life! Drop in to pick up free school supplies and get organized for the year ahead. Our team will be on hand to help you set up your binder\, share success tips\, and connect you with campus resources. \nCome by\, stock up\, and leave ready to tackle the semester with confidence! \n Print View
URL:https://necc.edu/event/wow-binder-bar/
LOCATION:Haverhill Campus\, 100 Elliott St\, Haverhill\, MA\, United States
CATEGORIES:Student Activities,Student Life
GEO:42.797649;-71.05113
X-APPLE-STRUCTURED-LOCATION;VALUE=URI;X-ADDRESS=Haverhill Campus 100 Elliott St Haverhill MA United States;X-APPLE-RADIUS=500;X-TITLE=100 Elliott St:geo:-71.05113,42.797649
END:VEVENT
BEGIN:VEVENT
DTSTART;TZID=America/New_York:20250904T160000
DTEND;TZID=America/New_York:20250904T200000
DTSTAMP:20260423T191140
CREATED:20250827T204045Z
LAST-MODIFIED:20250827T204045Z
UID:10010829-1757001600-1757016000@necc.edu
SUMMARY:WOW: Visit to the Fitchburg Art Museum - Free First Thursday and special exhibit featuring the works of NECC staff member Anne Eshbaugh
DESCRIPTION:Join us for a trip to the Fitchburg Art Museum for Free First Thursday and to see the special exhibit featuring the works of NECC staff member Anne Eshbaugh!  \nRead more about the exhibit: Anne Hopkins: Gathered\, and Seaworthy Vessels \nSince we are visiting on Free First Thursday\, there is no cost to attend. In addition to Anne’s exhibit\, Free First Thursday also features salsa lessons! \nYou can join us at the museum\, or there is a van leaving the Haverhill campus at 4 pm to go to the Fitchburg Art Museum. We expect to arrive around 5 pm and will leave the museum at or before 7 pm.  \nTo accommodate those who wish to take the van we ask that you register here for a seat on the shuttle – space is limited. Shuttle registration is available for students and NECC faculty and staff.  Shuttle Registration Page    \n  \n  \n  \n  \n  \n  \n  \n  \n Print View
URL:https://necc.edu/event/wow-visit-to-the-fitchburg-art-museum-free-first-thursday-and-special-exhibit-featuring-the-works-of-necc-staff-member-anne-eshbaugh/
LOCATION:Off-Campus\, MA
CATEGORIES:Alumni,Student Life
END:VEVENT
END:VCALENDAR