BEGIN:VCALENDAR
VERSION:2.0
PRODID:-//Northern Essex CC - ECPv6.15.12//NONSGML v1.0//EN
CALSCALE:GREGORIAN
METHOD:PUBLISH
X-WR-CALNAME:Northern Essex CC
X-ORIGINAL-URL:https://necc.edu
X-WR-CALDESC:Events for Northern Essex CC
REFRESH-INTERVAL;VALUE=DURATION:PT1H
X-Robots-Tag:noindex
X-PUBLISHED-TTL:PT1H
BEGIN:VTIMEZONE
TZID:America/New_York
BEGIN:DAYLIGHT
TZOFFSETFROM:-0500
TZOFFSETTO:-0400
TZNAME:EDT
DTSTART:20240310T070000
END:DAYLIGHT
BEGIN:STANDARD
TZOFFSETFROM:-0400
TZOFFSETTO:-0500
TZNAME:EST
DTSTART:20241103T060000
END:STANDARD
BEGIN:DAYLIGHT
TZOFFSETFROM:-0500
TZOFFSETTO:-0400
TZNAME:EDT
DTSTART:20250309T070000
END:DAYLIGHT
BEGIN:STANDARD
TZOFFSETFROM:-0400
TZOFFSETTO:-0500
TZNAME:EST
DTSTART:20251102T060000
END:STANDARD
BEGIN:DAYLIGHT
TZOFFSETFROM:-0500
TZOFFSETTO:-0400
TZNAME:EDT
DTSTART:20260308T070000
END:DAYLIGHT
BEGIN:STANDARD
TZOFFSETFROM:-0400
TZOFFSETTO:-0500
TZNAME:EST
DTSTART:20261101T060000
END:STANDARD
END:VTIMEZONE
BEGIN:VEVENT
DTSTART;TZID=America/New_York:20250811T000000
DTEND;TZID=America/New_York:20250916T235900
DTSTAMP:20260423T204720
CREATED:20250801T140132Z
LAST-MODIFIED:20250801T140132Z
UID:10010637-1754870400-1758067140@necc.edu
SUMMARY:NECC Internship Stipend | Fall 2025 Applications
DESCRIPTION:Are you a current student doing an internship for course credit this fall semester? Consider applying for a stipend! \nNorthern Essex Community College is providing stipends to assist students completing a for-credit\, unpaid or underpaid internship\, or other experiential learning. This is intended to help alleviate the cost of expenses and the reduced ability to work while completing this academic experience. We have limited stipends available and anticipate a competitive application pool. Practicums and clinicals could be considered eligible for this stipend; however\, some programs have external accreditation restrictions that prohibit them from receiving payment for experiential learning hours required for licensure (e.g.\, Respiratory Care\, Sleep Technologist). \nApplications will be accepted from August 11th until September 16th at 11:59 pm. \nVisit the website below to review eligibility criteria\, guidelines\, and apply. \n Print View
URL:https://necc.edu/event/necc-internship-stipend-fall-2025-applications/
LOCATION:MA
CATEGORIES:Career Services
ORGANIZER;CN="Career Services":MAILTO:kyeatonhromada@necc.mass.edu
END:VEVENT
BEGIN:VEVENT
DTSTART;VALUE=DATE:20250825
DTEND;VALUE=DATE:20250920
DTSTAMP:20260423T204720
CREATED:20241108T020603Z
LAST-MODIFIED:20250910T043509Z
UID:10008856-1756080000-1758326399@necc.edu
SUMMARY:Book voucher period for Full Semester and Fall Session I classes
DESCRIPTION:Print View
URL:https://necc.edu/event/book-voucher-period-for-full-semester-and-fall-session-i-classes/
LOCATION:MA
CATEGORIES:Academic Calendar
END:VEVENT
BEGIN:VEVENT
DTSTART;TZID=America/New_York:20250904T080000
DTEND;TZID=America/New_York:20251105T170000
DTSTAMP:20260423T204720
CREATED:20250904T191812Z
LAST-MODIFIED:20250904T192249Z
UID:10010848-1756972800-1762362000@necc.edu
SUMMARY:Share Your Thoughts: Lawrence Campus Perception Survey
DESCRIPTION:Join Us in Shaping Lawrence’s Future! \nWe want to hear from YOU! We’re exploring ways to enhance campus vibrancy and strengthen connections between NECC and the Lawrence community.  \nPlease take our quick 5-minute survey here: https://forms.office.com/r/wzJscM5wXn The deadline to complete the survey is November 5\, 2025.  \nEvery perspective – from longtime residents to new students\, from faculty to community leaders – adds valuable insight to this important conversation about our shared future. \nYour insights will directly shape exciting new initiatives including: \n\nDynamic community events and programming that bring us all together\nEnhanced spaces that welcome students\, families\, and neighbors alike\nMeaningful partnerships between NECC and local organizations\nCreative ways to make our campus a cornerstone of Lawrence life \n\nQuestions? We’d love to connect! Maria Aybar\, Program Manager\, Lawrence Campus and Community Relations Maybar@necc.mass.edu (978) 738-7420 \n Print View
URL:https://necc.edu/event/share-your-thoughts-lawrence-campus-perception-survey/
LOCATION:MA
CATEGORIES:Community
END:VEVENT
BEGIN:VEVENT
DTSTART;VALUE=DATE:20250910
DTEND;VALUE=DATE:20250911
DTSTAMP:20260423T204720
CREATED:20241108T020601Z
LAST-MODIFIED:20250910T043510Z
UID:10008852-1757462400-1757548799@necc.edu
SUMMARY:To receive a full refund for Full Semester\, classes must be dropped by the close of business
DESCRIPTION:Print View
URL:https://necc.edu/event/to-receive-a-full-refund-for-full-semester-classes-must-be-dropped-by-the-close-of-business/
LOCATION:MA
CATEGORIES:Academic Calendar
END:VEVENT
BEGIN:VEVENT
DTSTART;VALUE=DATE:20250910
DTEND;VALUE=DATE:20250911
DTSTAMP:20260423T204720
CREATED:20241108T020603Z
LAST-MODIFIED:20250910T043510Z
UID:10008857-1757462400-1757548799@necc.edu
SUMMARY:Course audit forms due to Enrollment Services
DESCRIPTION:Print View
URL:https://necc.edu/event/course-audit-forms-due-to-enrollment-services-2/
LOCATION:MA
CATEGORIES:Academic Calendar
END:VEVENT
BEGIN:VEVENT
DTSTART;TZID=America/New_York:20250910T100000
DTEND;TZID=America/New_York:20250910T120000
DTSTAMP:20260423T204720
CREATED:20250827T143154Z
LAST-MODIFIED:20250827T162518Z
UID:10010819-1757498400-1757505600@necc.edu
SUMMARY:WOW: UKnighted Fair - Haverhill
DESCRIPTION:Discover all the ways to get involved at NECC! The UKnighted Fair is your chance to meet student clubs and organizations\, learn about upcoming events\, and connect with fellow Knights who share your interests. \nWhether you’re looking to explore new hobbies\, build your resume\, or just make friends\, there’s something for everyone. Stop by\, ask questions\, and find your place on campus! \n Print View
URL:https://necc.edu/event/uknighted-fair-haverhill-2/
LOCATION:Haverhill Campus\, 100 Elliott St\, Haverhill\, MA\, United States
CATEGORIES:Student Activities,Student Life
ORGANIZER;CN="Student Life":MAILTO:studentlife@necc.mass.edu
GEO:42.797649;-71.05113
X-APPLE-STRUCTURED-LOCATION;VALUE=URI;X-ADDRESS=Haverhill Campus 100 Elliott St Haverhill MA United States;X-APPLE-RADIUS=500;X-TITLE=100 Elliott St:geo:-71.05113,42.797649
END:VEVENT
BEGIN:VEVENT
DTSTART;TZID=America/New_York:20250910T110000
DTEND;TZID=America/New_York:20250910T120000
DTSTAMP:20260423T204720
CREATED:20250821T134957Z
LAST-MODIFIED:20250821T134957Z
UID:10010752-1757502000-1757505600@necc.edu
SUMMARY:Tutoring Discussion Group
DESCRIPTION:Join us for the first session of our new discussion group series\, sponsored by the Tutoring Center and hosted at the Haverhill Commons in C201 (Spurk Building\, Haverhill Campus). This engaging talk will spotlight tutoring from the tutors’ perspectives—how they support student success\, what challenges they face\, and what motivates them. Facilitated by Mike Rideout\, Coordinator of Tutoring\, this session offers a unique opportunity to connect\, learn\, and ask questions in a relaxed setting. Food will be provided.  \n Print View
URL:https://necc.edu/event/tutoring-discussion-group/
LOCATION:Haverhill Campus\, 100 Elliott St\, Haverhill\, MA\, United States
CATEGORIES:Home Page Events
GEO:42.797649;-71.05113
X-APPLE-STRUCTURED-LOCATION;VALUE=URI;X-ADDRESS=Haverhill Campus 100 Elliott St Haverhill MA United States;X-APPLE-RADIUS=500;X-TITLE=100 Elliott St:geo:-71.05113,42.797649
END:VEVENT
BEGIN:VEVENT
DTSTART;TZID=America/New_York:20250910T150000
DTEND;TZID=America/New_York:20250910T163000
DTSTAMP:20260423T204720
CREATED:20250731T172608Z
LAST-MODIFIED:20251105T165617Z
UID:10010547-1757516400-1757521800@necc.edu
SUMMARY:Campus Tour and Information Session
DESCRIPTION:Campus Tour and Information Session\n\nVisit us on the Lawrence Campus for an information session and a tour led by one of our admission counselors. We can’t wait to meet you in person and show you all that NECC has to offer.  \nLocation: \nDr. Ibrahim El-Hefni Allied Health & Technology Center Lobby \n414 Common Street. Lawrence\, MA 01840 \nRegister Now!  \n Print View
URL:https://necc.edu/event/lawrence-campus-tour-and-information-session-2/2025-09-10/
LOCATION:Lawrence Campus\, Lawrence\, MA\, United States
CATEGORIES:All Info Sessions,Home Page Events,Info Sessions & Tours - Lawrence,Info Sessions and Tours
ORGANIZER;CN="Admissions":MAILTO:enrollmentservices@necc.mass.edu
GEO:42.70734;-71.161052
END:VEVENT
BEGIN:VEVENT
DTSTART;TZID=America/New_York:20250910T150000
DTEND;TZID=America/New_York:20250910T163000
DTSTAMP:20260423T204720
CREATED:20251105T165702Z
LAST-MODIFIED:20251105T171346Z
UID:10011176-1757516400-1757521800@necc.edu
SUMMARY:Campus Tour and Information Session
DESCRIPTION:Campus Tour and Information Session\n\nVisit us on the Lawrence Campus for an information session and a tour led by one of our admission counselors. We can’t wait to meet you in person and show you all that NECC has to offer.  \nLocation: \nDr. Ibrahim El-Hefni Allied Health & Technology Center Lobby \n414 Common St. Lawrence\, MA 01840 \nRegister Now!  \n Print View
URL:https://necc.edu/event/lawrence-campus-tour-and-information-session-2-2/2025-09-10/
LOCATION:Lawrence Campus\, Lawrence\, MA\, United States
CATEGORIES:All Info Sessions,Home Page Events,Info Sessions & Tours - Lawrence,Info Sessions and Tours
ORGANIZER;CN="Admissions":MAILTO:enrollmentservices@necc.mass.edu
GEO:42.70734;-71.161052
END:VEVENT
BEGIN:VEVENT
DTSTART;TZID=America/New_York:20250910T160000
DTEND;TZID=America/New_York:20250910T180000
DTSTAMP:20260423T204720
CREATED:20250211T170820Z
LAST-MODIFIED:20260406T151312Z
UID:10009421-1757520000-1757527200@necc.edu
SUMMARY:Enrollment Support Extended Hours
DESCRIPTION:Recruitment counselors available every Wednesday to assist with FAFSA\, guided self-placement and orientation \n Print View
URL:https://necc.edu/event/haverhill-campus-after-hours-enrollment-support/2025-09-10/
LOCATION:Haverhill Campus\, 100 Elliott St\, Haverhill\, MA\, United States
CATEGORIES:Info Sessions and Tours
ORGANIZER;CN="Admissions":MAILTO:enrollmentservices@necc.mass.edu
GEO:42.797649;-71.05113
X-APPLE-STRUCTURED-LOCATION;VALUE=URI;X-ADDRESS=Haverhill Campus 100 Elliott St Haverhill MA United States;X-APPLE-RADIUS=500;X-TITLE=100 Elliott St:geo:-71.05113,42.797649
END:VEVENT
END:VCALENDAR