BEGIN:VCALENDAR
VERSION:2.0
PRODID:-//Northern Essex CC - ECPv6.15.12//NONSGML v1.0//EN
CALSCALE:GREGORIAN
METHOD:PUBLISH
X-ORIGINAL-URL:https://necc.edu
X-WR-CALDESC:Events for Northern Essex CC
REFRESH-INTERVAL;VALUE=DURATION:PT1H
X-Robots-Tag:noindex
X-PUBLISHED-TTL:PT1H
BEGIN:VTIMEZONE
TZID:America/New_York
BEGIN:DAYLIGHT
TZOFFSETFROM:-0500
TZOFFSETTO:-0400
TZNAME:EDT
DTSTART:20240310T070000
END:DAYLIGHT
BEGIN:STANDARD
TZOFFSETFROM:-0400
TZOFFSETTO:-0500
TZNAME:EST
DTSTART:20241103T060000
END:STANDARD
BEGIN:DAYLIGHT
TZOFFSETFROM:-0500
TZOFFSETTO:-0400
TZNAME:EDT
DTSTART:20250309T070000
END:DAYLIGHT
BEGIN:STANDARD
TZOFFSETFROM:-0400
TZOFFSETTO:-0500
TZNAME:EST
DTSTART:20251102T060000
END:STANDARD
BEGIN:DAYLIGHT
TZOFFSETFROM:-0500
TZOFFSETTO:-0400
TZNAME:EDT
DTSTART:20260308T070000
END:DAYLIGHT
BEGIN:STANDARD
TZOFFSETFROM:-0400
TZOFFSETTO:-0500
TZNAME:EST
DTSTART:20261101T060000
END:STANDARD
END:VTIMEZONE
BEGIN:VEVENT
DTSTART;TZID=America/New_York:20250904T080000
DTEND;TZID=America/New_York:20251105T170000
DTSTAMP:20260423T204857
CREATED:20250904T191812Z
LAST-MODIFIED:20250904T192249Z
UID:10010848-1756972800-1762362000@necc.edu
SUMMARY:Share Your Thoughts: Lawrence Campus Perception Survey
DESCRIPTION:Join Us in Shaping Lawrence’s Future! \nWe want to hear from YOU! We’re exploring ways to enhance campus vibrancy and strengthen connections between NECC and the Lawrence community.  \nPlease take our quick 5-minute survey here: https://forms.office.com/r/wzJscM5wXn The deadline to complete the survey is November 5\, 2025.  \nEvery perspective – from longtime residents to new students\, from faculty to community leaders – adds valuable insight to this important conversation about our shared future. \nYour insights will directly shape exciting new initiatives including: \n\nDynamic community events and programming that bring us all together\nEnhanced spaces that welcome students\, families\, and neighbors alike\nMeaningful partnerships between NECC and local organizations\nCreative ways to make our campus a cornerstone of Lawrence life \n\nQuestions? We’d love to connect! Maria Aybar\, Program Manager\, Lawrence Campus and Community Relations Maybar@necc.mass.edu (978) 738-7420 \n Print View
URL:https://necc.edu/event/share-your-thoughts-lawrence-campus-perception-survey/
LOCATION:MA
CATEGORIES:Community
END:VEVENT
BEGIN:VEVENT
DTSTART;TZID=America/New_York:20250924T100000
DTEND;TZID=America/New_York:20250924T110000
DTSTAMP:20260423T204857
CREATED:20250923T152342Z
LAST-MODIFIED:20250923T152343Z
UID:10010891-1758708000-1758711600@necc.edu
SUMMARY:CPD: Coffee and Conversation
DESCRIPTION:Take a break and connect with colleagues over coffee (or tea).\nC204: 9/22\, 10/20\, 11/17 –10-11am \nL233: 9/24\, 10/22\, 11/19 –10-11am \n Print View
URL:https://necc.edu/event/cpd-coffee-and-conversation/2025-09-24/
LOCATION:All Campuses\, Lawrence\, MA\, United States
CATEGORIES:Professional Development
GEO:42.709053;-71.169601
END:VEVENT
BEGIN:VEVENT
DTSTART;TZID=America/New_York:20250924T110000
DTEND;TZID=America/New_York:20250924T120000
DTSTAMP:20260423T204857
CREATED:20250916T161405Z
LAST-MODIFIED:20250916T161405Z
UID:10010868-1758711600-1758715200@necc.edu
SUMMARY:The Value of the Liberal Arts
DESCRIPTION:How majoring in the liberal arts can prepare you for careers in communications\, theater\, business\, education\, healthcare\, and many other professions. \nLiberal Arts Professors Kim Lyng\, Brianne Beatrice\, and Mary Jo Shafer will share their stories of how the liberal arts have shaped their lives both personally and professionally. \n  \nJoin us in the Haverhill Commons (room C-201) from 11-12 pm! \nFor more information about the event email Kim Lyng at klyng@necc.mass.edu. \n Print View
URL:https://necc.edu/event/the-value-of-the-liberal-arts/
LOCATION:Haverhill Campus\, 100 Elliott St\, Haverhill\, MA\, United States
CATEGORIES:The Commons
GEO:42.797649;-71.05113
X-APPLE-STRUCTURED-LOCATION;VALUE=URI;X-ADDRESS=Haverhill Campus 100 Elliott St Haverhill MA United States;X-APPLE-RADIUS=500;X-TITLE=100 Elliott St:geo:-71.05113,42.797649
END:VEVENT
BEGIN:VEVENT
DTSTART;TZID=America/New_York:20250924T120000
DTEND;TZID=America/New_York:20250924T130000
DTSTAMP:20260423T204857
CREATED:20250919T151155Z
LAST-MODIFIED:20250919T151155Z
UID:10010874-1758715200-1758718800@necc.edu
SUMMARY:Info Session: Dental Assisting
DESCRIPTION:At the Information Session you can learn more about what it’s like to be a student in NECC’s Dental Program.\nAttend a Dental Assisting Information Session and Learn More About the Program and NECC\nJoin us for a Dental Assisting Program Information Session and you can: \n\nGet answers to all of your questions about the Dental Assisting Certificate and NECC.\nDiscover career pathways.\n\nDental assistants provide patient care and maintain patient records\, in addition to working closely with dentists and dental hygienists and assisting during procedures and examinations. Job opportunities are excellent and are expected to continue to grow\, especially as research continues to show the link between oral health and overall health. \nThe NECC Dental Assisting Certificate is a criteria-based health program and therefore requires students to attend an information session. \nView all of the Health Information Session Dates \nRegister in Advance\nPlease register online here in advance for the information session. \nThe meeting will take place online with Zoom. After registering\, you will receive a confirmation email containing information about joining the meeting. \nMore Information\nFor more information\, or for sign language interpreting\, please contact Davann Chhem\, Program Coordinator at 978-738-7657. \n Print View
URL:https://necc.edu/event/info-session-dental-assisting-7/
LOCATION:Online\, United States
CATEGORIES:Dental Info Sessions,Health Info Sessions
ORGANIZER;CN="Davann Chhem":MAILTO:dchhem@necc.mass.edu
END:VEVENT
BEGIN:VEVENT
DTSTART;TZID=America/New_York:20250924T120000
DTEND;TZID=America/New_York:20250924T133000
DTSTAMP:20260423T204857
CREATED:20250724T143115Z
LAST-MODIFIED:20250919T205430Z
UID:10010634-1758715200-1758720600@necc.edu
SUMMARY:International Immersion Trip Insight Session
DESCRIPTION:Interested in participating in NECC’s next International Immersion trip to the Dominican Republic? Join us for a comprehensive information session that will feature: \n\nEverything you need to know to apply for our upcoming trip\nA panel discussion and Q&A from past participants\nLive music and a cultural performance \n\nRegister Here! \n Print View
URL:https://necc.edu/event/international-immersion-trip-insight-session/
LOCATION:Lawrence Campus\, Lawrence\, MA\, United States
CATEGORIES:Professional Development
GEO:42.70734;-71.161052
END:VEVENT
BEGIN:VEVENT
DTSTART;TZID=America/New_York:20250924T130000
DTEND;TZID=America/New_York:20250924T140000
DTSTAMP:20260423T204857
CREATED:20250819T130644Z
LAST-MODIFIED:20250829T161738Z
UID:10010750-1758718800-1758722400@necc.edu
SUMMARY:NECC Library Book Share
DESCRIPTION:Join us as our book club continues into the fall! Students\, staff\, and faculty are all welcome to come and chat–even if you haven’t read the book. This month\, we are reading any book by Julia Alvarez to prepare for her campus visit on October 2. Please get in touch with a librarian at library@necc.mass.edu if you would like help getting a copy of one of her books. Happy reading!  \n Print View
URL:https://necc.edu/event/necc-library-book-club/
LOCATION:Lawrence Campus\, Lawrence\, MA\, United States
CATEGORIES:Liberal Arts Center,Library,Professional Development,Student Life
ORGANIZER;CN="Susan Leonardi":MAILTO:sleonardi@necc.mass.edu
GEO:42.70734;-71.161052
END:VEVENT
BEGIN:VEVENT
DTSTART;TZID=America/New_York:20250924T130000
DTEND;TZID=America/New_York:20250924T150000
DTSTAMP:20260423T204857
CREATED:20250919T151013Z
LAST-MODIFIED:20250919T152223Z
UID:10010873-1758718800-1758726000@necc.edu
SUMMARY:Art Club
DESCRIPTION:Come to our first meeting\, discussion of ideas\, pencil drawing\, sharing our art done over the summer (please bring something in or take a picture of it to show) \nDate and time:     Wednesday\, September 24 at 1:PM\nPlace:            Haverhill Campus Library – Linda Hummel-Shea ArtSpace Gallery\n            \nEmail:            artclub@necc.mass.edu \n  \n Print View
URL:https://necc.edu/event/art-club/
LOCATION:Haverhill Campus\, 100 Elliott St\, Haverhill\, MA\, United States
CATEGORIES:Student Life
ORGANIZER;CN="Student Life":MAILTO:studentlife@necc.mass.edu
GEO:42.797649;-71.05113
X-APPLE-STRUCTURED-LOCATION;VALUE=URI;X-ADDRESS=Haverhill Campus 100 Elliott St Haverhill MA United States;X-APPLE-RADIUS=500;X-TITLE=100 Elliott St:geo:-71.05113,42.797649
END:VEVENT
BEGIN:VEVENT
DTSTART;TZID=America/New_York:20250924T153000
DTEND;TZID=America/New_York:20250924T163000
DTSTAMP:20260423T204857
CREATED:20250903T161353Z
LAST-MODIFIED:20250903T161430Z
UID:10010836-1758727800-1758731400@necc.edu
SUMMARY:HHM: Music & Mental Health - A Bilingual Workshop with Gustavo Moradel
DESCRIPTION:Join us for a powerful workshop led by musician\, speaker\, and advocate Gustavo Moradel. Born in Honduras and raised in the U.S.\, Gustavo uses his music and story to inspire resilience\, hope\, and social change. With millions of listeners worldwide and recognition for his advocacy for DACA dreamers and immigrant communities\, he brings a unique perspective on navigating challenges and building belonging. This interactive session—offered in both English and Spanish—will explore mental health\, advocacy\, and the healing power of music. \n Print View
URL:https://necc.edu/event/hhm-music-mental-health-a-bilingual-workshop-with-gustavo-moradel/
LOCATION:Lawrence Campus\, Lawrence\, MA\, United States
CATEGORIES:Student Activities,Student Life
ORGANIZER;CN="Student Life":MAILTO:studentlife@necc.mass.edu
GEO:42.70734;-71.161052
END:VEVENT
BEGIN:VEVENT
DTSTART;TZID=America/New_York:20250924T153000
DTEND;TZID=America/New_York:20250924T170000
DTSTAMP:20260423T204857
CREATED:20250904T145840Z
LAST-MODIFIED:20250904T145840Z
UID:10010840-1758727800-1758733200@necc.edu
SUMMARY:Bilingual Music & Wellness Workshop with Gustavo Moradel
DESCRIPTION:Gustavo Moradel is a singer\, songwriter\, and mental health advocate from Honduras. Immigrating to the U.S. at age 12\, he uses his music to inspire hope\, resilience\, and social change. Gustavo has millions of streams online\, performed for events including the Clinton Foundation\, and advocates for DACA dreamers and the undocumented community. His bilingual workshop combines music\, storytelling\, and wellness to uplift and empower. For more information\, please contact Brianna Sorensen\, Assistant Coordinator of Student Life at bsorensen@necc.mass.edu \nLawrence Campus – 45 Franklin Street\, Dimitry Atrium \n Print View
URL:https://necc.edu/event/bilingual-music-wellness-workshop-with-gustavo-moradel/
LOCATION:Lawrence Campus\, Lawrence\, MA\, United States
CATEGORIES:Student Life
ORGANIZER;CN="Student Life":MAILTO:studentlife@necc.mass.edu
GEO:42.70734;-71.161052
END:VEVENT
BEGIN:VEVENT
DTSTART;TZID=America/New_York:20250924T160000
DTEND;TZID=America/New_York:20250924T180000
DTSTAMP:20260423T204857
CREATED:20250211T170820Z
LAST-MODIFIED:20260406T151312Z
UID:10009423-1758729600-1758736800@necc.edu
SUMMARY:Enrollment Support Extended Hours
DESCRIPTION:Recruitment counselors available every Wednesday to assist with FAFSA\, guided self-placement and orientation \n Print View
URL:https://necc.edu/event/haverhill-campus-after-hours-enrollment-support/2025-09-24/
LOCATION:Haverhill Campus\, 100 Elliott St\, Haverhill\, MA\, United States
CATEGORIES:Info Sessions and Tours
ORGANIZER;CN="Admissions":MAILTO:enrollmentservices@necc.mass.edu
GEO:42.797649;-71.05113
X-APPLE-STRUCTURED-LOCATION;VALUE=URI;X-ADDRESS=Haverhill Campus 100 Elliott St Haverhill MA United States;X-APPLE-RADIUS=500;X-TITLE=100 Elliott St:geo:-71.05113,42.797649
END:VEVENT
END:VCALENDAR