BEGIN:VCALENDAR
VERSION:2.0
PRODID:-//Northern Essex CC - ECPv6.15.12//NONSGML v1.0//EN
CALSCALE:GREGORIAN
METHOD:PUBLISH
X-ORIGINAL-URL:https://necc.edu
X-WR-CALDESC:Events for Northern Essex CC
REFRESH-INTERVAL;VALUE=DURATION:PT1H
X-Robots-Tag:noindex
X-PUBLISHED-TTL:PT1H
BEGIN:VTIMEZONE
TZID:America/New_York
BEGIN:DAYLIGHT
TZOFFSETFROM:-0500
TZOFFSETTO:-0400
TZNAME:EDT
DTSTART:20240310T070000
END:DAYLIGHT
BEGIN:STANDARD
TZOFFSETFROM:-0400
TZOFFSETTO:-0500
TZNAME:EST
DTSTART:20241103T060000
END:STANDARD
BEGIN:DAYLIGHT
TZOFFSETFROM:-0500
TZOFFSETTO:-0400
TZNAME:EDT
DTSTART:20250309T070000
END:DAYLIGHT
BEGIN:STANDARD
TZOFFSETFROM:-0400
TZOFFSETTO:-0500
TZNAME:EST
DTSTART:20251102T060000
END:STANDARD
BEGIN:DAYLIGHT
TZOFFSETFROM:-0500
TZOFFSETTO:-0400
TZNAME:EDT
DTSTART:20260308T070000
END:DAYLIGHT
BEGIN:STANDARD
TZOFFSETFROM:-0400
TZOFFSETTO:-0500
TZNAME:EST
DTSTART:20261101T060000
END:STANDARD
END:VTIMEZONE
BEGIN:VEVENT
DTSTART;TZID=America/New_York:20250904T080000
DTEND;TZID=America/New_York:20251105T170000
DTSTAMP:20260423T204856
CREATED:20250904T191812Z
LAST-MODIFIED:20250904T192249Z
UID:10010848-1756972800-1762362000@necc.edu
SUMMARY:Share Your Thoughts: Lawrence Campus Perception Survey
DESCRIPTION:Join Us in Shaping Lawrence’s Future! \nWe want to hear from YOU! We’re exploring ways to enhance campus vibrancy and strengthen connections between NECC and the Lawrence community.  \nPlease take our quick 5-minute survey here: https://forms.office.com/r/wzJscM5wXn The deadline to complete the survey is November 5\, 2025.  \nEvery perspective – from longtime residents to new students\, from faculty to community leaders – adds valuable insight to this important conversation about our shared future. \nYour insights will directly shape exciting new initiatives including: \n\nDynamic community events and programming that bring us all together\nEnhanced spaces that welcome students\, families\, and neighbors alike\nMeaningful partnerships between NECC and local organizations\nCreative ways to make our campus a cornerstone of Lawrence life \n\nQuestions? We’d love to connect! Maria Aybar\, Program Manager\, Lawrence Campus and Community Relations Maybar@necc.mass.edu (978) 738-7420 \n Print View
URL:https://necc.edu/event/share-your-thoughts-lawrence-campus-perception-survey/
LOCATION:MA
CATEGORIES:Community
END:VEVENT
BEGIN:VEVENT
DTSTART;TZID=America/New_York:20250925T090000
DTEND;TZID=America/New_York:20250925T103000
DTSTAMP:20260423T204856
CREATED:20250731T172608Z
LAST-MODIFIED:20251105T165617Z
UID:10010548-1758790800-1758796200@necc.edu
SUMMARY:Campus Tour and Information Session
DESCRIPTION:Campus Tour and Information Session\n\nVisit us on the Lawrence Campus for an information session and a tour led by one of our admission counselors. We can’t wait to meet you in person and show you all that NECC has to offer.  \nLocation: \nDr. Ibrahim El-Hefni Allied Health & Technology Center Lobby \n414 Common Street. Lawrence\, MA 01840 \nRegister Now!  \n Print View
URL:https://necc.edu/event/lawrence-campus-tour-and-information-session-2/2025-09-25/
LOCATION:Lawrence Campus\, Lawrence\, MA\, United States
CATEGORIES:All Info Sessions,Home Page Events,Info Sessions & Tours - Lawrence,Info Sessions and Tours
ORGANIZER;CN="Admissions":MAILTO:enrollmentservices@necc.mass.edu
GEO:42.70734;-71.161052
END:VEVENT
BEGIN:VEVENT
DTSTART;TZID=America/New_York:20250925T090000
DTEND;TZID=America/New_York:20250925T103000
DTSTAMP:20260423T204856
CREATED:20251105T165702Z
LAST-MODIFIED:20251105T171346Z
UID:10011177-1758790800-1758796200@necc.edu
SUMMARY:Campus Tour and Information Session
DESCRIPTION:Campus Tour and Information Session\n\nVisit us on the Lawrence Campus for an information session and a tour led by one of our admission counselors. We can’t wait to meet you in person and show you all that NECC has to offer.  \nLocation: \nDr. Ibrahim El-Hefni Allied Health & Technology Center Lobby \n414 Common St. Lawrence\, MA 01840 \nRegister Now!  \n Print View
URL:https://necc.edu/event/lawrence-campus-tour-and-information-session-2-2/2025-09-25/
LOCATION:Lawrence Campus\, Lawrence\, MA\, United States
CATEGORIES:All Info Sessions,Home Page Events,Info Sessions & Tours - Lawrence,Info Sessions and Tours
ORGANIZER;CN="Admissions":MAILTO:enrollmentservices@necc.mass.edu
GEO:42.70734;-71.161052
END:VEVENT
BEGIN:VEVENT
DTSTART;TZID=America/New_York:20250925T100000
DTEND;TZID=America/New_York:20250925T120000
DTSTAMP:20260423T204856
CREATED:20250929T193026Z
LAST-MODIFIED:20250929T193133Z
UID:10010923-1758794400-1758801600@necc.edu
SUMMARY:College Systems Trainings
DESCRIPTION:Our College Systems Trainings are designed to support all employees by providing regular onboarding and refresher sessions on the key college systems you use every day. Whether you’re new or experienced\, we highly encourage you to participate as needed. \nThese trainings are held Tuesdays and Thursdays from 10am–12pm in the C206B-CPD Computer Lab at the Haverhill Campus. \n  \nPlease note\, the facilitator may adjust the training format or cancel sessions based on registration numbers to ensure the best experience for everyone. \n  \nTo learn more and register\, please click HERE. \n Print View
URL:https://necc.edu/event/college-systems-trainings-2/2025-09-25/
LOCATION:Haverhill Campus\, 100 Elliott St\, Haverhill\, MA\, United States
CATEGORIES:Professional Development
GEO:42.797649;-71.05113
X-APPLE-STRUCTURED-LOCATION;VALUE=URI;X-ADDRESS=Haverhill Campus 100 Elliott St Haverhill MA United States;X-APPLE-RADIUS=500;X-TITLE=100 Elliott St:geo:-71.05113,42.797649
END:VEVENT
BEGIN:VEVENT
DTSTART;TZID=America/New_York:20250925T120000
DTEND;TZID=America/New_York:20250925T130000
DTSTAMP:20260423T204856
CREATED:20250909T191948Z
LAST-MODIFIED:20250909T191949Z
UID:10010856-1758801600-1758805200@necc.edu
SUMMARY:NARCAN Training - Harm Reduction
DESCRIPTION:BREAKING THE STIGMA: Narcan Training and Harm Reduction dialogue \n     By Eammon’s Heart Foundation/Hosted by NECC’s Human Services program \nThis training isn’t just about NARCAN – it’s about hope\, dignity\, and those that need us the most. \n\n\n\nBe Prepared.\nBe Present.\nCompassion looks good on you!\n\n\n\nRegister (it’s free) through this link \nDate/Time/Location: September 25\, 12-1pm in L244 (Dimitry Building\, Lawrence Campus) \n Print View
URL:https://necc.edu/event/narcan-training-harm-reduction/
LOCATION:Lawrence Campus\, Lawrence\, MA\, United States
CATEGORIES:Home Page Events
ORGANIZER;CN="Human Services Program":MAILTO:lfabbri@necc.mass.edu
GEO:42.70734;-71.161052
END:VEVENT
BEGIN:VEVENT
DTSTART;TZID=America/New_York:20250925T123000
DTEND;TZID=America/New_York:20250925T134500
DTSTAMP:20260423T204856
CREATED:20250730T191900Z
LAST-MODIFIED:20250804T204137Z
UID:10010639-1758803400-1758807900@necc.edu
SUMMARY:Hispanic Heritage Month 2025 Collective Heritage: Honoring the Past\, Inspiring the Future 
DESCRIPTION:Celebrate Hispanic Heritage Month 2025 with the NECC Librarians\, as we explore Hispanic and Latino cultures\, histories\, and contributions through our curated READ\, WATCH\, LISTEN collection. This event features selected book chapters\, articles\, poetry\, audiobook excerpts\, and video content that showcase the Hispanic experiences and perspectives. Join us for a discussion in the Haverhill Commons (room C201) about stories that recognize the profound impact of Hispanic heritage on our shared history and contributions yet to come. For more information\, contact Susan Leonardi\, Laura Mondt\, or Sarah Regan-Kelley.  \n Print View
URL:https://necc.edu/event/hispanic-heritage-month-2025-collective-heritage-honoring-the-past-inspiring-the-future/
LOCATION:Haverhill Campus\, 100 Elliott St\, Haverhill\, MA\, United States
CATEGORIES:Library,Student Activities,Student Life
ORGANIZER;CN="Susan Leonardi":MAILTO:sleonardi@necc.mass.edu
GEO:42.797649;-71.05113
X-APPLE-STRUCTURED-LOCATION;VALUE=URI;X-ADDRESS=Haverhill Campus 100 Elliott St Haverhill MA United States;X-APPLE-RADIUS=500;X-TITLE=100 Elliott St:geo:-71.05113,42.797649
END:VEVENT
BEGIN:VEVENT
DTSTART;TZID=America/New_York:20250925T123000
DTEND;TZID=America/New_York:20250925T134500
DTSTAMP:20260423T204856
CREATED:20250904T151350Z
LAST-MODIFIED:20250917T174401Z
UID:10010845-1758803400-1758807900@necc.edu
SUMMARY:Hispanic Heritage Month 2025 Collective Heritage: Honoring the Past\, Inspiring the Future
DESCRIPTION:Celebrate Hispanic Heritage Month 2025 with the NECC Librarians\, as we explore Hispanic and Latino cultures\, histories\, and contributions through our curated READ\, WATCH\, LISTEN collection. This event features selected book chapters\, articles\, poetry\, audiobook excerpts\, and video content that showcase the Hispanic experiences and perspectives. Join us for a discussion in the new Student Lounge next to the Lawrence Campus Library about stories that recognize the profound impact of Hispanic heritage on our shared history and contributions yet to come. For more information\, contact Susan Leonardi or Grace Spaulding.  \n Print View
URL:https://necc.edu/event/heritage-honoring-the-past-inspiring-the-future/
LOCATION:Lawrence Campus\, Lawrence\, MA\, United States
CATEGORIES:Library,Student Life,The Commons
ORGANIZER;CN="Susan Leonardi":MAILTO:sleonardi@necc.mass.edu
GEO:42.70734;-71.161052
END:VEVENT
BEGIN:VEVENT
DTSTART;TZID=America/New_York:20250925T133000
DTEND;TZID=America/New_York:20250925T150000
DTSTAMP:20260423T204856
CREATED:20250827T141308Z
LAST-MODIFIED:20251125T201806Z
UID:10010808-1758807000-1758812400@necc.edu
SUMMARY:Poppin' Chats with Student Life - Lawrence
DESCRIPTION:Take a break\, grab some popcorn\, and connect with Student Life! Poppin’ Chats is a relaxed\, drop-in space where you can meet our team and other campus departments\, ask questions\, and learn about resources\, events\, and ways to get involved at NECC—all while enjoying some free\, freshly popped popcorn. \nStop by\, say hello\, and leave with both snacks and new connections! \n \n Print View
URL:https://necc.edu/event/poppin-chats-with-student-life-lawrence/2025-09-25/
LOCATION:Lawrence Campus\, Lawrence\, MA\, United States
CATEGORIES:Student Activities,Student Life
ORGANIZER;CN="Student Life":MAILTO:studentlife@necc.mass.edu
GEO:42.70734;-71.161052
END:VEVENT
BEGIN:VEVENT
DTSTART;TZID=America/New_York:20250925T173000
DTEND;TZID=America/New_York:20250925T183000
DTSTAMP:20260423T204856
CREATED:20250918T013653Z
LAST-MODIFIED:20250918T013654Z
UID:10010870-1758821400-1758825000@necc.edu
SUMMARY:Women’s Basketball Team Informational Meeting
DESCRIPTION:Sport and Fitness Center Lobby \n Print View
URL:https://necc.edu/event/womens-basketball-team-informational-meeting/
LOCATION:Haverhill Campus\, 100 Elliott St\, Haverhill\, MA\, United States
CATEGORIES:Home Page Events
ORGANIZER;CN="Dan Blair":MAILTO:dblair@necc.mass.edu
GEO:42.797649;-71.05113
X-APPLE-STRUCTURED-LOCATION;VALUE=URI;X-ADDRESS=Haverhill Campus 100 Elliott St Haverhill MA United States;X-APPLE-RADIUS=500;X-TITLE=100 Elliott St:geo:-71.05113,42.797649
END:VEVENT
END:VCALENDAR