BEGIN:VCALENDAR
VERSION:2.0
PRODID:-//Northern Essex CC - ECPv6.15.12//NONSGML v1.0//EN
CALSCALE:GREGORIAN
METHOD:PUBLISH
X-ORIGINAL-URL:https://necc.edu
X-WR-CALDESC:Events for Northern Essex CC
REFRESH-INTERVAL;VALUE=DURATION:PT1H
X-Robots-Tag:noindex
X-PUBLISHED-TTL:PT1H
BEGIN:VTIMEZONE
TZID:America/New_York
BEGIN:DAYLIGHT
TZOFFSETFROM:-0500
TZOFFSETTO:-0400
TZNAME:EDT
DTSTART:20240310T070000
END:DAYLIGHT
BEGIN:STANDARD
TZOFFSETFROM:-0400
TZOFFSETTO:-0500
TZNAME:EST
DTSTART:20241103T060000
END:STANDARD
BEGIN:DAYLIGHT
TZOFFSETFROM:-0500
TZOFFSETTO:-0400
TZNAME:EDT
DTSTART:20250309T070000
END:DAYLIGHT
BEGIN:STANDARD
TZOFFSETFROM:-0400
TZOFFSETTO:-0500
TZNAME:EST
DTSTART:20251102T060000
END:STANDARD
BEGIN:DAYLIGHT
TZOFFSETFROM:-0500
TZOFFSETTO:-0400
TZNAME:EDT
DTSTART:20260308T070000
END:DAYLIGHT
BEGIN:STANDARD
TZOFFSETFROM:-0400
TZOFFSETTO:-0500
TZNAME:EST
DTSTART:20261101T060000
END:STANDARD
END:VTIMEZONE
BEGIN:VEVENT
DTSTART;TZID=America/New_York:20250904T080000
DTEND;TZID=America/New_York:20251105T170000
DTSTAMP:20260423T204853
CREATED:20250904T191812Z
LAST-MODIFIED:20250904T192249Z
UID:10010848-1756972800-1762362000@necc.edu
SUMMARY:Share Your Thoughts: Lawrence Campus Perception Survey
DESCRIPTION:Join Us in Shaping Lawrence’s Future! \nWe want to hear from YOU! We’re exploring ways to enhance campus vibrancy and strengthen connections between NECC and the Lawrence community.  \nPlease take our quick 5-minute survey here: https://forms.office.com/r/wzJscM5wXn The deadline to complete the survey is November 5\, 2025.  \nEvery perspective – from longtime residents to new students\, from faculty to community leaders – adds valuable insight to this important conversation about our shared future. \nYour insights will directly shape exciting new initiatives including: \n\nDynamic community events and programming that bring us all together\nEnhanced spaces that welcome students\, families\, and neighbors alike\nMeaningful partnerships between NECC and local organizations\nCreative ways to make our campus a cornerstone of Lawrence life \n\nQuestions? We’d love to connect! Maria Aybar\, Program Manager\, Lawrence Campus and Community Relations Maybar@necc.mass.edu (978) 738-7420 \n Print View
URL:https://necc.edu/event/share-your-thoughts-lawrence-campus-perception-survey/
LOCATION:MA
CATEGORIES:Community
END:VEVENT
BEGIN:VEVENT
DTSTART;TZID=America/New_York:20251002T100000
DTEND;TZID=America/New_York:20251002T120000
DTSTAMP:20260423T204853
CREATED:20250929T193026Z
LAST-MODIFIED:20250929T193133Z
UID:10010925-1759399200-1759406400@necc.edu
SUMMARY:College Systems Trainings
DESCRIPTION:Our College Systems Trainings are designed to support all employees by providing regular onboarding and refresher sessions on the key college systems you use every day. Whether you’re new or experienced\, we highly encourage you to participate as needed. \nThese trainings are held Tuesdays and Thursdays from 10am–12pm in the C206B-CPD Computer Lab at the Haverhill Campus. \n  \nPlease note\, the facilitator may adjust the training format or cancel sessions based on registration numbers to ensure the best experience for everyone. \n  \nTo learn more and register\, please click HERE. \n Print View
URL:https://necc.edu/event/college-systems-trainings-2/2025-10-02/
LOCATION:Haverhill Campus\, 100 Elliott St\, Haverhill\, MA\, United States
CATEGORIES:Professional Development
GEO:42.797649;-71.05113
X-APPLE-STRUCTURED-LOCATION;VALUE=URI;X-ADDRESS=Haverhill Campus 100 Elliott St Haverhill MA United States;X-APPLE-RADIUS=500;X-TITLE=100 Elliott St:geo:-71.05113,42.797649
END:VEVENT
BEGIN:VEVENT
DTSTART;TZID=America/New_York:20251002T120000
DTEND;TZID=America/New_York:20251002T130000
DTSTAMP:20260423T204853
CREATED:20251002T134504Z
LAST-MODIFIED:20251002T134505Z
UID:10011055-1759406400-1759410000@necc.edu
SUMMARY:Boomwhackers/Drum Circle
DESCRIPTION:Professors Alisa Bucchiere and Abe Finch will present a FUN and LOUD boomwhacker and drum filled event – We hope to play over 200 boomwhackers together along with performing in a drum circle\, and even using some drums made from buckets!!! It will probably be one of the loudest events on campus his semester!   \nCome one come all if you have ever wanted to try the boomwhackers or drums!  Free admission. \nWhen: Thursday\, 10/2 at noon \nWhere:  Haverhill campus TC103 \n Print View
URL:https://necc.edu/event/boomwhackers-drum-circle/
LOCATION:Haverhill Campus\, 100 Elliott St\, Haverhill\, MA\, United States
CATEGORIES:Student Life
ORGANIZER;CN="Alisa Bucchiere":MAILTO:abucchiere@necc.mass.edu
GEO:42.797649;-71.05113
X-APPLE-STRUCTURED-LOCATION;VALUE=URI;X-ADDRESS=Haverhill Campus 100 Elliott St Haverhill MA United States;X-APPLE-RADIUS=500;X-TITLE=100 Elliott St:geo:-71.05113,42.797649
END:VEVENT
BEGIN:VEVENT
DTSTART;TZID=America/New_York:20251002T133000
DTEND;TZID=America/New_York:20251002T150000
DTSTAMP:20260423T204853
CREATED:20250827T141308Z
LAST-MODIFIED:20251125T201806Z
UID:10010809-1759411800-1759417200@necc.edu
SUMMARY:Poppin' Chats with Student Life - Lawrence
DESCRIPTION:Take a break\, grab some popcorn\, and connect with Student Life! Poppin’ Chats is a relaxed\, drop-in space where you can meet our team and other campus departments\, ask questions\, and learn about resources\, events\, and ways to get involved at NECC—all while enjoying some free\, freshly popped popcorn. \nStop by\, say hello\, and leave with both snacks and new connections! \n \n Print View
URL:https://necc.edu/event/poppin-chats-with-student-life-lawrence/2025-10-02/
LOCATION:Lawrence Campus\, Lawrence\, MA\, United States
CATEGORIES:Student Activities,Student Life
ORGANIZER;CN="Student Life":MAILTO:studentlife@necc.mass.edu
GEO:42.70734;-71.161052
END:VEVENT
BEGIN:VEVENT
DTSTART;TZID=America/New_York:20251002T160000
DTEND;TZID=America/New_York:20251002T190000
DTSTAMP:20260423T204853
CREATED:20250908T142733Z
LAST-MODIFIED:20250908T193542Z
UID:10010851-1759420800-1759431600@necc.edu
SUMMARY:NECC Theater's Fall Production of "All in the Timing"
DESCRIPTION:Please join us for NECC Theater’s Fall Production of “All in the Timing” by David Ives\nStarring NECC alumni – Samantha Wheatley and Mirrorajah Metcalfe  \nFeaturing current NECC students – Naima Eve\, Ben Swanney & Devin Michaud\n  \nCo-Directed by Brianne Beatrice and Samantha Wheatley  \nThursday\, October 2 at 4:00 pm \n\nFriday\, October 3 at 7:00 pm  –  President’s Performance\nReservations are recommended and can be made by contacting Heather Ringwald at 978-556-3853 or email hringwald@necc.mass.edu.\n\nSaturday\, October 4 at 7:00 pm \nSunday\, October 5 at 2:00 pm \nThe Chester H. Hawrylciw Theater – Spurk Building on the Haverhill Campus. \nGeneral Admission: $20 \nStudents & Seniors: $10 \nQuestions?  Contact Brianne Beatrice bbeatrice@necc.mass.edu  \n Print View
URL:https://necc.edu/event/necc-theaters-fall-production-of-all-in-the-timing/2025-10-02/
LOCATION:Haverhill Campus\, 100 Elliott St\, Haverhill\, MA\, United States
CATEGORIES:Student Life
ORGANIZER;CN="Brianne Beatrice":MAILTO:bbeatrice@necc.mass.edu
GEO:42.797649;-71.05113
X-APPLE-STRUCTURED-LOCATION;VALUE=URI;X-ADDRESS=Haverhill Campus 100 Elliott St Haverhill MA United States;X-APPLE-RADIUS=500;X-TITLE=100 Elliott St:geo:-71.05113,42.797649
END:VEVENT
BEGIN:VEVENT
DTSTART;TZID=America/New_York:20251002T173000
DTEND;TZID=America/New_York:20251002T193000
DTSTAMP:20260423T204853
CREATED:20250724T143822Z
LAST-MODIFIED:20250908T183600Z
UID:10010635-1759426200-1759433400@necc.edu
SUMMARY:Literature\, Legacy & Community: A Night with Julia Alvarez
DESCRIPTION:Literature\, Legacy and Community: An Evening with Julia Alvarez\nNECC Hosts Renowned Author Julia Alvarez for Special Evening Event\nNorthern Essex Community College invites students\, faculty\, and the community to An Evening with Julia Alvarez\, presented as part of the White Fund Enlightenment Series. \nThursday\, October 2\n5:30–7:30 PM\n45 Franklin Street\, Lawrence\, MA 01840 \nThis special evening will feature a reading\, conversation\, and book signing with Julia Alvarez\, the internationally acclaimed Dominican-American author of In the Time of the Butterflies and The Cemetery of Untold Stories. Known for her powerful storytelling and cultural insight\, Alvarez will share her literary journey in a bilingual-friendly setting that is open and welcoming to all. \nThe event is free and open to the public. Lala Books will be on-site selling books in both English and Spanish. \nStudents are encouraged to attend and engage in this unique opportunity to connect literature with identity\, community\, and conversation. \nClick here to register\n  \n Print View
URL:https://necc.edu/event/literature-legacy-community-a-night-with-julia-alvarez/
LOCATION:Lawrence Campus\, Lawrence\, MA\, United States
CATEGORIES:Student Life
GEO:42.70734;-71.161052
END:VEVENT
BEGIN:VEVENT
DTSTART;TZID=America/New_York:20251002T173000
DTEND;TZID=America/New_York:20251002T193000
DTSTAMP:20260423T204853
CREATED:20250815T165600Z
LAST-MODIFIED:20250815T165601Z
UID:10010746-1759426200-1759433400@necc.edu
SUMMARY:Literature\, Legacy\, & Community: An Evening with Julia Alvarez
DESCRIPTION:Northern Essex Community College invites students\, faculty\, and the community to An Evening with Julia Alvarez\, presented through the White Fund Enlightenment Series.\nThe event will take place on Thursday\, October 2\, from 5:30–7:30 PM at John R. Dimitry building – 45 Franklin street\, Lawrence MA – Atrium \nThis special evening will feature a reading\, conversation\, and book signing with Julia Alvarez\, the internationally celebrated Dominican-American author of In the Time of the Butterflies and The Cemetery of Untold Stories. Known for her powerful storytelling and cultural insight\, Alvarez will share her experiences and literary journey in a bilingual-friendly setting open to all. \nThe event is free and open to the public. \nLala Books will be on-site selling books in English and Spanish. \nLight refreshments will be provided.  \nRegistration: click here \n Print View
URL:https://necc.edu/event/literature-legacy-community-an-evening-with-julia-alvarez/
LOCATION:All Campuses\, Lawrence\, MA\, United States
CATEGORIES:Student Life
GEO:42.709053;-71.169601
END:VEVENT
BEGIN:VEVENT
DTSTART;TZID=America/New_York:20251002T173000
DTEND;TZID=America/New_York:20251002T193000
DTSTAMP:20260423T204853
CREATED:20250904T150141Z
LAST-MODIFIED:20250904T150142Z
UID:10010841-1759426200-1759433400@necc.edu
SUMMARY:An Evening with Julia Alvarez
DESCRIPTION:Join acclaimed author Julia Alvarez for a reading and conversation about her work\, followed by a book signing and audience Q&A.  For more information\, please contact Giselle Peguero\, Associate Director of the Lawrence Campus at gpeguerogrullon@necc.mass.edu \nLawrence Campus\, 45 Franklin Street\, Dimitry Atrium \n  \n Print View
URL:https://necc.edu/event/an-evening-with-julia-alvarez/
LOCATION:Lawrence Campus\, Lawrence\, MA\, United States
CATEGORIES:Student Life
ORGANIZER;CN="Student Life":MAILTO:studentlife@necc.mass.edu
GEO:42.70734;-71.161052
END:VEVENT
END:VCALENDAR