BEGIN:VCALENDAR
VERSION:2.0
PRODID:-//Northern Essex CC - ECPv6.15.12//NONSGML v1.0//EN
CALSCALE:GREGORIAN
METHOD:PUBLISH
X-ORIGINAL-URL:https://necc.edu
X-WR-CALDESC:Events for Northern Essex CC
REFRESH-INTERVAL;VALUE=DURATION:PT1H
X-Robots-Tag:noindex
X-PUBLISHED-TTL:PT1H
BEGIN:VTIMEZONE
TZID:America/New_York
BEGIN:DAYLIGHT
TZOFFSETFROM:-0500
TZOFFSETTO:-0400
TZNAME:EDT
DTSTART:20240310T070000
END:DAYLIGHT
BEGIN:STANDARD
TZOFFSETFROM:-0400
TZOFFSETTO:-0500
TZNAME:EST
DTSTART:20241103T060000
END:STANDARD
BEGIN:DAYLIGHT
TZOFFSETFROM:-0500
TZOFFSETTO:-0400
TZNAME:EDT
DTSTART:20250309T070000
END:DAYLIGHT
BEGIN:STANDARD
TZOFFSETFROM:-0400
TZOFFSETTO:-0500
TZNAME:EST
DTSTART:20251102T060000
END:STANDARD
BEGIN:DAYLIGHT
TZOFFSETFROM:-0500
TZOFFSETTO:-0400
TZNAME:EDT
DTSTART:20260308T070000
END:DAYLIGHT
BEGIN:STANDARD
TZOFFSETFROM:-0400
TZOFFSETTO:-0500
TZNAME:EST
DTSTART:20261101T060000
END:STANDARD
END:VTIMEZONE
BEGIN:VEVENT
DTSTART;TZID=America/New_York:20250904T080000
DTEND;TZID=America/New_York:20251105T170000
DTSTAMP:20260423T222809
CREATED:20250904T191812Z
LAST-MODIFIED:20250904T192249Z
UID:10010848-1756972800-1762362000@necc.edu
SUMMARY:Share Your Thoughts: Lawrence Campus Perception Survey
DESCRIPTION:Join Us in Shaping Lawrence’s Future! \nWe want to hear from YOU! We’re exploring ways to enhance campus vibrancy and strengthen connections between NECC and the Lawrence community.  \nPlease take our quick 5-minute survey here: https://forms.office.com/r/wzJscM5wXn The deadline to complete the survey is November 5\, 2025.  \nEvery perspective – from longtime residents to new students\, from faculty to community leaders – adds valuable insight to this important conversation about our shared future. \nYour insights will directly shape exciting new initiatives including: \n\nDynamic community events and programming that bring us all together\nEnhanced spaces that welcome students\, families\, and neighbors alike\nMeaningful partnerships between NECC and local organizations\nCreative ways to make our campus a cornerstone of Lawrence life \n\nQuestions? We’d love to connect! Maria Aybar\, Program Manager\, Lawrence Campus and Community Relations Maybar@necc.mass.edu (978) 738-7420 \n Print View
URL:https://necc.edu/event/share-your-thoughts-lawrence-campus-perception-survey/
LOCATION:MA
CATEGORIES:Community
END:VEVENT
BEGIN:VEVENT
DTSTART;TZID=America/New_York:20251006T093000
DTEND;TZID=America/New_York:20251006T104500
DTSTAMP:20260423T222809
CREATED:20250730T184414Z
LAST-MODIFIED:20251002T135906Z
UID:10010638-1759743000-1759747500@necc.edu
SUMMARY:The Book Was Better (Until It Was Banned)
DESCRIPTION:Join the NECC Librarians for a Banned Books Week 2025: Censorship Is So 1984 event at the Haverhill Commons! We will share selected excerpts from Banned or challenged books\, audiobook segments\, and video clips exploring intellectual freedom and the power of diverse voices. Our curated READ\, WATCH\, LISTEN collection will spark discussions about censorship and access to information.  We celebrate the books that challenge us\, the stories that inspire us\, and the importance of protecting our right to read\, learn\, and think freely without restriction. For questions about the event\, contact Susan Leonardi\, Laura Mondt\, or Sarah Regan-Kelley. \n  \n  \n Print View
URL:https://necc.edu/event/banned-books-week-2025-censorship-is-so-1984-read-for-your-rights/
LOCATION:Haverhill Campus\, 100 Elliott St\, Haverhill\, MA\, United States
CATEGORIES:Library,Student Activities,Student Life,The Commons
ORGANIZER;CN="Susan Leonardi":MAILTO:sleonardi@necc.mass.edu
GEO:42.797649;-71.05113
X-APPLE-STRUCTURED-LOCATION;VALUE=URI;X-ADDRESS=Haverhill Campus 100 Elliott St Haverhill MA United States;X-APPLE-RADIUS=500;X-TITLE=100 Elliott St:geo:-71.05113,42.797649
END:VEVENT
BEGIN:VEVENT
DTSTART;TZID=America/New_York:20251006T093000
DTEND;TZID=America/New_York:20251006T104500
DTSTAMP:20260423T222809
CREATED:20251002T135832Z
LAST-MODIFIED:20251002T135833Z
UID:10011058-1759743000-1759747500@necc.edu
SUMMARY:The Book Was Better (Until It Was Banned)
DESCRIPTION:Join the NECC Librarians for a Banned Books Week 2025: Censorship Is So 1984 event at the Lawrence Student Lounge! We will share selected excerpts from Banned or challenged books\, audiobook segments\, and video clips exploring intellectual freedom and the power of diverse voices. Our curated READ\, WATCH\, LISTEN collection will spark discussions about censorship and access to information.  We celebrate the books that challenge us\, the stories that inspire us\, and the importance of protecting our right to read\, learn\, and think freely without restriction. For questions about the event\, contact Grace Spaulding or Susan Leonardi.  \n Print View
URL:https://necc.edu/event/the-book-was-better-until-it-was-banned/
LOCATION:Lawrence Campus\, Lawrence\, MA\, United States
CATEGORIES:Library,Student Activities,Student Life
ORGANIZER;CN="Susan Leonardi":MAILTO:sleonardi@necc.mass.edu
GEO:42.70734;-71.161052
END:VEVENT
BEGIN:VEVENT
DTSTART;TZID=America/New_York:20251006T170000
DTEND;TZID=America/New_York:20251006T190000
DTSTAMP:20260423T222809
CREATED:20250904T150406Z
LAST-MODIFIED:20250908T185302Z
UID:10010842-1759770000-1759777200@necc.edu
SUMMARY:SOAR Heritage & Familia Celebration
DESCRIPTION:Join SOAR for a vibrant celebration of Hispanic Heritage Month\, Honoring Culture\, Family\, and Flavor! Families will come together to share their pride\, culture\, and traditions! This family-friendly event will feature a colorful Flag Photo Booth\, where guests can strike a pose with flags representing their heritage and roots.  All are welcome! ¡Vamos a celebrar! \nFor more information\, please contact Sarah Cooper\, Director of SOAR at scooper@necc.mass.edu \nLawrence Campus\, 45 Franklin Street\, Dimitry Atrium \n Print View
URL:https://necc.edu/event/soar-heritage-familia-celebration/
LOCATION:Lawrence Campus\, Lawrence\, MA\, United States
CATEGORIES:Student Life
ORGANIZER;CN="Student Life":MAILTO:studentlife@necc.mass.edu
GEO:42.70734;-71.161052
END:VEVENT
END:VCALENDAR