BEGIN:VCALENDAR
VERSION:2.0
PRODID:-//Northern Essex CC - ECPv6.15.12//NONSGML v1.0//EN
CALSCALE:GREGORIAN
METHOD:PUBLISH
X-ORIGINAL-URL:https://necc.edu
X-WR-CALDESC:Events for Northern Essex CC
REFRESH-INTERVAL;VALUE=DURATION:PT1H
X-Robots-Tag:noindex
X-PUBLISHED-TTL:PT1H
BEGIN:VTIMEZONE
TZID:America/New_York
BEGIN:DAYLIGHT
TZOFFSETFROM:-0500
TZOFFSETTO:-0400
TZNAME:EDT
DTSTART:20240310T070000
END:DAYLIGHT
BEGIN:STANDARD
TZOFFSETFROM:-0400
TZOFFSETTO:-0500
TZNAME:EST
DTSTART:20241103T060000
END:STANDARD
BEGIN:DAYLIGHT
TZOFFSETFROM:-0500
TZOFFSETTO:-0400
TZNAME:EDT
DTSTART:20250309T070000
END:DAYLIGHT
BEGIN:STANDARD
TZOFFSETFROM:-0400
TZOFFSETTO:-0500
TZNAME:EST
DTSTART:20251102T060000
END:STANDARD
BEGIN:DAYLIGHT
TZOFFSETFROM:-0500
TZOFFSETTO:-0400
TZNAME:EDT
DTSTART:20260308T070000
END:DAYLIGHT
BEGIN:STANDARD
TZOFFSETFROM:-0400
TZOFFSETTO:-0500
TZNAME:EST
DTSTART:20261101T060000
END:STANDARD
END:VTIMEZONE
BEGIN:VEVENT
DTSTART;TZID=America/New_York:20250904T080000
DTEND;TZID=America/New_York:20251105T170000
DTSTAMP:20260423T222808
CREATED:20250904T191812Z
LAST-MODIFIED:20250904T192249Z
UID:10010848-1756972800-1762362000@necc.edu
SUMMARY:Share Your Thoughts: Lawrence Campus Perception Survey
DESCRIPTION:Join Us in Shaping Lawrence’s Future! \nWe want to hear from YOU! We’re exploring ways to enhance campus vibrancy and strengthen connections between NECC and the Lawrence community.  \nPlease take our quick 5-minute survey here: https://forms.office.com/r/wzJscM5wXn The deadline to complete the survey is November 5\, 2025.  \nEvery perspective – from longtime residents to new students\, from faculty to community leaders – adds valuable insight to this important conversation about our shared future. \nYour insights will directly shape exciting new initiatives including: \n\nDynamic community events and programming that bring us all together\nEnhanced spaces that welcome students\, families\, and neighbors alike\nMeaningful partnerships between NECC and local organizations\nCreative ways to make our campus a cornerstone of Lawrence life \n\nQuestions? We’d love to connect! Maria Aybar\, Program Manager\, Lawrence Campus and Community Relations Maybar@necc.mass.edu (978) 738-7420 \n Print View
URL:https://necc.edu/event/share-your-thoughts-lawrence-campus-perception-survey/
LOCATION:MA
CATEGORIES:Community
END:VEVENT
BEGIN:VEVENT
DTSTART;TZID=America/New_York:20251008T120000
DTEND;TZID=America/New_York:20251210T120000
DTSTAMP:20260423T222808
CREATED:20250904T192627Z
LAST-MODIFIED:20250904T192637Z
UID:10010849-1759924800-1765368000@necc.edu
SUMMARY:Coffee Chat with the Lawrence Campus and Community Relations (LCCR) Team
DESCRIPTION:This conversational series aims to create collaborative opportunities to raise educational attainment in the City of Lawrence.\nJoin us for an engaging discussion every second Wednesday of the month\, starting Wednesday\, October 8\, 2025\, at 12:00 PM. Lawrence Campus\, Dimitry Building\, Room L244. \nBring your lunch and we’ll provide coffee and other drinks. \n  \n Print View
URL:https://necc.edu/event/coffee-chat-with-the-lawrence-campus-and-community-relations-lccr-team/
LOCATION:MA
CATEGORIES:Community
END:VEVENT
BEGIN:VEVENT
DTSTART;TZID=America/New_York:20251014T070000
DTEND;TZID=America/New_York:20251014T170000
DTSTAMP:20260423T222808
CREATED:20251003T162149Z
LAST-MODIFIED:20251003T162149Z
UID:10011064-1760425200-1760461200@necc.edu
SUMMARY:Police Academy Training
DESCRIPTION:For community awareness\, the NECC Police Academy will be starting their new session on the morning of October 14th. This session will be similar to sessions in the past. There will be increased Police activity in the Spurk Parking Lot on the 14th from approximately 9am-10am. From there\, most of their activities will be in the D Building. \n  \nIf you have questions or concerns\, please contact Joshua Stokel\, director of the police academy\, at jstokel@necc.mass.edu. \n  \n Print View
URL:https://necc.edu/event/police-academy-training-7/
LOCATION:Haverhill Campus\, 100 Elliott St\, Haverhill\, MA\, United States
CATEGORIES:Community,Police Academy,Student Support Resources
ORGANIZER;CN="NECC Police Academy":MAILTO:jstokel@necc.mass.edu
GEO:42.797649;-71.05113
X-APPLE-STRUCTURED-LOCATION;VALUE=URI;X-ADDRESS=Haverhill Campus 100 Elliott St Haverhill MA United States;X-APPLE-RADIUS=500;X-TITLE=100 Elliott St:geo:-71.05113,42.797649
END:VEVENT
BEGIN:VEVENT
DTSTART;TZID=America/New_York:20251014T090000
DTEND;TZID=America/New_York:20251014T100000
DTSTAMP:20260423T222808
CREATED:20251010T153846Z
LAST-MODIFIED:20251010T153847Z
UID:10011080-1760432400-1760436000@necc.edu
SUMMARY:Sleep Technology Certificate Information Session - Online
DESCRIPTION:If a Career in Sleep Medicine Interest You\, Then Attend Sleep Technology Certificate Information Session and Get Your Questions Answered\nNECC can prepare you for a career as a sleep technologist. Learn to diagnose sleep disorders in a sleep lab. At the Sleep Technology Certificate Information Session you can find out more about our state-of-the-art sleep lab\, and also learn more about our schedule-friendly hybrid program! In the hybrid program you will complete most coursework online\, and attend class one Saturday a month. View the Sleep Technologist Certificate Program page for additional details about the program. \nJoin the Info Session Online\nThe meeting will take place online with Zoom: \nhttps://necc-mass-edu.zoom.us/j/83118172299 \nZoom Meeting ID\n831 1817 2299 \nMore Information\nFor more information\, or for sign language interpreting or access requests (including food-related allergies)\, please contact: \nLyn Blythe\nPhone: 978-665-5892\nEmail: lblythe@necc.mass.edu. \n Print View
URL:https://necc.edu/event/sleep-technology-certificate-information-session-online-5/
LOCATION:Online\, United States
CATEGORIES:Health Info Sessions,Sleep Tech Info Session
ORGANIZER;CN="Lyn Blythe":MAILTO:lblythe@necc.mass.edu
END:VEVENT
BEGIN:VEVENT
DTSTART;TZID=America/New_York:20251014T100000
DTEND;TZID=America/New_York:20251014T110000
DTSTAMP:20260423T222808
CREATED:20250818T120334Z
LAST-MODIFIED:20250922T141618Z
UID:10010747-1760436000-1760439600@necc.edu
SUMMARY:Information Session: Respiratory Care Program - Online
DESCRIPTION: \n \nAre You Looking for a Degree in Respiratory Care? Attend a Respiratory Care Associate Degree Information Session and Get the Answers You Need!\nWith NECC’s Respiratory Care Program you can prepare for a rewarding career as a respiratory therapist.  Respiratory therapists work in hospitals\, physician’s offices\, nursing care facilities\, home health agencies\, and more. Find out more about the program\, facilities\, and NECC\, by attending a Respiratory Care Associate Degree Information Session on our Lawrence Campus. \nJoin the Info Session Online\nThe meeting will take place online with Zoom: \nhttps://zoom.us/j/8755564735 \nZoom Meeting ID\n875 556 4735 \nMeeting Password\n746723 \nOne-Tap mobile\n+19292056099\,\,8755564735# US (New York) \n+13017158592\,\,8755564735# US (Washington DC) \nMore Information\nFor more information please contact Jennifer Jackson-Stevens\, Program Director at 978-655-5893 or email jjacksonstevens@necc.mass.edu \nYou can also read more about our Respiratory Care Program in the NECC Newsroom. \n Print View
URL:https://necc.edu/event/information-session-respiratory-care-program-3/
LOCATION:Online\, United States
CATEGORIES:Health Info Sessions,Home Page Events,Respiratory Care Info Session
ORGANIZER;CN="Jennifer Jackson-Stevens":MAILTO:jjacksonstevens@necc.mass.edu
END:VEVENT
BEGIN:VEVENT
DTSTART;TZID=America/New_York:20251014T100000
DTEND;TZID=America/New_York:20251014T120000
DTSTAMP:20260423T222808
CREATED:20250929T193026Z
LAST-MODIFIED:20250929T193133Z
UID:10010928-1760436000-1760443200@necc.edu
SUMMARY:College Systems Trainings
DESCRIPTION:Our College Systems Trainings are designed to support all employees by providing regular onboarding and refresher sessions on the key college systems you use every day. Whether you’re new or experienced\, we highly encourage you to participate as needed. \nThese trainings are held Tuesdays and Thursdays from 10am–12pm in the C206B-CPD Computer Lab at the Haverhill Campus. \n  \nPlease note\, the facilitator may adjust the training format or cancel sessions based on registration numbers to ensure the best experience for everyone. \n  \nTo learn more and register\, please click HERE. \n Print View
URL:https://necc.edu/event/college-systems-trainings-2/2025-10-14/
LOCATION:Haverhill Campus\, 100 Elliott St\, Haverhill\, MA\, United States
CATEGORIES:Professional Development
GEO:42.797649;-71.05113
X-APPLE-STRUCTURED-LOCATION;VALUE=URI;X-ADDRESS=Haverhill Campus 100 Elliott St Haverhill MA United States;X-APPLE-RADIUS=500;X-TITLE=100 Elliott St:geo:-71.05113,42.797649
END:VEVENT
BEGIN:VEVENT
DTSTART;TZID=America/New_York:20251014T110000
DTEND;TZID=America/New_York:20251014T140000
DTSTAMP:20260423T222808
CREATED:20250813T152518Z
LAST-MODIFIED:20250813T152518Z
UID:10010739-1760439600-1760450400@necc.edu
SUMMARY:UTEC Food Truck - Lawrence Campus
DESCRIPTION:🚚 UTEC Food Truck is Back!\nWe’re excited to welcome the UTEC Food Truck to campus every other Tuesday this Fall Semester! Come by for delicious\, freshly made meals and support a great cause—UTEC’s mission to help young adults reach their full potential. Don’t miss it! \n Print View
URL:https://necc.edu/event/utec-food-truck-lawrence-campus/2025-10-14/
LOCATION:Lawrence Campus\, Lawrence\, MA\, United States
CATEGORIES:Home Page Events
ORGANIZER;CN="Administration & Finance":MAILTO:kteixeira@necc.mass.edu
GEO:42.70734;-71.161052
END:VEVENT
BEGIN:VEVENT
DTSTART;TZID=America/New_York:20251014T120000
DTEND;TZID=America/New_York:20251014T140000
DTSTAMP:20260423T222808
CREATED:20251006T145434Z
LAST-MODIFIED:20251006T145923Z
UID:10011066-1760443200-1760450400@necc.edu
SUMMARY:UTEC Food Truck Update - No Service on the Lawrence Campus
DESCRIPTION:The UTEC food truck is off next Tuesday\, October 14th\, but will be back on the Lawrence Campus on October 28th.  Grab your favorite lunch then! \n Print View
URL:https://necc.edu/event/utec-food-truck-update-no-service-in-lawrence-campus/
LOCATION:Lawrence Campus\, Lawrence\, MA\, United States
CATEGORIES:Home Page Events
GEO:42.70734;-71.161052
END:VEVENT
BEGIN:VEVENT
DTSTART;TZID=America/New_York:20251014T123000
DTEND;TZID=America/New_York:20251014T133000
DTSTAMP:20260423T222808
CREATED:20250923T150204Z
LAST-MODIFIED:20251014T123805Z
UID:10010890-1760445000-1760448600@necc.edu
SUMMARY:Title IX/YWCA Virtual Workshop - Domestic Violence Awareness
DESCRIPTION:Tuesday\, Oct 14\, 2025 12:30 PM Eastern Time (US and Canada) \n  \nTitle IX/Human Resources is hosting a Domestic Violence Awareness Workshop that will be presented by the YWCA. All employees and students are welcomed to attend.  \n  \nVirtual Workshop:  12:30PM-1:30PM                   \nhttps://necc-mass-edu.zoom.us/j/87422591496 \nMeeting ID: 874 2259 1496 \nPasscode: 573175 \n  \n  \n  \nWe welcome requests for ASL sign language interpreting and other access requests (i.e. Computer Aided Real Time (CART). \nPlease Note:  Events with ASL Interpreters or live captioned already scheduled and provided**\, are indicated. \nPlease contact the host of the event\, Human Resources at 978-556-3943 or hr@necc.mass.edu for requests\, questions\, or event information. \n Print View
URL:https://necc.edu/event/title-ix-ywca-workshop-virtual-in-person-domestic-violence-awareness-2/
LOCATION:MA
CATEGORIES:Student Activities,Student Support Resources
ORGANIZER;CN="Human Resources":MAILTO:hr@necc.mass.edu
END:VEVENT
END:VCALENDAR