BEGIN:VCALENDAR
VERSION:2.0
PRODID:-//Northern Essex CC - ECPv6.15.12//NONSGML v1.0//EN
CALSCALE:GREGORIAN
METHOD:PUBLISH
X-WR-CALNAME:Northern Essex CC
X-ORIGINAL-URL:https://necc.edu
X-WR-CALDESC:Events for Northern Essex CC
REFRESH-INTERVAL;VALUE=DURATION:PT1H
X-Robots-Tag:noindex
X-PUBLISHED-TTL:PT1H
BEGIN:VTIMEZONE
TZID:America/New_York
BEGIN:DAYLIGHT
TZOFFSETFROM:-0500
TZOFFSETTO:-0400
TZNAME:EDT
DTSTART:20240310T070000
END:DAYLIGHT
BEGIN:STANDARD
TZOFFSETFROM:-0400
TZOFFSETTO:-0500
TZNAME:EST
DTSTART:20241103T060000
END:STANDARD
BEGIN:DAYLIGHT
TZOFFSETFROM:-0500
TZOFFSETTO:-0400
TZNAME:EDT
DTSTART:20250309T070000
END:DAYLIGHT
BEGIN:STANDARD
TZOFFSETFROM:-0400
TZOFFSETTO:-0500
TZNAME:EST
DTSTART:20251102T060000
END:STANDARD
BEGIN:DAYLIGHT
TZOFFSETFROM:-0500
TZOFFSETTO:-0400
TZNAME:EDT
DTSTART:20260308T070000
END:DAYLIGHT
BEGIN:STANDARD
TZOFFSETFROM:-0400
TZOFFSETTO:-0500
TZNAME:EST
DTSTART:20261101T060000
END:STANDARD
END:VTIMEZONE
BEGIN:VEVENT
DTSTART;TZID=America/New_York:20250904T080000
DTEND;TZID=America/New_York:20251105T170000
DTSTAMP:20260423T222741
CREATED:20250904T191812Z
LAST-MODIFIED:20250904T192249Z
UID:10010848-1756972800-1762362000@necc.edu
SUMMARY:Share Your Thoughts: Lawrence Campus Perception Survey
DESCRIPTION:Join Us in Shaping Lawrence’s Future! \nWe want to hear from YOU! We’re exploring ways to enhance campus vibrancy and strengthen connections between NECC and the Lawrence community.  \nPlease take our quick 5-minute survey here: https://forms.office.com/r/wzJscM5wXn The deadline to complete the survey is November 5\, 2025.  \nEvery perspective – from longtime residents to new students\, from faculty to community leaders – adds valuable insight to this important conversation about our shared future. \nYour insights will directly shape exciting new initiatives including: \n\nDynamic community events and programming that bring us all together\nEnhanced spaces that welcome students\, families\, and neighbors alike\nMeaningful partnerships between NECC and local organizations\nCreative ways to make our campus a cornerstone of Lawrence life \n\nQuestions? We’d love to connect! Maria Aybar\, Program Manager\, Lawrence Campus and Community Relations Maybar@necc.mass.edu (978) 738-7420 \n Print View
URL:https://necc.edu/event/share-your-thoughts-lawrence-campus-perception-survey/
LOCATION:MA
CATEGORIES:Community
END:VEVENT
BEGIN:VEVENT
DTSTART;TZID=America/New_York:20251008T120000
DTEND;TZID=America/New_York:20251210T120000
DTSTAMP:20260423T222741
CREATED:20250904T192627Z
LAST-MODIFIED:20250904T192637Z
UID:10010849-1759924800-1765368000@necc.edu
SUMMARY:Coffee Chat with the Lawrence Campus and Community Relations (LCCR) Team
DESCRIPTION:This conversational series aims to create collaborative opportunities to raise educational attainment in the City of Lawrence.\nJoin us for an engaging discussion every second Wednesday of the month\, starting Wednesday\, October 8\, 2025\, at 12:00 PM. Lawrence Campus\, Dimitry Building\, Room L244. \nBring your lunch and we’ll provide coffee and other drinks. \n  \n Print View
URL:https://necc.edu/event/coffee-chat-with-the-lawrence-campus-and-community-relations-lccr-team/
LOCATION:MA
CATEGORIES:Community
END:VEVENT
BEGIN:VEVENT
DTSTART;VALUE=DATE:20251015
DTEND;VALUE=DATE:20251022
DTSTAMP:20260423T222741
CREATED:20241108T020605Z
LAST-MODIFIED:20251010T043511Z
UID:10008861-1760486400-1761091199@necc.edu
SUMMARY:Final Exam Period for Fall Session I classes
DESCRIPTION:Print View
URL:https://necc.edu/event/final-exam-period-for-fall-session-i-classes/
LOCATION:MA
CATEGORIES:Academic Calendar
END:VEVENT
BEGIN:VEVENT
DTSTART;TZID=America/New_York:20251016T100000
DTEND;TZID=America/New_York:20251016T120000
DTSTAMP:20260423T222741
CREATED:20250929T193026Z
LAST-MODIFIED:20250929T193133Z
UID:10010929-1760608800-1760616000@necc.edu
SUMMARY:College Systems Trainings
DESCRIPTION:Our College Systems Trainings are designed to support all employees by providing regular onboarding and refresher sessions on the key college systems you use every day. Whether you’re new or experienced\, we highly encourage you to participate as needed. \nThese trainings are held Tuesdays and Thursdays from 10am–12pm in the C206B-CPD Computer Lab at the Haverhill Campus. \n  \nPlease note\, the facilitator may adjust the training format or cancel sessions based on registration numbers to ensure the best experience for everyone. \n  \nTo learn more and register\, please click HERE. \n Print View
URL:https://necc.edu/event/college-systems-trainings-2/2025-10-16/
LOCATION:Haverhill Campus\, 100 Elliott St\, Haverhill\, MA\, United States
CATEGORIES:Professional Development
GEO:42.797649;-71.05113
X-APPLE-STRUCTURED-LOCATION;VALUE=URI;X-ADDRESS=Haverhill Campus 100 Elliott St Haverhill MA United States;X-APPLE-RADIUS=500;X-TITLE=100 Elliott St:geo:-71.05113,42.797649
END:VEVENT
BEGIN:VEVENT
DTSTART;TZID=America/New_York:20251016T130000
DTEND;TZID=America/New_York:20251016T150000
DTSTAMP:20260423T222741
CREATED:20251001T200729Z
LAST-MODIFIED:20251001T203701Z
UID:10011050-1760619600-1760626800@necc.edu
SUMMARY:Pumpkin Palooza
DESCRIPTION:Get ready for a fall-tastic afternoon at Pumpkin Palooza! Join us for pumpkin carving with real pumpkins\, creative painting on craft pumpkins\, and festive music to keep the vibes lively. Enjoy delicious donuts and warm apple cider as you show off your seasonal spirit. \nBring your friends\, your creativity\, and your love of all things pumpkin – it’s going to be gourd-geous! \n \n Print View
URL:https://necc.edu/event/pumpkin-palooza/
LOCATION:Lawrence Campus\, Lawrence\, MA\, United States
CATEGORIES:Student Activities,Student Life
ORGANIZER;CN="Student Life":MAILTO:studentlife@necc.mass.edu
GEO:42.70734;-71.161052
END:VEVENT
BEGIN:VEVENT
DTSTART;TZID=America/New_York:20251016T133000
DTEND;TZID=America/New_York:20251016T150000
DTSTAMP:20260423T222741
CREATED:20250827T141308Z
LAST-MODIFIED:20251125T201806Z
UID:10010811-1760621400-1760626800@necc.edu
SUMMARY:Poppin' Chats with Student Life - Lawrence
DESCRIPTION:Take a break\, grab some popcorn\, and connect with Student Life! Poppin’ Chats is a relaxed\, drop-in space where you can meet our team and other campus departments\, ask questions\, and learn about resources\, events\, and ways to get involved at NECC—all while enjoying some free\, freshly popped popcorn. \nStop by\, say hello\, and leave with both snacks and new connections! \n \n Print View
URL:https://necc.edu/event/poppin-chats-with-student-life-lawrence/2025-10-16/
LOCATION:Lawrence Campus\, Lawrence\, MA\, United States
CATEGORIES:Student Activities,Student Life
ORGANIZER;CN="Student Life":MAILTO:studentlife@necc.mass.edu
GEO:42.70734;-71.161052
END:VEVENT
BEGIN:VEVENT
DTSTART;TZID=America/New_York:20251016T180000
DTEND;TZID=America/New_York:20251016T193000
DTSTAMP:20260423T222741
CREATED:20250822T152102Z
LAST-MODIFIED:20250822T152103Z
UID:10010756-1760637600-1760643000@necc.edu
SUMMARY:In Our Own Voice: Community Education Program
DESCRIPTION:What is “In Our Own Voice?” “In Our Own Voice (IOOV) is a powerful presentation that aims to change \nattitudes\, assumptions\, and stereotypes about people living with mental health conditions. Two trained \npresenters with lived experience of a mental health condition talk openly about their experiences and how \nthey have found pathways to hope and healing. Three short video segments include the stories of eight \nadditional individuals. Audience members have the opportunity to ask questions\, learn more about mental \nhealth\, and challenge misconceptions.” \nWHEN: Thursday\, October 16th\, 2025\, 6:00 p.m. to 7:30 p.m.\nWHERE: Northern Essex Community College\, Building C\, Lecture Hall A\, 100 Elliott Street\, Haverhill\, MA 01830 \n\nASL Interpreting will be provided if requested by October 11th. \n\nLight refreshments will be provided. You can request a zoom link if you are unable to attend in person. \nThis free workshop (cosponsored by NECC\, NAMI Northeast Essex) is open to everyone: Families\, Students \n(High School and College) Educators\, Professionals\, Veterans\, employers\, Individuals with Lived Experience\, \nMental Health Providers. \n\nFor more information or to request a zoom link\, contact jfortna@necc.mass.edu \nWe welcome requests for ASL sign language interpreting and other access requests (i.e. Computer Aided Real \nTime (CART). Please Note: Events with ASL Interpreters or live captioned already scheduled and provided\, are \nindicated above. Please contact the Center for Accessibility Resources and Services\, 978-556-3654 or \ncenterforaccess@necc.mass.edu for requests\, questions\, or event information \n Print View
URL:https://necc.edu/event/in-our-own-voice-community-education-program/
LOCATION:Haverhill Campus\, 100 Elliott St\, Haverhill\, MA\, United States
CATEGORIES:Community
ORGANIZER;CN="Human Services Program":MAILTO:lfabbri@necc.mass.edu
GEO:42.797649;-71.05113
X-APPLE-STRUCTURED-LOCATION;VALUE=URI;X-ADDRESS=Haverhill Campus 100 Elliott St Haverhill MA United States;X-APPLE-RADIUS=500;X-TITLE=100 Elliott St:geo:-71.05113,42.797649
END:VEVENT
END:VCALENDAR