BEGIN:VCALENDAR
VERSION:2.0
PRODID:-//Northern Essex CC - ECPv6.15.12//NONSGML v1.0//EN
CALSCALE:GREGORIAN
METHOD:PUBLISH
X-WR-CALNAME:Northern Essex CC
X-ORIGINAL-URL:https://necc.edu
X-WR-CALDESC:Events for Northern Essex CC
REFRESH-INTERVAL;VALUE=DURATION:PT1H
X-Robots-Tag:noindex
X-PUBLISHED-TTL:PT1H
BEGIN:VTIMEZONE
TZID:America/New_York
BEGIN:DAYLIGHT
TZOFFSETFROM:-0500
TZOFFSETTO:-0400
TZNAME:EDT
DTSTART:20240310T070000
END:DAYLIGHT
BEGIN:STANDARD
TZOFFSETFROM:-0400
TZOFFSETTO:-0500
TZNAME:EST
DTSTART:20241103T060000
END:STANDARD
BEGIN:DAYLIGHT
TZOFFSETFROM:-0500
TZOFFSETTO:-0400
TZNAME:EDT
DTSTART:20250309T070000
END:DAYLIGHT
BEGIN:STANDARD
TZOFFSETFROM:-0400
TZOFFSETTO:-0500
TZNAME:EST
DTSTART:20251102T060000
END:STANDARD
BEGIN:DAYLIGHT
TZOFFSETFROM:-0500
TZOFFSETTO:-0400
TZNAME:EDT
DTSTART:20260308T070000
END:DAYLIGHT
BEGIN:STANDARD
TZOFFSETFROM:-0400
TZOFFSETTO:-0500
TZNAME:EST
DTSTART:20261101T060000
END:STANDARD
END:VTIMEZONE
BEGIN:VEVENT
DTSTART;TZID=America/New_York:20250904T080000
DTEND;TZID=America/New_York:20251105T170000
DTSTAMP:20260423T222742
CREATED:20250904T191812Z
LAST-MODIFIED:20250904T192249Z
UID:10010848-1756972800-1762362000@necc.edu
SUMMARY:Share Your Thoughts: Lawrence Campus Perception Survey
DESCRIPTION:Join Us in Shaping Lawrence’s Future! \nWe want to hear from YOU! We’re exploring ways to enhance campus vibrancy and strengthen connections between NECC and the Lawrence community.  \nPlease take our quick 5-minute survey here: https://forms.office.com/r/wzJscM5wXn The deadline to complete the survey is November 5\, 2025.  \nEvery perspective – from longtime residents to new students\, from faculty to community leaders – adds valuable insight to this important conversation about our shared future. \nYour insights will directly shape exciting new initiatives including: \n\nDynamic community events and programming that bring us all together\nEnhanced spaces that welcome students\, families\, and neighbors alike\nMeaningful partnerships between NECC and local organizations\nCreative ways to make our campus a cornerstone of Lawrence life \n\nQuestions? We’d love to connect! Maria Aybar\, Program Manager\, Lawrence Campus and Community Relations Maybar@necc.mass.edu (978) 738-7420 \n Print View
URL:https://necc.edu/event/share-your-thoughts-lawrence-campus-perception-survey/
LOCATION:MA
CATEGORIES:Community
END:VEVENT
BEGIN:VEVENT
DTSTART;TZID=America/New_York:20251008T120000
DTEND;TZID=America/New_York:20251210T120000
DTSTAMP:20260423T222742
CREATED:20250904T192627Z
LAST-MODIFIED:20250904T192637Z
UID:10010849-1759924800-1765368000@necc.edu
SUMMARY:Coffee Chat with the Lawrence Campus and Community Relations (LCCR) Team
DESCRIPTION:This conversational series aims to create collaborative opportunities to raise educational attainment in the City of Lawrence.\nJoin us for an engaging discussion every second Wednesday of the month\, starting Wednesday\, October 8\, 2025\, at 12:00 PM. Lawrence Campus\, Dimitry Building\, Room L244. \nBring your lunch and we’ll provide coffee and other drinks. \n  \n Print View
URL:https://necc.edu/event/coffee-chat-with-the-lawrence-campus-and-community-relations-lccr-team/
LOCATION:MA
CATEGORIES:Community
END:VEVENT
BEGIN:VEVENT
DTSTART;VALUE=DATE:20251015
DTEND;VALUE=DATE:20251022
DTSTAMP:20260423T222742
CREATED:20241108T020605Z
LAST-MODIFIED:20251010T043511Z
UID:10008861-1760486400-1761091199@necc.edu
SUMMARY:Final Exam Period for Fall Session I classes
DESCRIPTION:Print View
URL:https://necc.edu/event/final-exam-period-for-fall-session-i-classes/
LOCATION:MA
CATEGORIES:Academic Calendar
END:VEVENT
BEGIN:VEVENT
DTSTART;VALUE=DATE:20251020
DTEND;VALUE=DATE:20251108
DTSTAMP:20260423T222742
CREATED:20241108T020605Z
LAST-MODIFIED:20251107T232125Z
UID:10008860-1760918400-1762559999@necc.edu
SUMMARY:Book voucher period for Fall Session II classes
DESCRIPTION:Print View
URL:https://necc.edu/event/book-voucher-period-for-fall-session-ii-classes/
LOCATION:MA
CATEGORIES:Academic Calendar
END:VEVENT
BEGIN:VEVENT
DTSTART;VALUE=DATE:20251020
DTEND;VALUE=DATE:20251028
DTSTAMP:20260423T222742
CREATED:20250801T175451Z
LAST-MODIFIED:20250813T185447Z
UID:10010745-1760947200-1761584400@necc.edu
SUMMARY:Prep for Success Online Course
DESCRIPTION:This one-week online course will equip you with the skills and knowledge needed to thrive online. Hosted on NECC’s Blackboard platform\, the course provides hands-on practice with the technologies and strategies used in online courses. Whether you’re new to online learning or need a refresher\, the course instructor and fellow students will support you in building your confidence and comfort with digital tools. By the end\, you’ll be prepared to succeed in any online or blended NECC course. This course is highly recommended for students who are new to online learning.  \nFall Session I: Monday\, August 18 – Sunday\, August 24\, 2025 \nFall Session I: Monday\, August 25 – Sunday\, August 31\, 2025 \nFall Session II: Monday\, October 20 – Sunday\, October 26\, 2025 \nRegister Today! \nPre-registration is required: Prep for Success Online Registration Form \n Print View
URL:https://necc.edu/event/prep-for-success-online-course/2025-10-20/
LOCATION:Online\, United States
CATEGORIES:Student Life,Student Support Resources
END:VEVENT
BEGIN:VEVENT
DTSTART;TZID=America/New_York:20251020T100000
DTEND;TZID=America/New_York:20251020T110000
DTSTAMP:20260423T222742
CREATED:20250923T152342Z
LAST-MODIFIED:20250923T152343Z
UID:10010892-1760954400-1760958000@necc.edu
SUMMARY:CPD: Coffee and Conversation
DESCRIPTION:Take a break and connect with colleagues over coffee (or tea).\nC204: 9/22\, 10/20\, 11/17 –10-11am \nL233: 9/24\, 10/22\, 11/19 –10-11am \n Print View
URL:https://necc.edu/event/cpd-coffee-and-conversation/2025-10-20/
LOCATION:All Campuses\, Lawrence\, MA\, United States
CATEGORIES:Professional Development
GEO:42.709053;-71.169601
END:VEVENT
BEGIN:VEVENT
DTSTART;TZID=America/New_York:20251020T100000
DTEND;TZID=America/New_York:20251020T130000
DTSTAMP:20260423T222742
CREATED:20250925T154942Z
LAST-MODIFIED:20250925T155156Z
UID:10010912-1760954400-1760965200@necc.edu
SUMMARY:Merrimack College Campus Transfer Visits
DESCRIPTION:Learn more about Merrimack’s Joint Admission partnership with NECC & how you can earn a 5k-10k guaranteed NECC Scholarship!\nAt Merrimack College\, we’re redefining what’s possible—and you’re at the heart of it. Here\, your potential is recognized\, your ambitions sparked and your future set in motion. Join a vibrant academic community that challenges\, supports and empowers you to become your boldest\, most confident self. From lifelong friendships and an energetic campus to dedicated mentors and real-world experiences\, you’ll do more than find your place—you’ll forge your path. \nHaverhill Visits:   C (Spurk) Building Lobby 10:00 – 1:00\nMonday\, October 20th    \nTuesday\, December 9th \n  \nLawrence Visits: 10:00 – 1:00\nTuesday\, October 21st  L ( Dimitry) Building Atrium  \nMonday\, December 8th  LC (El-Hefni) Building Lobby   \n  \n \n                                  \n Print View
URL:https://necc.edu/event/merrimack-college-campus-transfer-visits/2025-10-20/
LOCATION:Haverhill Campus\, 100 Elliott St\, Haverhill\, MA\, United States
CATEGORIES:Transfer Events
ORGANIZER;CN="Deb LaValley":MAILTO:dlavalley@necc.mass.edu
GEO:42.797649;-71.05113
X-APPLE-STRUCTURED-LOCATION;VALUE=URI;X-ADDRESS=Haverhill Campus 100 Elliott St Haverhill MA United States;X-APPLE-RADIUS=500;X-TITLE=100 Elliott St:geo:-71.05113,42.797649
END:VEVENT
BEGIN:VEVENT
DTSTART;TZID=America/New_York:20251020T140000
DTEND;TZID=America/New_York:20251020T150000
DTSTAMP:20260423T222742
CREATED:20250806T134040Z
LAST-MODIFIED:20251006T151750Z
UID:10010658-1760968800-1760972400@necc.edu
SUMMARY:ACA Governance Forum
DESCRIPTION:This semester brings many changes\, and with them\, important conversations. The upcoming ACA Governance Forum will focus on listening to our constituency. We want to ensure every voice has a place in shaping our path forward. \n  \nConstituents are invited to submit items anonymously or bring them directly to the Forum. While we may not have all the answers immediately\, this space allows us to hear from everyone and work together toward thoughtful solutions. \n  \nYour perspectives matter\, and we look forward to your participation. \n  \nAgenda: \n\nBrief introduction of Governance \nCTO Danny Rivera on the NECC Short Messaging System (SMS) and Audio Communication Policy\nOpen Forum\n\n\n Print View
URL:https://necc.edu/event/aca/
LOCATION:MA
CATEGORIES:All College Assembly (ACA)
ORGANIZER;CN="Sheila Muller":MAILTO:smuller@necc.mass.edu
END:VEVENT
BEGIN:VEVENT
DTSTART;TZID=America/New_York:20251020T150000
DTEND;TZID=America/New_York:20251020T160000
DTSTAMP:20260423T222742
CREATED:20250822T144733Z
LAST-MODIFIED:20250822T144734Z
UID:10010754-1760972400-1760976000@necc.edu
SUMMARY:Nursing Information session
DESCRIPTION:Students in NECC’s Nursing Programs practicing on state-of-the-art equipment.\nAttend a Nursing Information Session and Learn More About the Program and NECC!\n\nLearn more about the Nursing Programs\nGet all of your questions answered.\nDiscover career pathways.\nTour the Lawrence NECC campus.\n\nLocation\nDr. Ibrahim El-Hefni Allied Health & Technology Center (LC Building)\n414 Common Street\nLawrence MA \nParking\nParking in Lawrence is available in the three parking lots located on Common Street. One parking lot is in the fenced lot at the Dimitry Building\, another open lot across the street from the Dimitry Building\, and a third parking lot across the street from the El Hefni Building. \nNECC requires a parking decal to park in many of our parking lots. Visitors must park in Visitor or Free parking lots. \nView maps for Visitor and free parking. \nPlease Note\n\nThe mandatory Nursing Information Session are required for students applying to the Nursing program.\nDue to this requirement attendees are asked to be on-time for the information session.\nWe start promptly at 3:00 pm. Late admissions will not be allowed.  \nThis info session is in-person only.\nAdvanced registration is not required.\n\nView all of the Health Information Session Dates and Nursing Programs at NECC. \n Print View
URL:https://necc.edu/event/nursing-information-session-6/
LOCATION:Lawrence Campus\, Lawrence\, MA\, United States
CATEGORIES:Health Info Sessions,Home Page Events,Nursing General Info Sessions
ORGANIZER;CN="Dawn Wheaten":MAILTO:dwheaton@necc.mass.edu
GEO:42.70734;-71.161052
END:VEVENT
END:VCALENDAR