BEGIN:VCALENDAR
VERSION:2.0
PRODID:-//Northern Essex CC - ECPv6.15.12//NONSGML v1.0//EN
CALSCALE:GREGORIAN
METHOD:PUBLISH
X-WR-CALNAME:Northern Essex CC
X-ORIGINAL-URL:https://necc.edu
X-WR-CALDESC:Events for Northern Essex CC
REFRESH-INTERVAL;VALUE=DURATION:PT1H
X-Robots-Tag:noindex
X-PUBLISHED-TTL:PT1H
BEGIN:VTIMEZONE
TZID:America/New_York
BEGIN:DAYLIGHT
TZOFFSETFROM:-0500
TZOFFSETTO:-0400
TZNAME:EDT
DTSTART:20240310T070000
END:DAYLIGHT
BEGIN:STANDARD
TZOFFSETFROM:-0400
TZOFFSETTO:-0500
TZNAME:EST
DTSTART:20241103T060000
END:STANDARD
BEGIN:DAYLIGHT
TZOFFSETFROM:-0500
TZOFFSETTO:-0400
TZNAME:EDT
DTSTART:20250309T070000
END:DAYLIGHT
BEGIN:STANDARD
TZOFFSETFROM:-0400
TZOFFSETTO:-0500
TZNAME:EST
DTSTART:20251102T060000
END:STANDARD
BEGIN:DAYLIGHT
TZOFFSETFROM:-0500
TZOFFSETTO:-0400
TZNAME:EDT
DTSTART:20260308T070000
END:DAYLIGHT
BEGIN:STANDARD
TZOFFSETFROM:-0400
TZOFFSETTO:-0500
TZNAME:EST
DTSTART:20261101T060000
END:STANDARD
END:VTIMEZONE
BEGIN:VEVENT
DTSTART;TZID=America/New_York:20250904T080000
DTEND;TZID=America/New_York:20251105T170000
DTSTAMP:20260423T222740
CREATED:20250904T191812Z
LAST-MODIFIED:20250904T192249Z
UID:10010848-1756972800-1762362000@necc.edu
SUMMARY:Share Your Thoughts: Lawrence Campus Perception Survey
DESCRIPTION:Join Us in Shaping Lawrence’s Future! \nWe want to hear from YOU! We’re exploring ways to enhance campus vibrancy and strengthen connections between NECC and the Lawrence community.  \nPlease take our quick 5-minute survey here: https://forms.office.com/r/wzJscM5wXn The deadline to complete the survey is November 5\, 2025.  \nEvery perspective – from longtime residents to new students\, from faculty to community leaders – adds valuable insight to this important conversation about our shared future. \nYour insights will directly shape exciting new initiatives including: \n\nDynamic community events and programming that bring us all together\nEnhanced spaces that welcome students\, families\, and neighbors alike\nMeaningful partnerships between NECC and local organizations\nCreative ways to make our campus a cornerstone of Lawrence life \n\nQuestions? We’d love to connect! Maria Aybar\, Program Manager\, Lawrence Campus and Community Relations Maybar@necc.mass.edu (978) 738-7420 \n Print View
URL:https://necc.edu/event/share-your-thoughts-lawrence-campus-perception-survey/
LOCATION:MA
CATEGORIES:Community
END:VEVENT
BEGIN:VEVENT
DTSTART;TZID=America/New_York:20251008T120000
DTEND;TZID=America/New_York:20251210T120000
DTSTAMP:20260423T222740
CREATED:20250904T192627Z
LAST-MODIFIED:20250904T192637Z
UID:10010849-1759924800-1765368000@necc.edu
SUMMARY:Coffee Chat with the Lawrence Campus and Community Relations (LCCR) Team
DESCRIPTION:This conversational series aims to create collaborative opportunities to raise educational attainment in the City of Lawrence.\nJoin us for an engaging discussion every second Wednesday of the month\, starting Wednesday\, October 8\, 2025\, at 12:00 PM. Lawrence Campus\, Dimitry Building\, Room L244. \nBring your lunch and we’ll provide coffee and other drinks. \n  \n Print View
URL:https://necc.edu/event/coffee-chat-with-the-lawrence-campus-and-community-relations-lccr-team/
LOCATION:MA
CATEGORIES:Community
END:VEVENT
BEGIN:VEVENT
DTSTART;VALUE=DATE:20251020
DTEND;VALUE=DATE:20251108
DTSTAMP:20260423T222740
CREATED:20241108T020605Z
LAST-MODIFIED:20251107T232125Z
UID:10008860-1760918400-1762559999@necc.edu
SUMMARY:Book voucher period for Fall Session II classes
DESCRIPTION:Print View
URL:https://necc.edu/event/book-voucher-period-for-fall-session-ii-classes/
LOCATION:MA
CATEGORIES:Academic Calendar
END:VEVENT
BEGIN:VEVENT
DTSTART;VALUE=DATE:20251020
DTEND;VALUE=DATE:20251028
DTSTAMP:20260423T222740
CREATED:20250801T175451Z
LAST-MODIFIED:20250813T185447Z
UID:10010745-1760947200-1761584400@necc.edu
SUMMARY:Prep for Success Online Course
DESCRIPTION:This one-week online course will equip you with the skills and knowledge needed to thrive online. Hosted on NECC’s Blackboard platform\, the course provides hands-on practice with the technologies and strategies used in online courses. Whether you’re new to online learning or need a refresher\, the course instructor and fellow students will support you in building your confidence and comfort with digital tools. By the end\, you’ll be prepared to succeed in any online or blended NECC course. This course is highly recommended for students who are new to online learning.  \nFall Session I: Monday\, August 18 – Sunday\, August 24\, 2025 \nFall Session I: Monday\, August 25 – Sunday\, August 31\, 2025 \nFall Session II: Monday\, October 20 – Sunday\, October 26\, 2025 \nRegister Today! \nPre-registration is required: Prep for Success Online Registration Form \n Print View
URL:https://necc.edu/event/prep-for-success-online-course/2025-10-20/
LOCATION:Online\, United States
CATEGORIES:Student Life,Student Support Resources
END:VEVENT
BEGIN:VEVENT
DTSTART;TZID=America/New_York:20251022T100000
DTEND;TZID=America/New_York:20251022T110000
DTSTAMP:20260423T222740
CREATED:20250923T152342Z
LAST-MODIFIED:20250923T152343Z
UID:10010893-1761127200-1761130800@necc.edu
SUMMARY:CPD: Coffee and Conversation
DESCRIPTION:Take a break and connect with colleagues over coffee (or tea).\nC204: 9/22\, 10/20\, 11/17 –10-11am \nL233: 9/24\, 10/22\, 11/19 –10-11am \n Print View
URL:https://necc.edu/event/cpd-coffee-and-conversation/2025-10-22/
LOCATION:All Campuses\, Lawrence\, MA\, United States
CATEGORIES:Professional Development
GEO:42.709053;-71.169601
END:VEVENT
BEGIN:VEVENT
DTSTART;TZID=America/New_York:20251022T100000
DTEND;TZID=America/New_York:20251022T110000
DTSTAMP:20260423T222740
CREATED:20251001T210308Z
LAST-MODIFIED:20251001T210309Z
UID:10011052-1761127200-1761130800@necc.edu
SUMMARY:Wellness Wednesday: Hallowellness Yoga
DESCRIPTION:Get into the spooky spirit while taking care of your mind and body! Join us for a beginner-friendly yoga session with a Hallowellness twist. Stretch\, breathe\, and relax while embracing the Halloween vibes. Wear your favorite Halloween themed workout gear or costume for a chance to win a Wellness Boo Basket! Mats will be provided—just bring your festive energy. \n \n Print View
URL:https://necc.edu/event/wellness-wednesday-hallowellness-yoga/
LOCATION:Haverhill Campus\, 100 Elliott St\, Haverhill\, MA\, United States
CATEGORIES:Student Activities,Student Life
ORGANIZER;CN="Student Life":MAILTO:studentlife@necc.mass.edu
GEO:42.797649;-71.05113
X-APPLE-STRUCTURED-LOCATION;VALUE=URI;X-ADDRESS=Haverhill Campus 100 Elliott St Haverhill MA United States;X-APPLE-RADIUS=500;X-TITLE=100 Elliott St:geo:-71.05113,42.797649
END:VEVENT
BEGIN:VEVENT
DTSTART;TZID=America/New_York:20251022T104500
DTEND;TZID=America/New_York:20251022T234500
DTSTAMP:20260423T222740
CREATED:20251021T170921Z
LAST-MODIFIED:20251021T170921Z
UID:10011091-1761129900-1761176700@necc.edu
SUMMARY:STEM Jeopardy: Test your knowledge\, win prizes!
DESCRIPTION:Celebrate STEM Week with some friendly competition and brainpower! Join the NECC Librarians for STEM Jeopardy\, a fast-paced\, fun-filled game where you can test your knowledge of science\, technology\, engineering\, and math. Gather your friends\, form a team\, and see if you have what it takes to claim the title of STEM Champion! Snacks\, prizes\, and plenty of laughs guaranteed—come for the trivia\, stay for the fun! The Lawrence Commons is located at El-Hefni\, (LC Building)\, Room 132. \nFor more information about this event\, contact Grace Spaulding or Susan Leonardi.  \n Print View
URL:https://necc.edu/event/stem-jeopardy-test-your-knowledge-win-prizes/
LOCATION:Lawrence Campus\, Lawrence\, MA\, United States
CATEGORIES:Center for Health Professions,Center for STEM,Home Page Events,Library,Student Life,The Commons
ORGANIZER;CN="Susan Leonardi":MAILTO:sleonardi@necc.mass.edu
GEO:42.70734;-71.161052
END:VEVENT
BEGIN:VEVENT
DTSTART;TZID=America/New_York:20251022T120000
DTEND;TZID=America/New_York:20251022T140000
DTSTAMP:20260423T222740
CREATED:20250923T153845Z
LAST-MODIFIED:20250930T162854Z
UID:10010898-1761134400-1761141600@necc.edu
SUMMARY:Curious Campus
DESCRIPTION:Join IE for a hands-on session to brainstorm\, build\, and prioritize the questions we should be asking our students. We’ll co-create survey content that helps us understand and support today’s students more effectively.\nThis is open to faculty and staff! Lunch provided.  \n  \nDetails: 10/22\, 12-2pm | C204\nRegister HERE! \n Print View
URL:https://necc.edu/event/curious-campus/
LOCATION:Haverhill Campus\, 100 Elliott St\, Haverhill\, MA\, United States
CATEGORIES:Professional Development
GEO:42.797649;-71.05113
X-APPLE-STRUCTURED-LOCATION;VALUE=URI;X-ADDRESS=Haverhill Campus 100 Elliott St Haverhill MA United States;X-APPLE-RADIUS=500;X-TITLE=100 Elliott St:geo:-71.05113,42.797649
END:VEVENT
BEGIN:VEVENT
DTSTART;TZID=America/New_York:20251022T130000
DTEND;TZID=America/New_York:20251022T150000
DTSTAMP:20260423T222740
CREATED:20251021T134130Z
LAST-MODIFIED:20251021T134130Z
UID:10011089-1761138000-1761145200@necc.edu
SUMMARY:Sip Happens
DESCRIPTION:Having trouble staying motivated? Sip happens! Get back on track with Student Life and Academic Coaching during this fun and focused group study session. Enjoy mocktails and snacks while learning helpful study tips from our coaches and connecting with other students.  \nJoin us 10/22\, 1 – 3 pm Student Center 2nd Floor Lobby on the Haverhill campus. \n  \n Print View
URL:https://necc.edu/event/sip-happens-2/
LOCATION:Behrakis Student Center\, 100 Elliott Street\, Haverhill\, 01830\, United States
CATEGORIES:Student Life
ORGANIZER;CN="Student Life":MAILTO:studentlife@necc.mass.edu
END:VEVENT
BEGIN:VEVENT
DTSTART;TZID=America/New_York:20251022T160000
DTEND;TZID=America/New_York:20251022T180000
DTSTAMP:20260423T222740
CREATED:20250211T170820Z
LAST-MODIFIED:20260406T151312Z
UID:10009427-1761148800-1761156000@necc.edu
SUMMARY:Enrollment Support Extended Hours
DESCRIPTION:Recruitment counselors available every Wednesday to assist with FAFSA\, guided self-placement and orientation \n Print View
URL:https://necc.edu/event/haverhill-campus-after-hours-enrollment-support/2025-10-22/
LOCATION:Haverhill Campus\, 100 Elliott St\, Haverhill\, MA\, United States
CATEGORIES:Info Sessions and Tours
ORGANIZER;CN="Admissions":MAILTO:enrollmentservices@necc.mass.edu
GEO:42.797649;-71.05113
X-APPLE-STRUCTURED-LOCATION;VALUE=URI;X-ADDRESS=Haverhill Campus 100 Elliott St Haverhill MA United States;X-APPLE-RADIUS=500;X-TITLE=100 Elliott St:geo:-71.05113,42.797649
END:VEVENT
BEGIN:VEVENT
DTSTART;TZID=America/New_York:20251022T180000
DTEND;TZID=America/New_York:20251022T190000
DTSTAMP:20260423T222740
CREATED:20230914T174405Z
LAST-MODIFIED:20260406T151228Z
UID:10010541-1761156000-1761159600@necc.edu
SUMMARY:Info Session: Free Community College
DESCRIPTION:Join us for a MassEducate & MassReconnect Information Session virtually on Zoom!\nLearn how MassEducate and MassReconnect can provide funding for Massachusetts residents to earn a college degree at no cost. Attendees will learn about eligibility requirements\, and will be offered the ability to apply on the spot if desired. \nRegister Now!\n Print View
URL:https://necc.edu/event/massreconnect-information-session-virtual-online/2025-10-22/
LOCATION:Online\, United States
CATEGORIES:Admissions,All Info Sessions,Home Page Events,Info Sessions and Tours,Online Information Session
ORGANIZER;CN="Enrollment Services":MAILTO:enrollmentservices@necc.mass.edu
END:VEVENT
BEGIN:VEVENT
DTSTART;TZID=America/New_York:20251022T190000
DTEND;TZID=America/New_York:20251022T210000
DTSTAMP:20260423T222740
CREATED:20251002T135710Z
LAST-MODIFIED:20251006T191620Z
UID:10011057-1761159600-1761166800@necc.edu
SUMMARY:29th Music Cabaret
DESCRIPTION:Now in its 29th semester\, this beloved tradition brings together the Choral and Music Club with the NECC Music Department for an evening of diverse performances—spanning Broadway\, jazz\, contemporary hits\, and student originals. More than just entertainment\, the Cabaret is also a fundraiser supporting future music program field trips and the Bonnie Surowiec Music Scholarship Fund\, honoring a 2009 NECC graduate. Expect a lively\, welcoming atmosphere where the stage is open to students\, faculty\, and community members alike.  $5 Admission \nWhen: Wednesday\, 10/22 at 7:00 pm  \nWhere: Haverhill campus TC103 \nAdmission: $5  \nSpeak with Professor Bucchiere if you are interested in performing in this concert   \n Print View
URL:https://necc.edu/event/29th-music-cabaret/
LOCATION:Haverhill Campus\, 100 Elliott St\, Haverhill\, MA\, United States
CATEGORIES:Student Life
ORGANIZER;CN="Alisa Bucchiere":MAILTO:abucchiere@necc.mass.edu
GEO:42.797649;-71.05113
X-APPLE-STRUCTURED-LOCATION;VALUE=URI;X-ADDRESS=Haverhill Campus 100 Elliott St Haverhill MA United States;X-APPLE-RADIUS=500;X-TITLE=100 Elliott St:geo:-71.05113,42.797649
END:VEVENT
END:VCALENDAR