BEGIN:VCALENDAR
VERSION:2.0
PRODID:-//Northern Essex CC - ECPv6.15.12//NONSGML v1.0//EN
CALSCALE:GREGORIAN
METHOD:PUBLISH
X-WR-CALNAME:Northern Essex CC
X-ORIGINAL-URL:https://necc.edu
X-WR-CALDESC:Events for Northern Essex CC
REFRESH-INTERVAL;VALUE=DURATION:PT1H
X-Robots-Tag:noindex
X-PUBLISHED-TTL:PT1H
BEGIN:VTIMEZONE
TZID:America/New_York
BEGIN:DAYLIGHT
TZOFFSETFROM:-0500
TZOFFSETTO:-0400
TZNAME:EDT
DTSTART:20240310T070000
END:DAYLIGHT
BEGIN:STANDARD
TZOFFSETFROM:-0400
TZOFFSETTO:-0500
TZNAME:EST
DTSTART:20241103T060000
END:STANDARD
BEGIN:DAYLIGHT
TZOFFSETFROM:-0500
TZOFFSETTO:-0400
TZNAME:EDT
DTSTART:20250309T070000
END:DAYLIGHT
BEGIN:STANDARD
TZOFFSETFROM:-0400
TZOFFSETTO:-0500
TZNAME:EST
DTSTART:20251102T060000
END:STANDARD
BEGIN:DAYLIGHT
TZOFFSETFROM:-0500
TZOFFSETTO:-0400
TZNAME:EDT
DTSTART:20260308T070000
END:DAYLIGHT
BEGIN:STANDARD
TZOFFSETFROM:-0400
TZOFFSETTO:-0500
TZNAME:EST
DTSTART:20261101T060000
END:STANDARD
END:VTIMEZONE
BEGIN:VEVENT
DTSTART;TZID=America/New_York:20250904T080000
DTEND;TZID=America/New_York:20251105T170000
DTSTAMP:20260423T222742
CREATED:20250904T191812Z
LAST-MODIFIED:20250904T192249Z
UID:10010848-1756972800-1762362000@necc.edu
SUMMARY:Share Your Thoughts: Lawrence Campus Perception Survey
DESCRIPTION:Join Us in Shaping Lawrence’s Future! \nWe want to hear from YOU! We’re exploring ways to enhance campus vibrancy and strengthen connections between NECC and the Lawrence community.  \nPlease take our quick 5-minute survey here: https://forms.office.com/r/wzJscM5wXn The deadline to complete the survey is November 5\, 2025.  \nEvery perspective – from longtime residents to new students\, from faculty to community leaders – adds valuable insight to this important conversation about our shared future. \nYour insights will directly shape exciting new initiatives including: \n\nDynamic community events and programming that bring us all together\nEnhanced spaces that welcome students\, families\, and neighbors alike\nMeaningful partnerships between NECC and local organizations\nCreative ways to make our campus a cornerstone of Lawrence life \n\nQuestions? We’d love to connect! Maria Aybar\, Program Manager\, Lawrence Campus and Community Relations Maybar@necc.mass.edu (978) 738-7420 \n Print View
URL:https://necc.edu/event/share-your-thoughts-lawrence-campus-perception-survey/
LOCATION:MA
CATEGORIES:Community
END:VEVENT
BEGIN:VEVENT
DTSTART;TZID=America/New_York:20251008T120000
DTEND;TZID=America/New_York:20251210T120000
DTSTAMP:20260423T222742
CREATED:20250904T192627Z
LAST-MODIFIED:20250904T192637Z
UID:10010849-1759924800-1765368000@necc.edu
SUMMARY:Coffee Chat with the Lawrence Campus and Community Relations (LCCR) Team
DESCRIPTION:This conversational series aims to create collaborative opportunities to raise educational attainment in the City of Lawrence.\nJoin us for an engaging discussion every second Wednesday of the month\, starting Wednesday\, October 8\, 2025\, at 12:00 PM. Lawrence Campus\, Dimitry Building\, Room L244. \nBring your lunch and we’ll provide coffee and other drinks. \n  \n Print View
URL:https://necc.edu/event/coffee-chat-with-the-lawrence-campus-and-community-relations-lccr-team/
LOCATION:MA
CATEGORIES:Community
END:VEVENT
BEGIN:VEVENT
DTSTART;VALUE=DATE:20251020
DTEND;VALUE=DATE:20251108
DTSTAMP:20260423T222742
CREATED:20241108T020605Z
LAST-MODIFIED:20251107T232125Z
UID:10008860-1760918400-1762559999@necc.edu
SUMMARY:Book voucher period for Fall Session II classes
DESCRIPTION:Print View
URL:https://necc.edu/event/book-voucher-period-for-fall-session-ii-classes/
LOCATION:MA
CATEGORIES:Academic Calendar
END:VEVENT
BEGIN:VEVENT
DTSTART;TZID=America/New_York:20251023T080000
DTEND;TZID=America/New_York:20251114T233000
DTSTAMP:20260423T222742
CREATED:20251023T160716Z
LAST-MODIFIED:20251027T164638Z
UID:10011148-1761206400-1763163000@necc.edu
SUMMARY:Call for Nominations: Student Representative on the Student Affairs Committee
DESCRIPTION:Are you passionate about improving student life at NECC? \nDo you want to represent student perspective in key discussions about campus policies\, programs\, and student experience? \nThe Student Affairs Committee is now accepting nominations for a student representative. \nNomination deadline is Friday November 14\, 2025. \nIf interested\, click here to fill out the nomination form. \nIf you have any questions\, please reach out to Professor Gunning-Chair Student Affairs Committee at mgunning@necc.mass.edu \n  \n Print View
URL:https://necc.edu/event/call-for-nominations-student-representative-on-the-student-affairs-committee/
LOCATION:MA
CATEGORIES:All College Assembly (ACA),Student Life
END:VEVENT
BEGIN:VEVENT
DTSTART;TZID=America/New_York:20251024T080000
DTEND;TZID=America/New_York:20251114T233000
DTSTAMP:20260423T222742
CREATED:20251024T125238Z
LAST-MODIFIED:20251024T130034Z
UID:10011150-1761292800-1763163000@necc.edu
SUMMARY:Knight's Quest Award
DESCRIPTION:The Student Affairs Committee is pleased to announce the Knight’s Quest Award. This award is given to a worthy student who has been nominated by a faculty or staff member based on contributions in the area of academics\, athletics\, perseverance\, or community service. If you know a student who has overcome extraordinary adversity to persist at NECC or have caught a student who consistently endeavors to exemplify the ideals of NECC\, a Knight being a Knight\, so to speak\, then we want to hear about it and want you to nominate that student. Use the attached form to submit the name of your nominee. It will only take a minute of your time. \nNominations are due by Friday\, November 14. \nClick here to fill out the nomination form \n Print View
URL:https://necc.edu/event/knights-quest-award/
LOCATION:MA
CATEGORIES:All College Assembly (ACA)
END:VEVENT
BEGIN:VEVENT
DTSTART;VALUE=DATE:20251029
DTEND;VALUE=DATE:20251030
DTSTAMP:20260423T222742
CREATED:20241108T020607Z
LAST-MODIFIED:20251010T043512Z
UID:10008866-1761696000-1761782399@necc.edu
SUMMARY:Fall Session II classes begin
DESCRIPTION:Print View
URL:https://necc.edu/event/fall-session-ii-classes-begin-2/
LOCATION:MA
CATEGORIES:Academic Calendar,Registration
ATTACH;FMTTYPE=image/jpeg:https://necc.edu/wp-content/uploads/home/Fall_2024_hero-scaled.jpg
END:VEVENT
BEGIN:VEVENT
DTSTART;VALUE=DATE:20251029
DTEND;VALUE=DATE:20251104
DTSTAMP:20260423T222742
CREATED:20241108T020607Z
LAST-MODIFIED:20251010T043513Z
UID:10008865-1761696000-1762214399@necc.edu
SUMMARY:Add/drop period for Fall Session II classes
DESCRIPTION:Print View
URL:https://necc.edu/event/add-drop-period-for-fall-session-ii-classes/
LOCATION:MA
CATEGORIES:Academic Calendar
END:VEVENT
BEGIN:VEVENT
DTSTART;TZID=America/New_York:20251029T083000
DTEND;TZID=America/New_York:20251029T113000
DTSTAMP:20260423T222742
CREATED:20251008T171608Z
LAST-MODIFIED:20251008T171609Z
UID:10011076-1761726600-1761737400@necc.edu
SUMMARY:Empowerment & Survival Workshop
DESCRIPTION:Hosted in collaboration with YWCA and Uncommon Threads\, this empowering morning is designed to support women through workshops on empowerment\, domestic violence awareness\, and self-defense. Enjoy a light breakfast\, connect with other participants\, and gain practical skills presented by our very own NECC Campus Officer Elizabeth Raymond to enhance your safety\, confidence\, and well-being.\n  \nWorkshop Highlights: \n\nEmpowerment Workshop – Build confidence and personal strength\nDomestic Violence Awareness – Learn about resources and strategies for safety\nSelf-Defense Workshop – Practical skills for personal safety\n\nSpace is limited to 60 participants. Don’t miss this opportunity to connect\, learn\, and grow! \nRegister Here! \nContact info: \nGiselle Peguero \nAssociate Director of Lawrence Campus & Community Relations \nNorthern Essex Community College  \n45 Franklin Street\, Lawrence\, MA 01840 office L121 \n978-738-7423 (call/text/fax) \nGpeguerogrullon@necc.mass.edu  \n Print View
URL:https://necc.edu/event/empowerment-survival-workshop/
LOCATION:Lawrence Campus\, Lawrence\, MA\, United States
CATEGORIES:Student Life
GEO:42.70734;-71.161052
END:VEVENT
BEGIN:VEVENT
DTSTART;TZID=America/New_York:20251029T100000
DTEND;TZID=America/New_York:20251029T140000
DTSTAMP:20260423T222742
CREATED:20251020T164711Z
LAST-MODIFIED:20251028T140648Z
UID:10011087-1761732000-1761746400@necc.edu
SUMMARY:NECC's Fall 2025 Transfer Fairs
DESCRIPTION:It is Never too Soon to Think About Transfer – Graduate First\, Then Transfer\nMeet with admissions representatives from multiple four-year public and private institutions\, which will provide information on program offerings\, transfer requirements\, financial aid\, scholarships and more. Transfer Fairs are free for NECC Students and alumni! \nHaverhill Transfer Fair:  Wednesday\, October 29th ~ 10:00am – 2:00pm ~ Spurk Building “C” 1st and 2nd floor Lobby\nLawrence Transfer Fair: Tuesday\, November 4th  ~ 4:00pm – 7:00pm ~ El-Hefni Building “LC” 1st and 2nd floor Lobby\nWhy You Should Attend a Transfer Fair\n\nPlan early\, take appropriate courses you will need to transfer on once you graduate\nWe bring 4-year Institutions to you\, so that you can plan and connect with a person from your desired Transfer College/University\nLearn about Transfer Scholarships\, get an overview of Financial Assistance\nVisit with our Partners on Campus offering Bachelor’s Degrees\n\nConfirmed list of 4-year Institutions attending Fall 2025 Transfer Fairs \n NOTE: not all are attending both Fairs\, for those that are only attending Haverhill fair an “H” and those only attending Lawrence Fair an “L” will be next to their name \nAnna Maria College * Bentley University –H  * Bridgewater State University –H * Bryant University- H * Columbia University\, School of General Studies – H * Emerson – H  *   Fisher College * Fitchburg State University * Framingham State University * Gordon College * Keene State College –H * Lesley University * Merrimack College * Mass. College of Pharmacy & Health Sciences * Montserrat College of Art – L * New England College * Plymouth State University *Quincy College * St. Anselm College *  Sacred Heart University – L * Salem State University * Simmons College- –L * Southern New Hampshire University * University of Maine\, Fort Kent * Suffolk University * UMass Amherst * UMass Boston *  UMass Dartmouth * UMass Dartmouth – Online * UMass Lowell *  UMass Lowell – Online & Professional Studies  *  University of New Hampshire  *  Wentworth Institute of Technology –H  *  Wheaton College * Worcester State University  \n  \n  \n Print View
URL:https://necc.edu/event/neccs-fall-2025-transfer-fairs/
LOCATION:Haverhill Campus\, 100 Elliott St\, Haverhill\, MA\, United States
CATEGORIES:Transfer Events
ORGANIZER;CN="Deb LaValley":MAILTO:dlavalley@necc.mass.edu
GEO:42.797649;-71.05113
X-APPLE-STRUCTURED-LOCATION;VALUE=URI;X-ADDRESS=Haverhill Campus 100 Elliott St Haverhill MA United States;X-APPLE-RADIUS=500;X-TITLE=100 Elliott St:geo:-71.05113,42.797649
END:VEVENT
BEGIN:VEVENT
DTSTART;TZID=America/New_York:20251029T120000
DTEND;TZID=America/New_York:20251029T130000
DTSTAMP:20260423T222742
CREATED:20250930T162137Z
LAST-MODIFIED:20250930T162137Z
UID:10011048-1761739200-1761742800@necc.edu
SUMMARY:Lunch & Learn: Understanding the Care and Concern Outreach Team (CCOT)
DESCRIPTION:Join us for a brief\, informative session on how CCOT supports student well-being and campus safety. Learn about the reporting process\, available resources\, and how the team follows up. We’ll also clear up common misconceptions and highlight how reporting is a supportive\, stigma-free way to make a difference. Bring your lunch and your questions—everyone is welcome! \nDetails:  \n10/21\, 12-1pm – C204\n10/29\, 12-1pm – L244 \n Print View
URL:https://necc.edu/event/lunch-learn-understanding-the-care-and-concern-outreach-team-ccot/
LOCATION:All Campuses\, Lawrence\, MA\, United States
CATEGORIES:Professional Development
GEO:42.709053;-71.169601
END:VEVENT
BEGIN:VEVENT
DTSTART;TZID=America/New_York:20251029T120000
DTEND;TZID=America/New_York:20251029T130000
DTSTAMP:20260423T222743
CREATED:20250930T162429Z
LAST-MODIFIED:20250930T162446Z
UID:10011047-1761739200-1761742800@necc.edu
SUMMARY:Lunch & Learn: Understanding the Care and Concern Outreach Team (CCOT)
DESCRIPTION:Join us for a brief\, informative session on how CCOT supports student well-being and campus safety. Learn about the reporting process\, available resources\, and how the team follows up. We’ll also clear up common misconceptions and highlight how reporting is a supportive\, stigma-free way to make a difference. Bring your lunch and your questions—everyone is welcome! \nDetails:  \n10/21\, 12-1pm – C204\n10/29\, 12-1pm – L244 \nRegister HERE! \n Print View
URL:https://necc.edu/event/lunch-learn-understanding-the-care-and-concern-outreach-team-ccot-3/
LOCATION:All Campuses\, Lawrence\, MA\, United States
CATEGORIES:Professional Development
GEO:42.709053;-71.169601
END:VEVENT
BEGIN:VEVENT
DTSTART;TZID=America/New_York:20251029T120000
DTEND;TZID=America/New_York:20251029T130000
DTSTAMP:20260423T222743
CREATED:20251008T132144Z
LAST-MODIFIED:20251008T132145Z
UID:10011075-1761739200-1761742800@necc.edu
SUMMARY:Information Session: Public Health & Community Health Worker - Online - Online
DESCRIPTION:Attend a Public Health & Community Health Worker Information Session and Learn More About the Programs and NECC!\nJoin the Info Session Online\nThe meeting will take place online with Zoom: \nhttps://zoom.us/j/5500949554 \nZoom Meeting ID\n550 094 9554 \nOne-Tap mobile\n+13092053325\,\,5500949554# US \n+13126266799\,\,5500949554# US (Chicago) \nMore Information\nFor more information please contact Amanda Prophett\, Program Coordinator at 978-655-5875 or email aprophett@necc.mass.edu. \n Print View
URL:https://necc.edu/event/information-session-public-health-community-health-worker-online-online-2/
LOCATION:Online\, United States
CATEGORIES:Community Health Worker,Health Info Sessions,Home Page Events,Public Health Info Session
ORGANIZER;CN="Jeanette Liberato":MAILTO:jliberato@necc.mass.edu
END:VEVENT
BEGIN:VEVENT
DTSTART;TZID=America/New_York:20251029T150000
DTEND;TZID=America/New_York:20251029T163000
DTSTAMP:20260423T222743
CREATED:20250731T172717Z
LAST-MODIFIED:20251105T165307Z
UID:10010535-1761750000-1761755400@necc.edu
SUMMARY:Campus Tour and Info Session
DESCRIPTION:Campus Tour and Information Session\nVisit us on the Haverhill Campus for an information session and a tour led by one of our admission counselors. We can’t wait to meet you in person and show you all that NECC has to offer.  \nLocation: \nStudent Center Room 104 \n100 Elliott St. Haverhill\, MA 01830 \nRegister Now!  \n Print View
URL:https://necc.edu/event/haverhill-campus-tour-and-information-session-3-2/2025-10-29/
LOCATION:Haverhill Campus\, 100 Elliott St\, Haverhill\, MA\, United States
CATEGORIES:All Info Sessions,Info Sessions & Tours - Haverhill,Info Sessions and Tours
ORGANIZER;CN="Admissions":MAILTO:enrollmentservices@necc.mass.edu
GEO:42.797649;-71.05113
X-APPLE-STRUCTURED-LOCATION;VALUE=URI;X-ADDRESS=Haverhill Campus 100 Elliott St Haverhill MA United States;X-APPLE-RADIUS=500;X-TITLE=100 Elliott St:geo:-71.05113,42.797649
END:VEVENT
BEGIN:VEVENT
DTSTART;TZID=America/New_York:20251029T150000
DTEND;TZID=America/New_York:20251029T170000
DTSTAMP:20260423T222743
CREATED:20251001T212014Z
LAST-MODIFIED:20251001T212015Z
UID:10011054-1761750000-1761757200@necc.edu
SUMMARY:Wellness Wednesday: BOO-ard Game Night
DESCRIPTION:Get ready for a spook-tacular evening of games\, laughs\, and treats! Join us for Boo-ard Game Night\, a Halloween-themed board game event where students can play classic and new games in a festive atmosphere. Come in costume\, challenge friends\, and enjoy seasonal snacks and drinks as you battle\, strategize\, and have a frightfully good time! \n \n Print View
URL:https://necc.edu/event/wellness-wednesday-boo-ard-game-night/
LOCATION:Lawrence Campus\, Lawrence\, MA\, United States
CATEGORIES:Student Life
ORGANIZER;CN="Student Life":MAILTO:studentlife@necc.mass.edu
GEO:42.70734;-71.161052
END:VEVENT
BEGIN:VEVENT
DTSTART;TZID=America/New_York:20251029T160000
DTEND;TZID=America/New_York:20251029T180000
DTSTAMP:20260423T222743
CREATED:20250211T170820Z
LAST-MODIFIED:20260406T151312Z
UID:10009428-1761753600-1761760800@necc.edu
SUMMARY:Enrollment Support Extended Hours
DESCRIPTION:Recruitment counselors available every Wednesday to assist with FAFSA\, guided self-placement and orientation \n Print View
URL:https://necc.edu/event/haverhill-campus-after-hours-enrollment-support/2025-10-29/
LOCATION:Haverhill Campus\, 100 Elliott St\, Haverhill\, MA\, United States
CATEGORIES:Info Sessions and Tours
ORGANIZER;CN="Admissions":MAILTO:enrollmentservices@necc.mass.edu
GEO:42.797649;-71.05113
X-APPLE-STRUCTURED-LOCATION;VALUE=URI;X-ADDRESS=Haverhill Campus 100 Elliott St Haverhill MA United States;X-APPLE-RADIUS=500;X-TITLE=100 Elliott St:geo:-71.05113,42.797649
END:VEVENT
END:VCALENDAR