BEGIN:VCALENDAR
VERSION:2.0
PRODID:-//Northern Essex CC - ECPv6.15.12//NONSGML v1.0//EN
CALSCALE:GREGORIAN
METHOD:PUBLISH
X-WR-CALNAME:Northern Essex CC
X-ORIGINAL-URL:https://necc.edu
X-WR-CALDESC:Events for Northern Essex CC
REFRESH-INTERVAL;VALUE=DURATION:PT1H
X-Robots-Tag:noindex
X-PUBLISHED-TTL:PT1H
BEGIN:VTIMEZONE
TZID:America/New_York
BEGIN:DAYLIGHT
TZOFFSETFROM:-0500
TZOFFSETTO:-0400
TZNAME:EDT
DTSTART:20240310T070000
END:DAYLIGHT
BEGIN:STANDARD
TZOFFSETFROM:-0400
TZOFFSETTO:-0500
TZNAME:EST
DTSTART:20241103T060000
END:STANDARD
BEGIN:DAYLIGHT
TZOFFSETFROM:-0500
TZOFFSETTO:-0400
TZNAME:EDT
DTSTART:20250309T070000
END:DAYLIGHT
BEGIN:STANDARD
TZOFFSETFROM:-0400
TZOFFSETTO:-0500
TZNAME:EST
DTSTART:20251102T060000
END:STANDARD
BEGIN:DAYLIGHT
TZOFFSETFROM:-0500
TZOFFSETTO:-0400
TZNAME:EDT
DTSTART:20260308T070000
END:DAYLIGHT
BEGIN:STANDARD
TZOFFSETFROM:-0400
TZOFFSETTO:-0500
TZNAME:EST
DTSTART:20261101T060000
END:STANDARD
END:VTIMEZONE
BEGIN:VEVENT
DTSTART;TZID=America/New_York:20251008T120000
DTEND;TZID=America/New_York:20251210T120000
DTSTAMP:20260424T001159
CREATED:20250904T192627Z
LAST-MODIFIED:20250904T192637Z
UID:10010849-1759924800-1765368000@necc.edu
SUMMARY:Coffee Chat with the Lawrence Campus and Community Relations (LCCR) Team
DESCRIPTION:This conversational series aims to create collaborative opportunities to raise educational attainment in the City of Lawrence.\nJoin us for an engaging discussion every second Wednesday of the month\, starting Wednesday\, October 8\, 2025\, at 12:00 PM. Lawrence Campus\, Dimitry Building\, Room L244. \nBring your lunch and we’ll provide coffee and other drinks. \n  \n Print View
URL:https://necc.edu/event/coffee-chat-with-the-lawrence-campus-and-community-relations-lccr-team/
LOCATION:MA
CATEGORIES:Community
END:VEVENT
BEGIN:VEVENT
DTSTART;VALUE=DATE:20251020
DTEND;VALUE=DATE:20251108
DTSTAMP:20260424T001159
CREATED:20241108T020605Z
LAST-MODIFIED:20251107T232125Z
UID:10008860-1760918400-1762559999@necc.edu
SUMMARY:Book voucher period for Fall Session II classes
DESCRIPTION:Print View
URL:https://necc.edu/event/book-voucher-period-for-fall-session-ii-classes/
LOCATION:MA
CATEGORIES:Academic Calendar
END:VEVENT
BEGIN:VEVENT
DTSTART;TZID=America/New_York:20251023T080000
DTEND;TZID=America/New_York:20251114T233000
DTSTAMP:20260424T001159
CREATED:20251023T160716Z
LAST-MODIFIED:20251027T164638Z
UID:10011148-1761206400-1763163000@necc.edu
SUMMARY:Call for Nominations: Student Representative on the Student Affairs Committee
DESCRIPTION:Are you passionate about improving student life at NECC? \nDo you want to represent student perspective in key discussions about campus policies\, programs\, and student experience? \nThe Student Affairs Committee is now accepting nominations for a student representative. \nNomination deadline is Friday November 14\, 2025. \nIf interested\, click here to fill out the nomination form. \nIf you have any questions\, please reach out to Professor Gunning-Chair Student Affairs Committee at mgunning@necc.mass.edu \n  \n Print View
URL:https://necc.edu/event/call-for-nominations-student-representative-on-the-student-affairs-committee/
LOCATION:MA
CATEGORIES:All College Assembly (ACA),Student Life
END:VEVENT
BEGIN:VEVENT
DTSTART;TZID=America/New_York:20251024T080000
DTEND;TZID=America/New_York:20251114T233000
DTSTAMP:20260424T001159
CREATED:20251024T125238Z
LAST-MODIFIED:20251024T130034Z
UID:10011150-1761292800-1763163000@necc.edu
SUMMARY:Knight's Quest Award
DESCRIPTION:The Student Affairs Committee is pleased to announce the Knight’s Quest Award. This award is given to a worthy student who has been nominated by a faculty or staff member based on contributions in the area of academics\, athletics\, perseverance\, or community service. If you know a student who has overcome extraordinary adversity to persist at NECC or have caught a student who consistently endeavors to exemplify the ideals of NECC\, a Knight being a Knight\, so to speak\, then we want to hear about it and want you to nominate that student. Use the attached form to submit the name of your nominee. It will only take a minute of your time. \nNominations are due by Friday\, November 14. \nClick here to fill out the nomination form \n Print View
URL:https://necc.edu/event/knights-quest-award/
LOCATION:MA
CATEGORIES:All College Assembly (ACA)
END:VEVENT
BEGIN:VEVENT
DTSTART;TZID=America/New_York:20251107T133000
DTEND;TZID=America/New_York:20251107T150000
DTSTAMP:20260424T001159
CREATED:20250827T140918Z
LAST-MODIFIED:20250827T141526Z
UID:10010802-1762522200-1762527600@necc.edu
SUMMARY:Poppin' Chats with Student Life - Haverhill
DESCRIPTION:Take a break\, grab some popcorn\, and connect with Student Life! Poppin’ Chats is a relaxed\, drop-in space where you can meet our team and other campus departments\, ask questions\, and learn about resources\, events\, and ways to get involved at NECC—all while enjoying some free\, freshly popped popcorn. \nStop by\, say hello\, and leave with both snacks and new connections! \n \n Print View
URL:https://necc.edu/event/poppin-chats-with-student-life-haverhill/2025-11-07/
LOCATION:Haverhill Campus\, 100 Elliott St\, Haverhill\, MA\, United States
CATEGORIES:Student Activities,Student Life
GEO:42.797649;-71.05113
X-APPLE-STRUCTURED-LOCATION;VALUE=URI;X-ADDRESS=Haverhill Campus 100 Elliott St Haverhill MA United States;X-APPLE-RADIUS=500;X-TITLE=100 Elliott St:geo:-71.05113,42.797649
END:VEVENT
END:VCALENDAR