BEGIN:VCALENDAR
VERSION:2.0
PRODID:-//Northern Essex CC - ECPv6.15.12//NONSGML v1.0//EN
CALSCALE:GREGORIAN
METHOD:PUBLISH
X-ORIGINAL-URL:https://necc.edu
X-WR-CALDESC:Events for Northern Essex CC
REFRESH-INTERVAL;VALUE=DURATION:PT1H
X-Robots-Tag:noindex
X-PUBLISHED-TTL:PT1H
BEGIN:VTIMEZONE
TZID:America/New_York
BEGIN:DAYLIGHT
TZOFFSETFROM:-0500
TZOFFSETTO:-0400
TZNAME:EDT
DTSTART:20240310T070000
END:DAYLIGHT
BEGIN:STANDARD
TZOFFSETFROM:-0400
TZOFFSETTO:-0500
TZNAME:EST
DTSTART:20241103T060000
END:STANDARD
BEGIN:DAYLIGHT
TZOFFSETFROM:-0500
TZOFFSETTO:-0400
TZNAME:EDT
DTSTART:20250309T070000
END:DAYLIGHT
BEGIN:STANDARD
TZOFFSETFROM:-0400
TZOFFSETTO:-0500
TZNAME:EST
DTSTART:20251102T060000
END:STANDARD
BEGIN:DAYLIGHT
TZOFFSETFROM:-0500
TZOFFSETTO:-0400
TZNAME:EDT
DTSTART:20260308T070000
END:DAYLIGHT
BEGIN:STANDARD
TZOFFSETFROM:-0400
TZOFFSETTO:-0500
TZNAME:EST
DTSTART:20261101T060000
END:STANDARD
END:VTIMEZONE
BEGIN:VEVENT
DTSTART;TZID=America/New_York:20251008T120000
DTEND;TZID=America/New_York:20251210T120000
DTSTAMP:20260424T000735
CREATED:20250904T192627Z
LAST-MODIFIED:20250904T192637Z
UID:10010849-1759924800-1765368000@necc.edu
SUMMARY:Coffee Chat with the Lawrence Campus and Community Relations (LCCR) Team
DESCRIPTION:This conversational series aims to create collaborative opportunities to raise educational attainment in the City of Lawrence.\nJoin us for an engaging discussion every second Wednesday of the month\, starting Wednesday\, October 8\, 2025\, at 12:00 PM. Lawrence Campus\, Dimitry Building\, Room L244. \nBring your lunch and we’ll provide coffee and other drinks. \n  \n Print View
URL:https://necc.edu/event/coffee-chat-with-the-lawrence-campus-and-community-relations-lccr-team/
LOCATION:MA
CATEGORIES:Community
END:VEVENT
BEGIN:VEVENT
DTSTART;TZID=America/New_York:20251023T080000
DTEND;TZID=America/New_York:20251114T233000
DTSTAMP:20260424T000735
CREATED:20251023T160716Z
LAST-MODIFIED:20251027T164638Z
UID:10011148-1761206400-1763163000@necc.edu
SUMMARY:Call for Nominations: Student Representative on the Student Affairs Committee
DESCRIPTION:Are you passionate about improving student life at NECC? \nDo you want to represent student perspective in key discussions about campus policies\, programs\, and student experience? \nThe Student Affairs Committee is now accepting nominations for a student representative. \nNomination deadline is Friday November 14\, 2025. \nIf interested\, click here to fill out the nomination form. \nIf you have any questions\, please reach out to Professor Gunning-Chair Student Affairs Committee at mgunning@necc.mass.edu \n  \n Print View
URL:https://necc.edu/event/call-for-nominations-student-representative-on-the-student-affairs-committee/
LOCATION:MA
CATEGORIES:All College Assembly (ACA),Student Life
END:VEVENT
BEGIN:VEVENT
DTSTART;TZID=America/New_York:20251024T080000
DTEND;TZID=America/New_York:20251114T233000
DTSTAMP:20260424T000735
CREATED:20251024T125238Z
LAST-MODIFIED:20251024T130034Z
UID:10011150-1761292800-1763163000@necc.edu
SUMMARY:Knight's Quest Award
DESCRIPTION:The Student Affairs Committee is pleased to announce the Knight’s Quest Award. This award is given to a worthy student who has been nominated by a faculty or staff member based on contributions in the area of academics\, athletics\, perseverance\, or community service. If you know a student who has overcome extraordinary adversity to persist at NECC or have caught a student who consistently endeavors to exemplify the ideals of NECC\, a Knight being a Knight\, so to speak\, then we want to hear about it and want you to nominate that student. Use the attached form to submit the name of your nominee. It will only take a minute of your time. \nNominations are due by Friday\, November 14. \nClick here to fill out the nomination form \n Print View
URL:https://necc.edu/event/knights-quest-award/
LOCATION:MA
CATEGORIES:All College Assembly (ACA)
END:VEVENT
BEGIN:VEVENT
DTSTART;VALUE=DATE:20251111
DTEND;VALUE=DATE:20251120
DTSTAMP:20260424T000735
CREATED:20251110T190121Z
LAST-MODIFIED:20251110T190121Z
UID:10011250-1762819200-1763596799@necc.edu
SUMMARY:Give Thanks\, Give Back: Thanksgiving Food Drive
DESCRIPTION:Join the Northern Essex Community College community in spreading holiday cheer! Our Student Government Association (SGA) is teaming up with faculty and staff to collect and assemble Thanksgiving Bags filled with essential\, shelf-stable goodies for students in need. Food collection boxes will be available at Haverhill Commons (C201) and at the Lawrence Student Life Office (L144). Please\, no fresh or frozen groceries or gift cards. Every donation helps ensure no student or family goes without a warm meal this season. \nCampus departments\, clubs\, and organizations can sign up to sponsor a Thanksgiving meal donation to the Lawrence Campus Food Pantry. Please make all your donations by Wednesday\, November 19th.  If you have any questions\, contact Trish Schade at pschade@necc.mass.edu\, Susan Leonardi at sleonardi@necc.mass.edu\, or Jason Arey at jarey@necc.mass.edu.  \n  \n Print View
URL:https://necc.edu/event/give-thanks-give-back-thanksgiving-food-drive/
LOCATION:MA
CATEGORIES:Home Page Events,Liberal Arts Center,Library,Student Life
END:VEVENT
BEGIN:VEVENT
DTSTART;TZID=America/New_York:20251112T100000
DTEND;TZID=America/New_York:20251112T130000
DTSTAMP:20260424T000735
CREATED:20251107T170251Z
LAST-MODIFIED:20251107T170415Z
UID:10011212-1762941600-1762952400@necc.edu
SUMMARY:Salem State Univ. On-Campus Transfer Visits
DESCRIPTION:Come Learn about the Transfer Connection Partnership between SSU and NECC!\nThe transfer connections coach\, Salem State Alumna Sharon German works one-on-one with students to help them identify the most efficient pathways.\nHaverhill Campus visits will be held in the Spurk Building – “C” Lobby\nTIME: 10:00am –1:00pm \nDATES:  November 12th and December 4th \nFor more information\, please contact Sharon German sgerman@salemstate.edu \n Print View
URL:https://necc.edu/event/salem-state-univ-on-campus-transfer-visits/2025-11-12/
LOCATION:Haverhill Campus\, 100 Elliott St\, Haverhill\, MA\, United States
CATEGORIES:Home Page Events
ORGANIZER;CN="Deb LaValley":MAILTO:dlavalley@necc.mass.edu
GEO:42.797649;-71.05113
X-APPLE-STRUCTURED-LOCATION;VALUE=URI;X-ADDRESS=Haverhill Campus 100 Elliott St Haverhill MA United States;X-APPLE-RADIUS=500;X-TITLE=100 Elliott St:geo:-71.05113,42.797649
END:VEVENT
BEGIN:VEVENT
DTSTART;TZID=America/New_York:20251112T110000
DTEND;TZID=America/New_York:20251112T123000
DTSTAMP:20260424T000735
CREATED:20251107T162856Z
LAST-MODIFIED:20251107T162856Z
UID:10011211-1762945200-1762950600@necc.edu
SUMMARY:Q&A with National Tour (SIX) & Broadway Production Stage Manager Jim Carey
DESCRIPTION:Please join the NECC Acting Scene Study class for an empowering Q&A with National Tour (SIX) and Broadway Production Stage Manager\, Jay Carey\nCome prepared to ask questions and discover the limitless possibilities of a professional theater career. Join us in room C-201! \n* This event is free and open to all faculty\, students\, and staff of NECC.  \nQuestions? Contact Professor Brianne Beatrice at bbeatrice@necc.mass.edu. \n Print View
URL:https://necc.edu/event/qa-with-national-tour-six-broadway-production-stage-manager-jim-carey/
LOCATION:Haverhill Campus\, 100 Elliott St\, Haverhill\, MA\, United States
CATEGORIES:Student Life,The Commons
GEO:42.797649;-71.05113
X-APPLE-STRUCTURED-LOCATION;VALUE=URI;X-ADDRESS=Haverhill Campus 100 Elliott St Haverhill MA United States;X-APPLE-RADIUS=500;X-TITLE=100 Elliott St:geo:-71.05113,42.797649
END:VEVENT
BEGIN:VEVENT
DTSTART;TZID=America/New_York:20251112T110000
DTEND;TZID=America/New_York:20251112T130000
DTSTAMP:20260424T000735
CREATED:20251112T164836Z
LAST-MODIFIED:20251112T165505Z
UID:10011255-1762945200-1762952400@necc.edu
SUMMARY:Regis College On-Campus Transfer Event
DESCRIPTION:Building Character\, Confidence\, and Careers for Nearly 100 Years!\nCome speak to a Transfer Counselor on the exceptional undergraduate degree programs. Be part of the diverse and dynamic student body via on-campus\, hybrid\, and online modalities. \nExplore All That Regis Has to Offer!\nNovember 12 – Spurk Building Lobby  “C” Haverhill 11:00 – 1:00pm \nNursing – Health Sciences  –  Professional Studies  –  Business and Communication  –  Art and Sciences\n  \n Print View
URL:https://necc.edu/event/regis-college-on-campus-transfer-event/
LOCATION:Haverhill Campus\, 100 Elliott St\, Haverhill\, MA\, United States
CATEGORIES:Home Page Events
ORGANIZER;CN="Deb LaValley":MAILTO:dlavalley@necc.mass.edu
GEO:42.797649;-71.05113
X-APPLE-STRUCTURED-LOCATION;VALUE=URI;X-ADDRESS=Haverhill Campus 100 Elliott St Haverhill MA United States;X-APPLE-RADIUS=500;X-TITLE=100 Elliott St:geo:-71.05113,42.797649
END:VEVENT
BEGIN:VEVENT
DTSTART;TZID=America/New_York:20251112T160000
DTEND;TZID=America/New_York:20251112T180000
DTSTAMP:20260424T000735
CREATED:20250211T170820Z
LAST-MODIFIED:20260406T151312Z
UID:10009430-1762963200-1762970400@necc.edu
SUMMARY:Enrollment Support Extended Hours
DESCRIPTION:Recruitment counselors available every Wednesday to assist with FAFSA\, guided self-placement and orientation \n Print View
URL:https://necc.edu/event/haverhill-campus-after-hours-enrollment-support/2025-11-12/
LOCATION:Haverhill Campus\, 100 Elliott St\, Haverhill\, MA\, United States
CATEGORIES:Info Sessions and Tours
ORGANIZER;CN="Admissions":MAILTO:enrollmentservices@necc.mass.edu
GEO:42.797649;-71.05113
X-APPLE-STRUCTURED-LOCATION;VALUE=URI;X-ADDRESS=Haverhill Campus 100 Elliott St Haverhill MA United States;X-APPLE-RADIUS=500;X-TITLE=100 Elliott St:geo:-71.05113,42.797649
END:VEVENT
BEGIN:VEVENT
DTSTART;TZID=America/New_York:20251112T180000
DTEND;TZID=America/New_York:20251112T190000
DTSTAMP:20260424T000735
CREATED:20230914T174405Z
LAST-MODIFIED:20260406T151228Z
UID:10010542-1762970400-1762974000@necc.edu
SUMMARY:Info Session: Free Community College
DESCRIPTION:Join us for a MassEducate & MassReconnect Information Session virtually on Zoom!\nLearn how MassEducate and MassReconnect can provide funding for Massachusetts residents to earn a college degree at no cost. Attendees will learn about eligibility requirements\, and will be offered the ability to apply on the spot if desired. \nRegister Now!\n Print View
URL:https://necc.edu/event/massreconnect-information-session-virtual-online/2025-11-12/
LOCATION:Online\, United States
CATEGORIES:Admissions,All Info Sessions,Home Page Events,Info Sessions and Tours,Online Information Session
ORGANIZER;CN="Enrollment Services":MAILTO:enrollmentservices@necc.mass.edu
END:VEVENT
END:VCALENDAR