BEGIN:VCALENDAR
VERSION:2.0
PRODID:-//Northern Essex CC - ECPv6.15.12//NONSGML v1.0//EN
CALSCALE:GREGORIAN
METHOD:PUBLISH
X-WR-CALNAME:Northern Essex CC
X-ORIGINAL-URL:https://necc.edu
X-WR-CALDESC:Events for Northern Essex CC
REFRESH-INTERVAL;VALUE=DURATION:PT1H
X-Robots-Tag:noindex
X-PUBLISHED-TTL:PT1H
BEGIN:VTIMEZONE
TZID:America/New_York
BEGIN:DAYLIGHT
TZOFFSETFROM:-0500
TZOFFSETTO:-0400
TZNAME:EDT
DTSTART:20240310T070000
END:DAYLIGHT
BEGIN:STANDARD
TZOFFSETFROM:-0400
TZOFFSETTO:-0500
TZNAME:EST
DTSTART:20241103T060000
END:STANDARD
BEGIN:DAYLIGHT
TZOFFSETFROM:-0500
TZOFFSETTO:-0400
TZNAME:EDT
DTSTART:20250309T070000
END:DAYLIGHT
BEGIN:STANDARD
TZOFFSETFROM:-0400
TZOFFSETTO:-0500
TZNAME:EST
DTSTART:20251102T060000
END:STANDARD
BEGIN:DAYLIGHT
TZOFFSETFROM:-0500
TZOFFSETTO:-0400
TZNAME:EDT
DTSTART:20260308T070000
END:DAYLIGHT
BEGIN:STANDARD
TZOFFSETFROM:-0400
TZOFFSETTO:-0500
TZNAME:EST
DTSTART:20261101T060000
END:STANDARD
END:VTIMEZONE
BEGIN:VEVENT
DTSTART;TZID=America/New_York:20251008T120000
DTEND;TZID=America/New_York:20251210T120000
DTSTAMP:20260424T000630
CREATED:20250904T192627Z
LAST-MODIFIED:20250904T192637Z
UID:10010849-1759924800-1765368000@necc.edu
SUMMARY:Coffee Chat with the Lawrence Campus and Community Relations (LCCR) Team
DESCRIPTION:This conversational series aims to create collaborative opportunities to raise educational attainment in the City of Lawrence.\nJoin us for an engaging discussion every second Wednesday of the month\, starting Wednesday\, October 8\, 2025\, at 12:00 PM. Lawrence Campus\, Dimitry Building\, Room L244. \nBring your lunch and we’ll provide coffee and other drinks. \n  \n Print View
URL:https://necc.edu/event/coffee-chat-with-the-lawrence-campus-and-community-relations-lccr-team/
LOCATION:MA
CATEGORIES:Community
END:VEVENT
BEGIN:VEVENT
DTSTART;TZID=America/New_York:20251023T080000
DTEND;TZID=America/New_York:20251114T233000
DTSTAMP:20260424T000630
CREATED:20251023T160716Z
LAST-MODIFIED:20251027T164638Z
UID:10011148-1761206400-1763163000@necc.edu
SUMMARY:Call for Nominations: Student Representative on the Student Affairs Committee
DESCRIPTION:Are you passionate about improving student life at NECC? \nDo you want to represent student perspective in key discussions about campus policies\, programs\, and student experience? \nThe Student Affairs Committee is now accepting nominations for a student representative. \nNomination deadline is Friday November 14\, 2025. \nIf interested\, click here to fill out the nomination form. \nIf you have any questions\, please reach out to Professor Gunning-Chair Student Affairs Committee at mgunning@necc.mass.edu \n  \n Print View
URL:https://necc.edu/event/call-for-nominations-student-representative-on-the-student-affairs-committee/
LOCATION:MA
CATEGORIES:All College Assembly (ACA),Student Life
END:VEVENT
BEGIN:VEVENT
DTSTART;TZID=America/New_York:20251024T080000
DTEND;TZID=America/New_York:20251114T233000
DTSTAMP:20260424T000630
CREATED:20251024T125238Z
LAST-MODIFIED:20251024T130034Z
UID:10011150-1761292800-1763163000@necc.edu
SUMMARY:Knight's Quest Award
DESCRIPTION:The Student Affairs Committee is pleased to announce the Knight’s Quest Award. This award is given to a worthy student who has been nominated by a faculty or staff member based on contributions in the area of academics\, athletics\, perseverance\, or community service. If you know a student who has overcome extraordinary adversity to persist at NECC or have caught a student who consistently endeavors to exemplify the ideals of NECC\, a Knight being a Knight\, so to speak\, then we want to hear about it and want you to nominate that student. Use the attached form to submit the name of your nominee. It will only take a minute of your time. \nNominations are due by Friday\, November 14. \nClick here to fill out the nomination form \n Print View
URL:https://necc.edu/event/knights-quest-award/
LOCATION:MA
CATEGORIES:All College Assembly (ACA)
END:VEVENT
BEGIN:VEVENT
DTSTART;VALUE=DATE:20251111
DTEND;VALUE=DATE:20251120
DTSTAMP:20260424T000630
CREATED:20251110T190121Z
LAST-MODIFIED:20251110T190121Z
UID:10011250-1762819200-1763596799@necc.edu
SUMMARY:Give Thanks\, Give Back: Thanksgiving Food Drive
DESCRIPTION:Join the Northern Essex Community College community in spreading holiday cheer! Our Student Government Association (SGA) is teaming up with faculty and staff to collect and assemble Thanksgiving Bags filled with essential\, shelf-stable goodies for students in need. Food collection boxes will be available at Haverhill Commons (C201) and at the Lawrence Student Life Office (L144). Please\, no fresh or frozen groceries or gift cards. Every donation helps ensure no student or family goes without a warm meal this season. \nCampus departments\, clubs\, and organizations can sign up to sponsor a Thanksgiving meal donation to the Lawrence Campus Food Pantry. Please make all your donations by Wednesday\, November 19th.  If you have any questions\, contact Trish Schade at pschade@necc.mass.edu\, Susan Leonardi at sleonardi@necc.mass.edu\, or Jason Arey at jarey@necc.mass.edu.  \n  \n Print View
URL:https://necc.edu/event/give-thanks-give-back-thanksgiving-food-drive/
LOCATION:MA
CATEGORIES:Home Page Events,Liberal Arts Center,Library,Student Life
END:VEVENT
BEGIN:VEVENT
DTSTART;TZID=America/New_York:20251113T090000
DTEND;TZID=America/New_York:20251113T100000
DTSTAMP:20260424T000630
CREATED:20250922T172752Z
LAST-MODIFIED:20251022T132119Z
UID:10010883-1763024400-1763028000@necc.edu
SUMMARY:Information Session: American Sign Language Studies
DESCRIPTION:Please join us for our American Sign Language Studies information session. This meeting will be interpreted. Potential students will have an opportunity to ask questions about the program\, career pathways\, and transfer options that relate to the field of ASL Studies. \nASL Studies is a unique course of study that allows students to enter a rich linguistic and cultural world. We are proud to offer courses that prepare students to work with Deaf/hard of hearing people.\nThis information session is online\, and you must register via the link provided below.\nWe look forward to seeing you there!\nPlease click the link below.\nRegister here \n Print View
URL:https://necc.edu/event/information-session-american-sign-language-studies-4/
LOCATION:Online\, United States
CATEGORIES:All Info Sessions,American Sign Language Studies Info Session,Student Life
ORGANIZER;CN="ASL Studies":MAILTO:deafstudies@necc.mass.edu
END:VEVENT
BEGIN:VEVENT
DTSTART;TZID=America/New_York:20251113T090000
DTEND;TZID=America/New_York:20251113T103000
DTSTAMP:20260424T000630
CREATED:20250731T172717Z
LAST-MODIFIED:20251105T165307Z
UID:10010536-1763024400-1763029800@necc.edu
SUMMARY:Campus Tour and Info Session
DESCRIPTION:Campus Tour and Information Session\nVisit us on the Haverhill Campus for an information session and a tour led by one of our admission counselors. We can’t wait to meet you in person and show you all that NECC has to offer.  \nLocation: \nStudent Center Room 104 \n100 Elliott St. Haverhill\, MA 01830 \nRegister Now!  \n Print View
URL:https://necc.edu/event/haverhill-campus-tour-and-information-session-3-2/2025-11-13/
LOCATION:Haverhill Campus\, 100 Elliott St\, Haverhill\, MA\, United States
CATEGORIES:All Info Sessions,Info Sessions & Tours - Haverhill,Info Sessions and Tours
ORGANIZER;CN="Admissions":MAILTO:enrollmentservices@necc.mass.edu
GEO:42.797649;-71.05113
X-APPLE-STRUCTURED-LOCATION;VALUE=URI;X-ADDRESS=Haverhill Campus 100 Elliott St Haverhill MA United States;X-APPLE-RADIUS=500;X-TITLE=100 Elliott St:geo:-71.05113,42.797649
END:VEVENT
BEGIN:VEVENT
DTSTART;TZID=America/New_York:20251113T100000
DTEND;TZID=America/New_York:20251113T113000
DTSTAMP:20260424T000630
CREATED:20250922T141528Z
LAST-MODIFIED:20250922T141528Z
UID:10010882-1763028000-1763033400@necc.edu
SUMMARY:ZogoTech General Users Trainings
DESCRIPTION:We’re excited to announce that we have some more upcoming ZogoTech training sessions scheduled with our ZogoTech liaison! These sessions are designed to help you get comfortable with ZogoTech basics\, such as retrieving a list of students that meet specific criteria. Whether you’re new to ZogoTech or just looking to brush up on your skills\, this is a great opportunity to learn in an interactive\, hands-on environment. \n  \nJoin us Thursday\, November 13th – 10:00 to 11:30 AM. \nLearn more and register \n Print View
URL:https://necc.edu/event/zogotech-general-users-trainings-2/
LOCATION:MA
CATEGORIES:Professional Development
END:VEVENT
BEGIN:VEVENT
DTSTART;TZID=America/New_York:20251113T100000
DTEND;TZID=America/New_York:20251113T113000
DTSTAMP:20260424T000630
CREATED:20250923T141214Z
LAST-MODIFIED:20250923T141327Z
UID:10010889-1763028000-1763033400@necc.edu
SUMMARY:Fall 2025 - ZogoTech Training Sessions
DESCRIPTION:What is ZogoTech?\nZogoTech is a self-service data warehouse platform that aggregates and transforms institutional data from other data sources (Banner\, Navigate\, National Student Clearinghouse) into a format that is much more user friendly that what is found in the source systems. This data is then made available on a web interface that allows NECC faculty and staff to create their own reports on an as-needed basis. \nFor more details\, please feel free to browse the below Sharepoint sites!\nhttps://studentnecc.sharepoint.com/sites/Institutional-Advancement/SitePages/ZogoTech-Overview-and-Resources.aspx\nhttps://studentnecc.sharepoint.com/sites/Institutional-Advancement/SitePages/Data-Literacy.aspx \n \nWhat to Expect\nFocus: ZogoTech Basics – Learn how to easily retrieve student lists based on set criteria.\nFormat: Interactive training sessions with guidance from our ZogoTech liaison.\nLight Refreshments: We’ve got the snacks covered to keep you energized and focused.\nLocation: Center for Professional Development (C204) – Virtual Zoom option also available\nSave the Date (scroll down to RSVP)\nThursday\, October 9th – 1:30 to 3:00 PM\nThursday\, November 13th – 10:00 to 11:30 AM \n \nSpread the Word!\nThese sessions are open to anyone who is interested in learning more about ZogoTech\, so feel free to share this information with colleagues who may benefit from attending. \nStay tuned for more details on dates and locations. We look forward to seeing you there and helping you harness the power of ZogoTech! \n  \nRSVP Link\nIf you’re interested\, please fill out this brief form and we will send you a calendar invite! \nhttps://forms.cloud.microsoft/r/jAv3jSiQE7 \n Print View
URL:https://necc.edu/event/fall-2025-zogotech-training-sessions/2025-11-13/
LOCATION:Haverhill Campus\, 100 Elliott St\, Haverhill\, MA\, United States
CATEGORIES:Professional Development
GEO:42.797649;-71.05113
X-APPLE-STRUCTURED-LOCATION;VALUE=URI;X-ADDRESS=Haverhill Campus 100 Elliott St Haverhill MA United States;X-APPLE-RADIUS=500;X-TITLE=100 Elliott St:geo:-71.05113,42.797649
END:VEVENT
BEGIN:VEVENT
DTSTART;TZID=America/New_York:20251113T100000
DTEND;TZID=America/New_York:20251113T120000
DTSTAMP:20260424T000630
CREATED:20250929T193026Z
LAST-MODIFIED:20250929T193133Z
UID:10010937-1763028000-1763035200@necc.edu
SUMMARY:College Systems Trainings
DESCRIPTION:Our College Systems Trainings are designed to support all employees by providing regular onboarding and refresher sessions on the key college systems you use every day. Whether you’re new or experienced\, we highly encourage you to participate as needed. \nThese trainings are held Tuesdays and Thursdays from 10am–12pm in the C206B-CPD Computer Lab at the Haverhill Campus. \n  \nPlease note\, the facilitator may adjust the training format or cancel sessions based on registration numbers to ensure the best experience for everyone. \n  \nTo learn more and register\, please click HERE. \n Print View
URL:https://necc.edu/event/college-systems-trainings-2/2025-11-13/
LOCATION:Haverhill Campus\, 100 Elliott St\, Haverhill\, MA\, United States
CATEGORIES:Professional Development
GEO:42.797649;-71.05113
X-APPLE-STRUCTURED-LOCATION;VALUE=URI;X-ADDRESS=Haverhill Campus 100 Elliott St Haverhill MA United States;X-APPLE-RADIUS=500;X-TITLE=100 Elliott St:geo:-71.05113,42.797649
END:VEVENT
BEGIN:VEVENT
DTSTART;TZID=America/New_York:20251113T120000
DTEND;TZID=America/New_York:20251113T140000
DTSTAMP:20260424T000630
CREATED:20251106T185320Z
LAST-MODIFIED:20251106T185320Z
UID:10011210-1763035200-1763042400@necc.edu
SUMMARY:NECC Liberal Arts Writing Degree Program and Parnassus present: An Afternoon with Author Jay Atkinson
DESCRIPTION:Come join us as author and Boston University Professor Jay Atkinson visits campus to talk about the writing process across multiple genres and to discuss his works and answer questions. \nThursday\, November 13th from 12:00-2:00 in Lecture Hall A\, Spurk Building on the Haverhill campus.    \nBring a notepad for some great generative writing activities as well!  \nEmail Professor Patrick Lochelt for more info  \n Print View
URL:https://necc.edu/event/necc-liberal-arts-writing-degree-program-and-parnassus-present-an-afternoon-with-author-jay-atkinson/
LOCATION:Haverhill Campus\, 100 Elliott St\, Haverhill\, MA\, United States
CATEGORIES:Student Life
GEO:42.797649;-71.05113
X-APPLE-STRUCTURED-LOCATION;VALUE=URI;X-ADDRESS=Haverhill Campus 100 Elliott St Haverhill MA United States;X-APPLE-RADIUS=500;X-TITLE=100 Elliott St:geo:-71.05113,42.797649
END:VEVENT
BEGIN:VEVENT
DTSTART;TZID=America/New_York:20251113T133000
DTEND;TZID=America/New_York:20251113T150000
DTSTAMP:20260424T000630
CREATED:20250827T141308Z
LAST-MODIFIED:20251125T201806Z
UID:10010815-1763040600-1763046000@necc.edu
SUMMARY:Poppin' Chats with Student Life - Lawrence
DESCRIPTION:Take a break\, grab some popcorn\, and connect with Student Life! Poppin’ Chats is a relaxed\, drop-in space where you can meet our team and other campus departments\, ask questions\, and learn about resources\, events\, and ways to get involved at NECC—all while enjoying some free\, freshly popped popcorn. \nStop by\, say hello\, and leave with both snacks and new connections! \n \n Print View
URL:https://necc.edu/event/poppin-chats-with-student-life-lawrence/2025-11-13/
LOCATION:Lawrence Campus\, Lawrence\, MA\, United States
CATEGORIES:Student Activities,Student Life
ORGANIZER;CN="Student Life":MAILTO:studentlife@necc.mass.edu
GEO:42.70734;-71.161052
END:VEVENT
END:VCALENDAR