BEGIN:VCALENDAR
VERSION:2.0
PRODID:-//Northern Essex CC - ECPv6.15.12//NONSGML v1.0//EN
CALSCALE:GREGORIAN
METHOD:PUBLISH
X-ORIGINAL-URL:https://necc.edu
X-WR-CALDESC:Events for Northern Essex CC
REFRESH-INTERVAL;VALUE=DURATION:PT1H
X-Robots-Tag:noindex
X-PUBLISHED-TTL:PT1H
BEGIN:VTIMEZONE
TZID:America/New_York
BEGIN:DAYLIGHT
TZOFFSETFROM:-0500
TZOFFSETTO:-0400
TZNAME:EDT
DTSTART:20240310T070000
END:DAYLIGHT
BEGIN:STANDARD
TZOFFSETFROM:-0400
TZOFFSETTO:-0500
TZNAME:EST
DTSTART:20241103T060000
END:STANDARD
BEGIN:DAYLIGHT
TZOFFSETFROM:-0500
TZOFFSETTO:-0400
TZNAME:EDT
DTSTART:20250309T070000
END:DAYLIGHT
BEGIN:STANDARD
TZOFFSETFROM:-0400
TZOFFSETTO:-0500
TZNAME:EST
DTSTART:20251102T060000
END:STANDARD
BEGIN:DAYLIGHT
TZOFFSETFROM:-0500
TZOFFSETTO:-0400
TZNAME:EDT
DTSTART:20260308T070000
END:DAYLIGHT
BEGIN:STANDARD
TZOFFSETFROM:-0400
TZOFFSETTO:-0500
TZNAME:EST
DTSTART:20261101T060000
END:STANDARD
END:VTIMEZONE
BEGIN:VEVENT
DTSTART;TZID=America/New_York:20251008T120000
DTEND;TZID=America/New_York:20251210T120000
DTSTAMP:20260424T000625
CREATED:20250904T192627Z
LAST-MODIFIED:20250904T192637Z
UID:10010849-1759924800-1765368000@necc.edu
SUMMARY:Coffee Chat with the Lawrence Campus and Community Relations (LCCR) Team
DESCRIPTION:This conversational series aims to create collaborative opportunities to raise educational attainment in the City of Lawrence.\nJoin us for an engaging discussion every second Wednesday of the month\, starting Wednesday\, October 8\, 2025\, at 12:00 PM. Lawrence Campus\, Dimitry Building\, Room L244. \nBring your lunch and we’ll provide coffee and other drinks. \n  \n Print View
URL:https://necc.edu/event/coffee-chat-with-the-lawrence-campus-and-community-relations-lccr-team/
LOCATION:MA
CATEGORIES:Community
END:VEVENT
BEGIN:VEVENT
DTSTART;VALUE=DATE:20251111
DTEND;VALUE=DATE:20251120
DTSTAMP:20260424T000625
CREATED:20251110T190121Z
LAST-MODIFIED:20251110T190121Z
UID:10011250-1762819200-1763596799@necc.edu
SUMMARY:Give Thanks\, Give Back: Thanksgiving Food Drive
DESCRIPTION:Join the Northern Essex Community College community in spreading holiday cheer! Our Student Government Association (SGA) is teaming up with faculty and staff to collect and assemble Thanksgiving Bags filled with essential\, shelf-stable goodies for students in need. Food collection boxes will be available at Haverhill Commons (C201) and at the Lawrence Student Life Office (L144). Please\, no fresh or frozen groceries or gift cards. Every donation helps ensure no student or family goes without a warm meal this season. \nCampus departments\, clubs\, and organizations can sign up to sponsor a Thanksgiving meal donation to the Lawrence Campus Food Pantry. Please make all your donations by Wednesday\, November 19th.  If you have any questions\, contact Trish Schade at pschade@necc.mass.edu\, Susan Leonardi at sleonardi@necc.mass.edu\, or Jason Arey at jarey@necc.mass.edu.  \n  \n Print View
URL:https://necc.edu/event/give-thanks-give-back-thanksgiving-food-drive/
LOCATION:MA
CATEGORIES:Home Page Events,Liberal Arts Center,Library,Student Life
END:VEVENT
BEGIN:VEVENT
DTSTART;VALUE=DATE:20251117
DTEND;VALUE=DATE:20251121
DTSTAMP:20260424T000625
CREATED:20251029T133116Z
LAST-MODIFIED:20251029T133319Z
UID:10011154-1763337600-1763683199@necc.edu
SUMMARY:Tabletop Games Takeover: Lawrence Campus Edition
DESCRIPTION:Celebrate International Games Month in the library! All week long\, stop by to play tabletop games with friends in the Student Lounge – Dimitry building\, Lawrence Campus\, or borrow a game from the NECC Library to take home. We have classic board games like Chess\, dominoes\, and Apples to Apples\, as well as modern favorites like Wingspan and Ticket to Ride. \nDrop in between classes\, unwind\, and connect with others through the joy of gaming—no experience required\, bring your competitive (or cooperative!) spirit! \nFor more information\, please contact Grace Spaulding.  \n Print View
URL:https://necc.edu/event/tabletop-games-takeover-2/
LOCATION:Lawrence Campus\, Lawrence\, MA\, United States
CATEGORIES:Home Page Events,Library,Student Activities,Student Life,The Commons
ORGANIZER;CN="Susan Leonardi":MAILTO:sleonardi@necc.mass.edu
GEO:42.70734;-71.161052
END:VEVENT
BEGIN:VEVENT
DTSTART;VALUE=DATE:20251117
DTEND;VALUE=DATE:20251121
DTSTAMP:20260424T000625
CREATED:20251022T150533Z
LAST-MODIFIED:20251029T133427Z
UID:10011094-1763337600-1763683199@necc.edu
SUMMARY:Tabletop Games Takeover: Haverhill Campus Edition
DESCRIPTION:Celebrate International Games Month in the library! All week long\, stop by to play tabletop games with friends in the Artspace Gallery or borrow a game from NECC Library to take home. We have classic board games like Chess\, dominoes\, and Apples to Apples\, as well as modern favorites like Wingspan and Ticket to Ride. \nDrop in between classes\, unwind\, and connect with others through the joy of gaming—no experience required\, bring your competitive (or cooperative!) spirit! \nFor more information\, please contact Susan Leonardi. \n Print View
URL:https://necc.edu/event/tabletop-games-takeover/
LOCATION:Haverhill Campus\, 100 Elliott St\, Haverhill\, MA\, United States
CATEGORIES:Home Page Events,Library,Student Activities,Student Life
ORGANIZER;CN="Susan Leonardi":MAILTO:sleonardi@necc.mass.edu
GEO:42.797649;-71.05113
X-APPLE-STRUCTURED-LOCATION;VALUE=URI;X-ADDRESS=Haverhill Campus 100 Elliott St Haverhill MA United States;X-APPLE-RADIUS=500;X-TITLE=100 Elliott St:geo:-71.05113,42.797649
END:VEVENT
BEGIN:VEVENT
DTSTART;TZID=America/New_York:20251117T100000
DTEND;TZID=America/New_York:20251117T110000
DTSTAMP:20260424T000625
CREATED:20250923T152342Z
LAST-MODIFIED:20250923T152343Z
UID:10010894-1763373600-1763377200@necc.edu
SUMMARY:CPD: Coffee and Conversation
DESCRIPTION:Take a break and connect with colleagues over coffee (or tea).\nC204: 9/22\, 10/20\, 11/17 –10-11am \nL233: 9/24\, 10/22\, 11/19 –10-11am \n Print View
URL:https://necc.edu/event/cpd-coffee-and-conversation/2025-11-17/
LOCATION:All Campuses\, Lawrence\, MA\, United States
CATEGORIES:Professional Development
GEO:42.709053;-71.169601
END:VEVENT
BEGIN:VEVENT
DTSTART;TZID=America/New_York:20251117T123000
DTEND;TZID=America/New_York:20251117T143000
DTSTAMP:20260424T000625
CREATED:20251030T132411Z
LAST-MODIFIED:20251030T133210Z
UID:10011156-1763382600-1763389800@necc.edu
SUMMARY:C.R.A.S.E. Training-Haverhill Campus
DESCRIPTION:Civilian Response to Active Shooter Events (CRASE) Training \nThis is NOT a simulation. This will be held by officers from the NECC Police department. The Civilian Response to Active Shooter Events (CRASE) course\, designed and built on the Avoid\, Deny\, Defend (ADD) strategy developed by ALERRT in 2004\, provides strategies\, guidance\, and a proven plan for surviving an active shooter event. Topics include the history and prevalence of active shooter events\, civilian response options\, medical issues\, and considerations for conducting drills. \nLocation: Haverhill Campus\, Spurk Building\, room C113. \nPlease use this link to sign up.  \n Print View
URL:https://necc.edu/event/c-r-a-s-e-training/
LOCATION:Haverhill Campus\, 100 Elliott St\, Haverhill\, MA\, United States
CATEGORIES:Home Page Events
ORGANIZER;CN="Public Safety":MAILTO:publicsafety@necc.mass.edu
GEO:42.797649;-71.05113
X-APPLE-STRUCTURED-LOCATION;VALUE=URI;X-ADDRESS=Haverhill Campus 100 Elliott St Haverhill MA United States;X-APPLE-RADIUS=500;X-TITLE=100 Elliott St:geo:-71.05113,42.797649
END:VEVENT
BEGIN:VEVENT
DTSTART;TZID=America/New_York:20251117T150000
DTEND;TZID=America/New_York:20251117T160000
DTSTAMP:20260424T000625
CREATED:20250822T145145Z
LAST-MODIFIED:20250822T145145Z
UID:10010755-1763391600-1763395200@necc.edu
SUMMARY:Nursing Information session
DESCRIPTION:Students in NECC’s Nursing Programs practicing on state-of-the-art equipment.\nAttend a Nursing Information Session and Learn More About the Program and NECC!\n\nLearn more about the Nursing Programs\nGet all of your questions answered.\nDiscover career pathways.\nTour the Lawrence NECC campus.\n\nLocation\nDr. Ibrahim El-Hefni Allied Health & Technology Center (LC Building)\n414 Common Street\nLawrence MA \nParking\nParking in Lawrence is available in the three parking lots located on Common Street. One parking lot is in the fenced lot at the Dimitry Building\, another open lot across the street from the Dimitry Building\, and a third parking lot across the street from the El Hefni Building. \nNECC requires a parking decal to park in many of our parking lots. Visitors must park in Visitor or Free parking lots. \nView maps for Visitor and free parking. \nPlease Note\n\nThe mandatory Nursing Information Session are required for students applying to the Nursing program.\nDue to this requirement attendees are asked to be on-time for the information session.\nWe start promptly at 3:00 pm. Late admissions will not be allowed.  \nThis info session is in-person only.\nAdvanced registration is not required.\nThis is the last info session of the fall semester.\n\nView all of the Health Information Session Dates and Nursing Programs at NECC. \n Print View
URL:https://necc.edu/event/nursing-information-session-7/
LOCATION:Lawrence Campus\, Lawrence\, MA\, United States
CATEGORIES:Health Info Sessions,Home Page Events,Nursing General Info Sessions
ORGANIZER;CN="Dawn Wheaten":MAILTO:dwheaton@necc.mass.edu
GEO:42.70734;-71.161052
END:VEVENT
END:VCALENDAR