BEGIN:VCALENDAR
VERSION:2.0
PRODID:-//Northern Essex CC - ECPv6.15.12//NONSGML v1.0//EN
CALSCALE:GREGORIAN
METHOD:PUBLISH
X-ORIGINAL-URL:https://necc.edu
X-WR-CALDESC:Events for Northern Essex CC
REFRESH-INTERVAL;VALUE=DURATION:PT1H
X-Robots-Tag:noindex
X-PUBLISHED-TTL:PT1H
BEGIN:VTIMEZONE
TZID:America/New_York
BEGIN:DAYLIGHT
TZOFFSETFROM:-0500
TZOFFSETTO:-0400
TZNAME:EDT
DTSTART:20240310T070000
END:DAYLIGHT
BEGIN:STANDARD
TZOFFSETFROM:-0400
TZOFFSETTO:-0500
TZNAME:EST
DTSTART:20241103T060000
END:STANDARD
BEGIN:DAYLIGHT
TZOFFSETFROM:-0500
TZOFFSETTO:-0400
TZNAME:EDT
DTSTART:20250309T070000
END:DAYLIGHT
BEGIN:STANDARD
TZOFFSETFROM:-0400
TZOFFSETTO:-0500
TZNAME:EST
DTSTART:20251102T060000
END:STANDARD
BEGIN:DAYLIGHT
TZOFFSETFROM:-0500
TZOFFSETTO:-0400
TZNAME:EDT
DTSTART:20260308T070000
END:DAYLIGHT
BEGIN:STANDARD
TZOFFSETFROM:-0400
TZOFFSETTO:-0500
TZNAME:EST
DTSTART:20261101T060000
END:STANDARD
END:VTIMEZONE
BEGIN:VEVENT
DTSTART;TZID=America/New_York:20251008T120000
DTEND;TZID=America/New_York:20251210T120000
DTSTAMP:20260424T000738
CREATED:20250904T192627Z
LAST-MODIFIED:20250904T192637Z
UID:10010849-1759924800-1765368000@necc.edu
SUMMARY:Coffee Chat with the Lawrence Campus and Community Relations (LCCR) Team
DESCRIPTION:This conversational series aims to create collaborative opportunities to raise educational attainment in the City of Lawrence.\nJoin us for an engaging discussion every second Wednesday of the month\, starting Wednesday\, October 8\, 2025\, at 12:00 PM. Lawrence Campus\, Dimitry Building\, Room L244. \nBring your lunch and we’ll provide coffee and other drinks. \n  \n Print View
URL:https://necc.edu/event/coffee-chat-with-the-lawrence-campus-and-community-relations-lccr-team/
LOCATION:MA
CATEGORIES:Community
END:VEVENT
BEGIN:VEVENT
DTSTART;VALUE=DATE:20251111
DTEND;VALUE=DATE:20251120
DTSTAMP:20260424T000738
CREATED:20251110T190121Z
LAST-MODIFIED:20251110T190121Z
UID:10011250-1762819200-1763596799@necc.edu
SUMMARY:Give Thanks\, Give Back: Thanksgiving Food Drive
DESCRIPTION:Join the Northern Essex Community College community in spreading holiday cheer! Our Student Government Association (SGA) is teaming up with faculty and staff to collect and assemble Thanksgiving Bags filled with essential\, shelf-stable goodies for students in need. Food collection boxes will be available at Haverhill Commons (C201) and at the Lawrence Student Life Office (L144). Please\, no fresh or frozen groceries or gift cards. Every donation helps ensure no student or family goes without a warm meal this season. \nCampus departments\, clubs\, and organizations can sign up to sponsor a Thanksgiving meal donation to the Lawrence Campus Food Pantry. Please make all your donations by Wednesday\, November 19th.  If you have any questions\, contact Trish Schade at pschade@necc.mass.edu\, Susan Leonardi at sleonardi@necc.mass.edu\, or Jason Arey at jarey@necc.mass.edu.  \n  \n Print View
URL:https://necc.edu/event/give-thanks-give-back-thanksgiving-food-drive/
LOCATION:MA
CATEGORIES:Home Page Events,Liberal Arts Center,Library,Student Life
END:VEVENT
BEGIN:VEVENT
DTSTART;VALUE=DATE:20251117
DTEND;VALUE=DATE:20251121
DTSTAMP:20260424T000738
CREATED:20251029T133116Z
LAST-MODIFIED:20251029T133319Z
UID:10011154-1763337600-1763683199@necc.edu
SUMMARY:Tabletop Games Takeover: Lawrence Campus Edition
DESCRIPTION:Celebrate International Games Month in the library! All week long\, stop by to play tabletop games with friends in the Student Lounge – Dimitry building\, Lawrence Campus\, or borrow a game from the NECC Library to take home. We have classic board games like Chess\, dominoes\, and Apples to Apples\, as well as modern favorites like Wingspan and Ticket to Ride. \nDrop in between classes\, unwind\, and connect with others through the joy of gaming—no experience required\, bring your competitive (or cooperative!) spirit! \nFor more information\, please contact Grace Spaulding.  \n Print View
URL:https://necc.edu/event/tabletop-games-takeover-2/
LOCATION:Lawrence Campus\, Lawrence\, MA\, United States
CATEGORIES:Home Page Events,Library,Student Activities,Student Life,The Commons
ORGANIZER;CN="Susan Leonardi":MAILTO:sleonardi@necc.mass.edu
GEO:42.70734;-71.161052
END:VEVENT
BEGIN:VEVENT
DTSTART;VALUE=DATE:20251117
DTEND;VALUE=DATE:20251121
DTSTAMP:20260424T000738
CREATED:20251022T150533Z
LAST-MODIFIED:20251029T133427Z
UID:10011094-1763337600-1763683199@necc.edu
SUMMARY:Tabletop Games Takeover: Haverhill Campus Edition
DESCRIPTION:Celebrate International Games Month in the library! All week long\, stop by to play tabletop games with friends in the Artspace Gallery or borrow a game from NECC Library to take home. We have classic board games like Chess\, dominoes\, and Apples to Apples\, as well as modern favorites like Wingspan and Ticket to Ride. \nDrop in between classes\, unwind\, and connect with others through the joy of gaming—no experience required\, bring your competitive (or cooperative!) spirit! \nFor more information\, please contact Susan Leonardi. \n Print View
URL:https://necc.edu/event/tabletop-games-takeover/
LOCATION:Haverhill Campus\, 100 Elliott St\, Haverhill\, MA\, United States
CATEGORIES:Home Page Events,Library,Student Activities,Student Life
ORGANIZER;CN="Susan Leonardi":MAILTO:sleonardi@necc.mass.edu
GEO:42.797649;-71.05113
X-APPLE-STRUCTURED-LOCATION;VALUE=URI;X-ADDRESS=Haverhill Campus 100 Elliott St Haverhill MA United States;X-APPLE-RADIUS=500;X-TITLE=100 Elliott St:geo:-71.05113,42.797649
END:VEVENT
BEGIN:VEVENT
DTSTART;TZID=America/New_York:20251119T100000
DTEND;TZID=America/New_York:20251119T110000
DTSTAMP:20260424T000738
CREATED:20250923T152342Z
LAST-MODIFIED:20250923T152343Z
UID:10010895-1763546400-1763550000@necc.edu
SUMMARY:CPD: Coffee and Conversation
DESCRIPTION:Take a break and connect with colleagues over coffee (or tea).\nC204: 9/22\, 10/20\, 11/17 –10-11am \nL233: 9/24\, 10/22\, 11/19 –10-11am \n Print View
URL:https://necc.edu/event/cpd-coffee-and-conversation/2025-11-19/
LOCATION:All Campuses\, Lawrence\, MA\, United States
CATEGORIES:Professional Development
GEO:42.709053;-71.169601
END:VEVENT
BEGIN:VEVENT
DTSTART;TZID=America/New_York:20251119T100000
DTEND;TZID=America/New_York:20251119T110000
DTSTAMP:20260424T000738
CREATED:20251028T195159Z
LAST-MODIFIED:20251028T195159Z
UID:10011153-1763546400-1763550000@necc.edu
SUMMARY:Create Your Own Zines!
DESCRIPTION:A zine (pronounced ZEEN) is short for “fanzine”. A Zine is like a little magazine that can include all sorts of stuff—text\, images\, artwork\, random objects\, or anything else that helps share the creator’s story or message. Join Librarian\, Grace Spaulding\, and Academic Technologist Rowan Blackwell for a zine-making workshop at the Student Lounge\, Dimitry building – Lawrence campus.  \nBring your creativity\, and we will bring the supplies. Contact Grace Spaulding at sspaulding@necc.mass.edu for more information. \n Print View
URL:https://necc.edu/event/create-your-own-zines-2/
LOCATION:Lawrence Campus\, Lawrence\, MA\, United States
CATEGORIES:Home Page Events,Liberal Arts Center,Library,Student Activities,Student Life,The Commons
ORGANIZER;CN="Susan Leonardi":MAILTO:sleonardi@necc.mass.edu
GEO:42.70734;-71.161052
END:VEVENT
BEGIN:VEVENT
DTSTART;TZID=America/New_York:20251119T110000
DTEND;TZID=America/New_York:20251119T120000
DTSTAMP:20260424T000738
CREATED:20251028T191700Z
LAST-MODIFIED:20251028T193331Z
UID:10011152-1763550000-1763553600@necc.edu
SUMMARY:Spice Up Your Ramen! 
DESCRIPTION:Join us for a fun\, one-hour\, flavor-filled session where you can eat and learn at the same time! NECC’s Culinary Arts & Hospitality Coordinator\, Brian Philbrook\, will show you how to take your ramen from basic to brilliant with easy semi-homemade recipes you can make on a student budget. You’ll also get a quick intro to the art of eating ramen and a bite-sized look at the history of chopsticks around the world. This event will be held at the Artspace Gallery\, Bentley Library – Haverhill Campus. Space is limited to 30 participants — registration is required! Reserve your spot early and come hungry to level up your noodle game at NECC Library: Spice Up your Ramen! \nFor more information\, contact Susan Leonardi at sleonardi@necc.mass.edu \n Print View
URL:https://necc.edu/event/spice-up-your-ramen/
LOCATION:Haverhill Campus\, 100 Elliott St\, Haverhill\, MA\, United States
CATEGORIES:Culinary Arts,Home Page Events,Library,Student Activities,Student Life,The Commons
ORGANIZER;CN="Susan Leonardi":MAILTO:sleonardi@necc.mass.edu
GEO:42.797649;-71.05113
X-APPLE-STRUCTURED-LOCATION;VALUE=URI;X-ADDRESS=Haverhill Campus 100 Elliott St Haverhill MA United States;X-APPLE-RADIUS=500;X-TITLE=100 Elliott St:geo:-71.05113,42.797649
END:VEVENT
BEGIN:VEVENT
DTSTART;TZID=America/New_York:20251119T123000
DTEND;TZID=America/New_York:20251119T133000
DTSTAMP:20260424T000738
CREATED:20251112T144603Z
LAST-MODIFIED:20251112T144603Z
UID:10011254-1763555400-1763559000@necc.edu
SUMMARY:President's General Staff Meeting
DESCRIPTION:Please join us for the President’s General Staff meeting\, Mission in Motion: Connecting our work to the Big 3 Goals\, which will be held on Wednesday\, November 19\, from 12:30-1:30 p.m. and will be telecast between TC103 (Haverhill Campus) and LC301 (Lawrence Campus). \n  \n Print View
URL:https://necc.edu/event/presidents-general-staff-meeting-8/
LOCATION:MA
CATEGORIES:Home Page Events
END:VEVENT
BEGIN:VEVENT
DTSTART;TZID=America/New_York:20251119T123000
DTEND;TZID=America/New_York:20251119T143000
DTSTAMP:20260424T000738
CREATED:20251030T132700Z
LAST-MODIFIED:20251030T132908Z
UID:10011157-1763555400-1763562600@necc.edu
SUMMARY:C.R.A.S.E. Training - Lawrence Campus
DESCRIPTION:Civilian Response to Active Shooter Events training (CRASE) \nThis is NOT a simulation. This will be held by officers from the NECC Police department. The Civilian Response to Active Shooter Events (CRASE) course\, designed and built on the Avoid\, Deny\, Defend (ADD) strategy developed by ALERRT in 2004\, provides strategies\, guidance\, and a proven plan for surviving an active shooter event. Topics include the history and prevalence of active shooter events\, civilian response options\, medical issues\, and considerations for conducting drills. \nLocation: Lawrence Campus\, Dimitry Building\, room L147. \nPlease use this link to sign up.  \n Print View
URL:https://necc.edu/event/c-r-a-s-e-training-lawrence-campus/
LOCATION:Lawrence Campus\, Lawrence\, MA\, United States
CATEGORIES:Home Page Events
ORGANIZER;CN="Public Safety":MAILTO:publicsafety@necc.mass.edu
GEO:42.70734;-71.161052
END:VEVENT
BEGIN:VEVENT
DTSTART;TZID=America/New_York:20251119T140000
DTEND;TZID=America/New_York:20251119T150000
DTSTAMP:20260424T000738
CREATED:20251030T175811Z
LAST-MODIFIED:20251030T180233Z
UID:10011159-1763560800-1763564400@necc.edu
SUMMARY:🤖 The Basics of AI Using Microsoft Copilot
DESCRIPTION:Transform Your Work with AI – No Experience Required!\nLearn AI Fundamentals & Practical Skills in Just One Hour\nThis one-hour workshop introduces NECC faculty and staff to the basics of AI using Microsoft Copilot\, a free tool that can streamline everyday work tasks. Participants will learn what AI actually is\, dispel common misconceptions\, and discover how to write effective prompts that yield useful results. Through hands-on practice\, attendees will explore practical applications including drafting emails\, creating teaching materials\, generating rubrics\, and building PowerPoint outlines. The workshop emphasizes that AI is a tool requiring human guidance\, not a replacement for professional judgment\, and provides techniques for iterative refinement of AI-generated content. Led by NECC’s AI Task Force\, this session offers practical skills you can use immediately while contributing to the college’s broader AI policy development. \n  \n📍 Location: Haverhill campus\, Room C206 – Space is limited – more days and times will be offered!\n👥 Who Should Attend: All NECC Faculty & Staff\n🔗 Register Now: Registration Link \n📧 Questions? Contact Sue Tashjian: stashjian@necc.mass.edu \n Print View
URL:https://necc.edu/event/the-basics-of-ai-using-microsoft-copilot/2025-11-19/
LOCATION:Haverhill Campus\, 100 Elliott St\, Haverhill\, MA\, United States
CATEGORIES:Professional Development
ORGANIZER;CN="Sue Tashjian":MAILTO:stashjian@necc.mass.edu
GEO:42.797649;-71.05113
X-APPLE-STRUCTURED-LOCATION;VALUE=URI;X-ADDRESS=Haverhill Campus 100 Elliott St Haverhill MA United States;X-APPLE-RADIUS=500;X-TITLE=100 Elliott St:geo:-71.05113,42.797649
END:VEVENT
BEGIN:VEVENT
DTSTART;TZID=America/New_York:20251119T150000
DTEND;TZID=America/New_York:20251119T163000
DTSTAMP:20260424T000738
CREATED:20251105T165702Z
LAST-MODIFIED:20251105T171346Z
UID:10010552-1763564400-1763569800@necc.edu
SUMMARY:Campus Tour and Information Session
DESCRIPTION:Campus Tour and Information Session\n\nVisit us on the Lawrence Campus for an information session and a tour led by one of our admission counselors. We can’t wait to meet you in person and show you all that NECC has to offer.  \nLocation: \nDr. Ibrahim El-Hefni Allied Health & Technology Center Lobby \n414 Common St. Lawrence\, MA 01840 \nRegister Now!  \n Print View
URL:https://necc.edu/event/lawrence-campus-tour-and-information-session-2-2/2025-11-19/
LOCATION:Lawrence Campus\, Lawrence\, MA\, United States
CATEGORIES:All Info Sessions,Home Page Events,Info Sessions & Tours - Lawrence,Info Sessions and Tours
ORGANIZER;CN="Admissions":MAILTO:enrollmentservices@necc.mass.edu
GEO:42.70734;-71.161052
END:VEVENT
BEGIN:VEVENT
DTSTART;TZID=America/New_York:20251119T160000
DTEND;TZID=America/New_York:20251119T180000
DTSTAMP:20260424T000738
CREATED:20250211T170820Z
LAST-MODIFIED:20260406T151312Z
UID:10009431-1763568000-1763575200@necc.edu
SUMMARY:Enrollment Support Extended Hours
DESCRIPTION:Recruitment counselors available every Wednesday to assist with FAFSA\, guided self-placement and orientation \n Print View
URL:https://necc.edu/event/haverhill-campus-after-hours-enrollment-support/2025-11-19/
LOCATION:Haverhill Campus\, 100 Elliott St\, Haverhill\, MA\, United States
CATEGORIES:Info Sessions and Tours
ORGANIZER;CN="Admissions":MAILTO:enrollmentservices@necc.mass.edu
GEO:42.797649;-71.05113
X-APPLE-STRUCTURED-LOCATION;VALUE=URI;X-ADDRESS=Haverhill Campus 100 Elliott St Haverhill MA United States;X-APPLE-RADIUS=500;X-TITLE=100 Elliott St:geo:-71.05113,42.797649
END:VEVENT
END:VCALENDAR