BEGIN:VCALENDAR
VERSION:2.0
PRODID:-//Northern Essex CC - ECPv6.15.12//NONSGML v1.0//EN
CALSCALE:GREGORIAN
METHOD:PUBLISH
X-ORIGINAL-URL:https://necc.edu
X-WR-CALDESC:Events for Northern Essex CC
REFRESH-INTERVAL;VALUE=DURATION:PT1H
X-Robots-Tag:noindex
X-PUBLISHED-TTL:PT1H
BEGIN:VTIMEZONE
TZID:America/New_York
BEGIN:DAYLIGHT
TZOFFSETFROM:-0500
TZOFFSETTO:-0400
TZNAME:EDT
DTSTART:20240310T070000
END:DAYLIGHT
BEGIN:STANDARD
TZOFFSETFROM:-0400
TZOFFSETTO:-0500
TZNAME:EST
DTSTART:20241103T060000
END:STANDARD
BEGIN:DAYLIGHT
TZOFFSETFROM:-0500
TZOFFSETTO:-0400
TZNAME:EDT
DTSTART:20250309T070000
END:DAYLIGHT
BEGIN:STANDARD
TZOFFSETFROM:-0400
TZOFFSETTO:-0500
TZNAME:EST
DTSTART:20251102T060000
END:STANDARD
BEGIN:DAYLIGHT
TZOFFSETFROM:-0500
TZOFFSETTO:-0400
TZNAME:EDT
DTSTART:20260308T070000
END:DAYLIGHT
BEGIN:STANDARD
TZOFFSETFROM:-0400
TZOFFSETTO:-0500
TZNAME:EST
DTSTART:20261101T060000
END:STANDARD
BEGIN:DAYLIGHT
TZOFFSETFROM:-0500
TZOFFSETTO:-0400
TZNAME:EDT
DTSTART:20270314T070000
END:DAYLIGHT
BEGIN:STANDARD
TZOFFSETFROM:-0400
TZOFFSETTO:-0500
TZNAME:EST
DTSTART:20271107T060000
END:STANDARD
END:VTIMEZONE
BEGIN:VEVENT
DTSTART;TZID=America/New_York:20251008T120000
DTEND;TZID=America/New_York:20251210T120000
DTSTAMP:20260424T000738
CREATED:20250904T192627Z
LAST-MODIFIED:20250904T192637Z
UID:10010849-1759924800-1765368000@necc.edu
SUMMARY:Coffee Chat with the Lawrence Campus and Community Relations (LCCR) Team
DESCRIPTION:This conversational series aims to create collaborative opportunities to raise educational attainment in the City of Lawrence.\nJoin us for an engaging discussion every second Wednesday of the month\, starting Wednesday\, October 8\, 2025\, at 12:00 PM. Lawrence Campus\, Dimitry Building\, Room L244. \nBring your lunch and we’ll provide coffee and other drinks. \n  \n Print View
URL:https://necc.edu/event/coffee-chat-with-the-lawrence-campus-and-community-relations-lccr-team/
LOCATION:MA
CATEGORIES:Community
END:VEVENT
BEGIN:VEVENT
DTSTART;TZID=America/New_York:20251124T000000
DTEND;TZID=America/New_York:20251215T235900
DTSTAMP:20260424T000739
CREATED:20251029T200106Z
LAST-MODIFIED:20251029T202001Z
UID:10011155-1763942400-1765843140@necc.edu
SUMMARY:Spring Financial Aid C.O.R.E. Scholarship
DESCRIPTION:The Spring Financial Aid C.O.R.E. Scholarship application will be available online from November 24th until December 15th. If a student is in fall courses\, final decisions will be sent out once Fall Grades have been posted. Otherwise students will be notified after the Holiday break is over (Christmas/New Years). Please be aware that the application may close early depending on available funding for the semester. \nCan we use this link: https://necc.academicworks.com/opportunities/flexible \n  \n Print View
URL:https://necc.edu/event/spring-financial-aid-c-o-r-e-scholarship/
LOCATION:Online\, United States
CATEGORIES:Student Life
END:VEVENT
BEGIN:VEVENT
DTSTART;VALUE=DATE:20251124
DTEND;VALUE=DATE:20260110
DTSTAMP:20260424T000739
CREATED:20251119T181117Z
LAST-MODIFIED:20251120T163942Z
UID:10011274-1763942400-1768003199@necc.edu
SUMMARY:Spring NECC Foundation Scholarship Application
DESCRIPTION:The Spring NECC Foundation Scholarship application will be available online from November 24\, 2025 until January 9\, 2026 for the Spring 2026 semester only. This application is only used if there are additional funds remaining for the Academic year from the NECC General Scholarship. This opportunity is available to you through NECC’s Office of Institutional Advancement. \n  \nClick here for more information \n Print View
URL:https://necc.edu/event/spring-necc-foundation-scholarship-application/
LOCATION:MA
CATEGORIES:Student Life
END:VEVENT
BEGIN:VEVENT
DTSTART;TZID=America/New_York:20251124T070000
DTEND;TZID=America/New_York:20251124T170000
DTSTAMP:20260424T000739
CREATED:20251117T175723Z
LAST-MODIFIED:20251117T175723Z
UID:10011258-1763967600-1764003600@necc.edu
SUMMARY:3rd Annual Stuff a Cruiser - Haverhill Campus
DESCRIPTION:The NECC Police Department will be hosting our 3rd Annual Stuff a Cruiser event. Please donate new\, unwrapped toys for a child in need. Gift cards to Target\, Walmart\, Market Basket\, or gas cards are always welcome.  \nDonors will be entered into a raffle to win a pair of Boston sports tickets (1 entry per person) \nYou can donate gifts on Nov 24\, 25 and 26 as well as Dec 1 and 2 from 7a-5p\, at the Haverhill campus\, Spurk Building\, room C110. \n Print View
URL:https://necc.edu/event/3rd-annual-stuff-a-cruiser-haverhill-campus/2025-11-24/
LOCATION:MA
CATEGORIES:Community,Home Page Events
END:VEVENT
BEGIN:VEVENT
DTSTART;TZID=America/New_York:20251124T100000
DTEND;TZID=America/New_York:20251124T120000
DTSTAMP:20260424T000739
CREATED:20251117T180715Z
LAST-MODIFIED:20251117T180715Z
UID:10011263-1763978400-1763985600@necc.edu
SUMMARY:3rd Annual Stuff a Cruiser - Lawrence Campus
DESCRIPTION:The NECC Police Department will be hosting our 3rd Annual Stuff a Cruiser event. Please donate new\, unwrapped toys for a child in need. Gift cards to Target\, Walmart\, Market Basket\, or gas cards are always welcome.  \nDonors will be entered into a raffle to win a pair of Boston sports tickets (1 entry per person) \nYou can donate gifts on Nov 24\, 25 and 26 as well as Dec 1 and 2 from 10a-12p and 3p-5p\, at the Lawrence Campus\, 414 Common St\, Public Safety Desk in the Lobby. \n Print View
URL:https://necc.edu/event/3rd-annual-stuff-a-cruiser-lawrence-campus/2025-11-24/1/
LOCATION:MA
CATEGORIES:Community,Home Page Events
END:VEVENT
BEGIN:VEVENT
DTSTART;TZID=America/New_York:20251124T140000
DTEND;TZID=America/New_York:20251124T150000
DTSTAMP:20260424T000739
CREATED:20250806T144833Z
LAST-MODIFIED:20250806T162357Z
UID:10010661-1763992800-1763996400@necc.edu
SUMMARY:ACA Governance Forum
DESCRIPTION:All College Assembly Governance Forum for NECC Employees \nWe invite all employees to join us for light refreshments in TC103 A&B/L244 at our new time: 2–3 pm. This change was made to make it easier for more people to attend\, as our previous 12:30 pm Monday slot had become challenging for many. \nRefer to the NECCOne ACA Governance SharePoint site for updated Governance information\, including the agenda for the Forums. \nBring your topics of concern to the Forum (discussed during Q&A) or email them to aca@necc.mass.edu prior to the event. \nAs always\, interpretation services will be available on the Haverhill Campus. \nSheila Muller \nChair All College Assembly and the Executive Committee \n Print View
URL:https://necc.edu/event/aca-governance-forum/
LOCATION:MA
CATEGORIES:All College Assembly (ACA)
ORGANIZER;CN="Sheila Muller":MAILTO:smuller@necc.mass.edu
END:VEVENT
BEGIN:VEVENT
DTSTART;TZID=America/New_York:20251124T150000
DTEND;TZID=America/New_York:20251124T170000
DTSTAMP:20260424T000739
CREATED:20251117T180715Z
LAST-MODIFIED:20251117T180715Z
UID:10011264-1763996400-1764003600@necc.edu
SUMMARY:3rd Annual Stuff a Cruiser - Lawrence Campus
DESCRIPTION:The NECC Police Department will be hosting our 3rd Annual Stuff a Cruiser event. Please donate new\, unwrapped toys for a child in need. Gift cards to Target\, Walmart\, Market Basket\, or gas cards are always welcome.  \nDonors will be entered into a raffle to win a pair of Boston sports tickets (1 entry per person) \nYou can donate gifts on Nov 24\, 25 and 26 as well as Dec 1 and 2 from 10a-12p and 3p-5p\, at the Lawrence Campus\, 414 Common St\, Public Safety Desk in the Lobby. \n Print View
URL:https://necc.edu/event/3rd-annual-stuff-a-cruiser-lawrence-campus/2025-11-24/2/
LOCATION:MA
CATEGORIES:Community,Home Page Events
END:VEVENT
END:VCALENDAR