BEGIN:VCALENDAR
VERSION:2.0
PRODID:-//Northern Essex CC - ECPv6.15.12//NONSGML v1.0//EN
CALSCALE:GREGORIAN
METHOD:PUBLISH
X-ORIGINAL-URL:https://necc.edu
X-WR-CALDESC:Events for Northern Essex CC
REFRESH-INTERVAL;VALUE=DURATION:PT1H
X-Robots-Tag:noindex
X-PUBLISHED-TTL:PT1H
BEGIN:VTIMEZONE
TZID:America/New_York
BEGIN:DAYLIGHT
TZOFFSETFROM:-0500
TZOFFSETTO:-0400
TZNAME:EDT
DTSTART:20240310T070000
END:DAYLIGHT
BEGIN:STANDARD
TZOFFSETFROM:-0400
TZOFFSETTO:-0500
TZNAME:EST
DTSTART:20241103T060000
END:STANDARD
BEGIN:DAYLIGHT
TZOFFSETFROM:-0500
TZOFFSETTO:-0400
TZNAME:EDT
DTSTART:20250309T070000
END:DAYLIGHT
BEGIN:STANDARD
TZOFFSETFROM:-0400
TZOFFSETTO:-0500
TZNAME:EST
DTSTART:20251102T060000
END:STANDARD
BEGIN:DAYLIGHT
TZOFFSETFROM:-0500
TZOFFSETTO:-0400
TZNAME:EDT
DTSTART:20260308T070000
END:DAYLIGHT
BEGIN:STANDARD
TZOFFSETFROM:-0400
TZOFFSETTO:-0500
TZNAME:EST
DTSTART:20261101T060000
END:STANDARD
BEGIN:DAYLIGHT
TZOFFSETFROM:-0500
TZOFFSETTO:-0400
TZNAME:EDT
DTSTART:20270314T070000
END:DAYLIGHT
BEGIN:STANDARD
TZOFFSETFROM:-0400
TZOFFSETTO:-0500
TZNAME:EST
DTSTART:20271107T060000
END:STANDARD
END:VTIMEZONE
BEGIN:VEVENT
DTSTART;VALUE=DATE:20251124
DTEND;VALUE=DATE:20260110
DTSTAMP:20260420T101212
CREATED:20251119T181117Z
LAST-MODIFIED:20251120T163942Z
UID:10011274-1763942400-1768003199@necc.edu
SUMMARY:Spring NECC Foundation Scholarship Application
DESCRIPTION:The Spring NECC Foundation Scholarship application will be available online from November 24\, 2025 until January 9\, 2026 for the Spring 2026 semester only. This application is only used if there are additional funds remaining for the Academic year from the NECC General Scholarship. This opportunity is available to you through NECC’s Office of Institutional Advancement. \n  \nClick here for more information \n Print View
URL:https://necc.edu/event/spring-necc-foundation-scholarship-application/
CATEGORIES:Student Life
END:VEVENT
BEGIN:VEVENT
DTSTART;VALUE=DATE:20251225
DTEND;VALUE=DATE:20260102
DTSTAMP:20260420T101212
CREATED:20250113T033559Z
LAST-MODIFIED:20260101T230457Z
UID:10009051-1766620800-1767311999@necc.edu
SUMMARY:College closed for energy conservation
DESCRIPTION:Print View
URL:https://necc.edu/event/college-closed-for-energy-conservation-2/
CATEGORIES:Academic Calendar
END:VEVENT
BEGIN:VEVENT
DTSTART;VALUE=DATE:20260101
DTEND;VALUE=DATE:20260102
DTSTAMP:20260420T101212
CREATED:20250113T033600Z
LAST-MODIFIED:20260101T230457Z
UID:10009053-1767225600-1767311999@necc.edu
SUMMARY:New Year's Day (College closed)
DESCRIPTION:Print View
URL:https://necc.edu/event/new-years-day-college-closed-2/
CATEGORIES:Academic Calendar
END:VEVENT
BEGIN:VEVENT
DTSTART;TZID=America/New_York:20260101T100000
DTEND;TZID=America/New_York:20260101T120000
DTSTAMP:20260420T101212
CREATED:20250929T193026Z
LAST-MODIFIED:20250929T193133Z
UID:10010951-1767261600-1767268800@necc.edu
SUMMARY:College Systems Trainings
DESCRIPTION:Our College Systems Trainings are designed to support all employees by providing regular onboarding and refresher sessions on the key college systems you use every day. Whether you’re new or experienced\, we highly encourage you to participate as needed. \nThese trainings are held Tuesdays and Thursdays from 10am–12pm in the C206B-CPD Computer Lab at the Haverhill Campus. \n  \nPlease note\, the facilitator may adjust the training format or cancel sessions based on registration numbers to ensure the best experience for everyone. \n  \nTo learn more and register\, please click HERE. \n Print View
URL:https://necc.edu/event/college-systems-trainings-2/2026-01-01/
LOCATION:Haverhill Campus\, 100 Elliott St\, Haverhill\, MA\, United States
CATEGORIES:Professional Development
GEO:42.797649;-71.05113
X-APPLE-STRUCTURED-LOCATION;VALUE=URI;X-ADDRESS=Haverhill Campus 100 Elliott St Haverhill MA United States;X-APPLE-RADIUS=500;X-TITLE=100 Elliott St:geo:-71.05113,42.797649
END:VEVENT
END:VCALENDAR