BEGIN:VCALENDAR
VERSION:2.0
PRODID:-//Northern Essex CC - ECPv6.15.12//NONSGML v1.0//EN
CALSCALE:GREGORIAN
METHOD:PUBLISH
X-ORIGINAL-URL:https://necc.edu
X-WR-CALDESC:Events for Northern Essex CC
REFRESH-INTERVAL;VALUE=DURATION:PT1H
X-Robots-Tag:noindex
X-PUBLISHED-TTL:PT1H
BEGIN:VTIMEZONE
TZID:America/New_York
BEGIN:DAYLIGHT
TZOFFSETFROM:-0500
TZOFFSETTO:-0400
TZNAME:EDT
DTSTART:20250309T070000
END:DAYLIGHT
BEGIN:STANDARD
TZOFFSETFROM:-0400
TZOFFSETTO:-0500
TZNAME:EST
DTSTART:20251102T060000
END:STANDARD
BEGIN:DAYLIGHT
TZOFFSETFROM:-0500
TZOFFSETTO:-0400
TZNAME:EDT
DTSTART:20260308T070000
END:DAYLIGHT
BEGIN:STANDARD
TZOFFSETFROM:-0400
TZOFFSETTO:-0500
TZNAME:EST
DTSTART:20261101T060000
END:STANDARD
BEGIN:DAYLIGHT
TZOFFSETFROM:-0500
TZOFFSETTO:-0400
TZNAME:EDT
DTSTART:20270314T070000
END:DAYLIGHT
BEGIN:STANDARD
TZOFFSETFROM:-0400
TZOFFSETTO:-0500
TZNAME:EST
DTSTART:20271107T060000
END:STANDARD
END:VTIMEZONE
BEGIN:VEVENT
DTSTART;VALUE=DATE:20260105
DTEND;VALUE=DATE:20260131
DTSTAMP:20260424T062701
CREATED:20250413T040818Z
LAST-MODIFIED:20260130T233356Z
UID:10010453-1767571200-1769817599@necc.edu
SUMMARY:Winter Intersession
DESCRIPTION:Print View
URL:https://necc.edu/event/winter-intersession/
LOCATION:MA
CATEGORIES:Academic Calendar
END:VEVENT
BEGIN:VEVENT
DTSTART;VALUE=DATE:20260113
DTEND;VALUE=DATE:20260207
DTSTAMP:20260424T062701
CREATED:20250413T040812Z
LAST-MODIFIED:20260210T150943Z
UID:10010445-1768262400-1770422399@necc.edu
SUMMARY:Book voucher period for Full Semester and Session I classes
DESCRIPTION:Print View
URL:https://necc.edu/event/book-voucher-period-for-full-semester-and-session-i-classes-3/
LOCATION:MA
CATEGORIES:Academic Calendar
END:VEVENT
BEGIN:VEVENT
DTSTART;VALUE=DATE:20260113
DTEND;VALUE=DATE:20260211
DTSTAMP:20260424T062701
CREATED:20260109T194204Z
LAST-MODIFIED:20260109T194204Z
UID:10011337-1768262400-1770767999@necc.edu
SUMMARY:NECC Internship Stipend | Spring 2026 Applications
DESCRIPTION:Are you a current student doing an internship for course credit this spring semester? Consider applying for a stipend! \nNorthern Essex Community College is providing stipends to assist students completing a for-credit\, unpaid or underpaid internship\, or other experiential learning. This is intended to help alleviate the cost of expenses and the reduced ability to work while completing this academic experience. We have limited stipends available and anticipate a competitive application pool. Practicums and clinicals could be considered eligible for this stipend; however\, some programs have external accreditation restrictions that prohibit them from receiving payment for experiential learning hours required for licensure (e.g.\, Respiratory Care\, Sleep Technologist). \nApplications will be accepted from January 13th until February 10th at 11:59 pm. \nVisit this link to review eligibility criteria\, guidelines\, and apply. \n  \n Print View
URL:https://necc.edu/event/necc-internship-stipend-spring-2026-applications/
LOCATION:MA
CATEGORIES:Home Page Events
ORGANIZER;CN="Career Services":MAILTO:kyeatonhromada@necc.mass.edu
END:VEVENT
BEGIN:VEVENT
DTSTART;VALUE=DATE:20260121
DTEND;VALUE=DATE:20260122
DTSTAMP:20260424T062701
CREATED:20250413T040813Z
LAST-MODIFIED:20260121T230351Z
UID:10010448-1768953600-1769039999@necc.edu
SUMMARY:Classes begin for Spring Full Semester and Session I classes
DESCRIPTION:Print View
URL:https://necc.edu/event/classes-begin-for-spring-full-semester-and-session-i-classes/
LOCATION:MA
CATEGORIES:Academic Calendar
END:VEVENT
BEGIN:VEVENT
DTSTART;VALUE=DATE:20260121
DTEND;VALUE=DATE:20260127
DTSTAMP:20260424T062701
CREATED:20250413T040817Z
LAST-MODIFIED:20260126T233644Z
UID:10010450-1768953600-1769471999@necc.edu
SUMMARY:Add/drop period for Session I classes
DESCRIPTION:To receive a full refund for Session I\, classes must be dropped by the close of business January 26. See Student Affairs Hours and Refund Policy \n Print View
URL:https://necc.edu/event/add-drop-period-for-session-i-classes/
LOCATION:MA
CATEGORIES:Academic Calendar
END:VEVENT
BEGIN:VEVENT
DTSTART;VALUE=DATE:20260121
DTEND;VALUE=DATE:20260204
DTSTAMP:20260424T062701
CREATED:20250413T040816Z
LAST-MODIFIED:20260203T230457Z
UID:10010449-1768953600-1770163199@necc.edu
SUMMARY:Add/drop period for Full Semester and Session I classes
DESCRIPTION:To receive a full refund for Full Semester\, classes must be dropped by the close of business February 3. See Student Affairs Hours and Refund Policy \n Print View
URL:https://necc.edu/event/add-drop-period-for-full-semester-classes-2/
LOCATION:MA
CATEGORIES:Academic Calendar
END:VEVENT
BEGIN:VEVENT
DTSTART;TZID=America/New_York:20260121T080000
DTEND;TZID=America/New_York:20260121T183000
DTSTAMP:20260424T062701
CREATED:20260108T151359Z
LAST-MODIFIED:20260114T210045Z
UID:10011320-1768982400-1769020200@necc.edu
SUMMARY:WOW! Weeks of Welcome Tabling
DESCRIPTION:Kick off the semester with Weeks of Welcome! Visit a tabling location in the lobby of select academic buildings on either campus to connect with staff\, faculty\, and peer mentors. Ask questions\, get help finding classes\, learn about campus resources\, and grab some free swag. Six locations across both campuses! \nLAWRENCE \n\nDimitry Building (L) Atrium\nEl Hefni (LC) First Floor Lobby\nAmesbury Street (LA) First Floor Lobby\n\nHAVERHILL \n\nSpurk Building (C) First Floor Lobby\nStudent Center (SC) First Floor Lobby\nTechnology Center Building (TC) First Floor Lobby\n\n Print View
URL:https://necc.edu/event/wow-weeks-of-welcome-tabling/2026-01-21/
LOCATION:All Campuses\, Lawrence\, MA\, United States
CATEGORIES:Home Page Events,Student Activities,Student Life
ORGANIZER;CN="Student Life":MAILTO:studentlife@necc.mass.edu
GEO:42.709053;-71.169601
END:VEVENT
BEGIN:VEVENT
DTSTART;TZID=America/New_York:20260121T123000
DTEND;TZID=America/New_York:20260121T133000
DTSTAMP:20260424T062701
CREATED:20260108T002542Z
LAST-MODIFIED:20260108T002543Z
UID:10011318-1768998600-1769002200@necc.edu
SUMMARY:Administration and Finance Open Forum
DESCRIPTION:Administration and Finance Open Forum\nWith Michael McCarthy\, NECC’s Executive Vice President\, CFO/COO\nThe Open Forum is an opportunity for any of NECC’s Faculty and Staff to bring questions for Mike and to participate in discussions on how the school operates behind the scenes within areas such as Finance\, IT\, Public Safety and more.\nTime: \n12:30-1:30PM \nDate:\nWednesday\, January 21\, 2026 \nLocations: \nHaverhill Campus\, TC103A (video conferenced to Lawrence L244) \nWe welcome requests for sign language interpreting and other access requests (i.e. Computer Aided Real Time (CART)\, food allergies\, etc.). Please reach out to Kathleen Teixeira (kteixeira@necc.mass.edu or 978-556-3892) for requests\, questions or event information. \n  \n Print View
URL:https://necc.edu/event/administration-and-finance-open-forum/
LOCATION:Haverhill Campus\, 100 Elliott St\, Haverhill\, MA\, United States
CATEGORIES:Home Page Events
ORGANIZER;CN="Administration & Finance":MAILTO:kteixeira@necc.mass.edu
GEO:42.797649;-71.05113
X-APPLE-STRUCTURED-LOCATION;VALUE=URI;X-ADDRESS=Haverhill Campus 100 Elliott St Haverhill MA United States;X-APPLE-RADIUS=500;X-TITLE=100 Elliott St:geo:-71.05113,42.797649
END:VEVENT
BEGIN:VEVENT
DTSTART;TZID=America/New_York:20260121T160000
DTEND;TZID=America/New_York:20260121T180000
DTSTAMP:20260424T062701
CREATED:20250211T170820Z
LAST-MODIFIED:20260406T151312Z
UID:10009440-1769011200-1769018400@necc.edu
SUMMARY:Enrollment Support Extended Hours
DESCRIPTION:Recruitment counselors available every Wednesday to assist with FAFSA\, guided self-placement and orientation \n Print View
URL:https://necc.edu/event/haverhill-campus-after-hours-enrollment-support/2026-01-21/
LOCATION:Haverhill Campus\, 100 Elliott St\, Haverhill\, MA\, United States
CATEGORIES:Info Sessions and Tours
ORGANIZER;CN="Admissions":MAILTO:enrollmentservices@necc.mass.edu
GEO:42.797649;-71.05113
X-APPLE-STRUCTURED-LOCATION;VALUE=URI;X-ADDRESS=Haverhill Campus 100 Elliott St Haverhill MA United States;X-APPLE-RADIUS=500;X-TITLE=100 Elliott St:geo:-71.05113,42.797649
END:VEVENT
END:VCALENDAR