BEGIN:VCALENDAR
VERSION:2.0
PRODID:-//Northern Essex CC - ECPv6.15.12//NONSGML v1.0//EN
CALSCALE:GREGORIAN
METHOD:PUBLISH
X-WR-CALNAME:Northern Essex CC
X-ORIGINAL-URL:https://necc.edu
X-WR-CALDESC:Events for Northern Essex CC
REFRESH-INTERVAL;VALUE=DURATION:PT1H
X-Robots-Tag:noindex
X-PUBLISHED-TTL:PT1H
BEGIN:VTIMEZONE
TZID:America/New_York
BEGIN:DAYLIGHT
TZOFFSETFROM:-0500
TZOFFSETTO:-0400
TZNAME:EDT
DTSTART:20250309T070000
END:DAYLIGHT
BEGIN:STANDARD
TZOFFSETFROM:-0400
TZOFFSETTO:-0500
TZNAME:EST
DTSTART:20251102T060000
END:STANDARD
BEGIN:DAYLIGHT
TZOFFSETFROM:-0500
TZOFFSETTO:-0400
TZNAME:EDT
DTSTART:20260308T070000
END:DAYLIGHT
BEGIN:STANDARD
TZOFFSETFROM:-0400
TZOFFSETTO:-0500
TZNAME:EST
DTSTART:20261101T060000
END:STANDARD
BEGIN:DAYLIGHT
TZOFFSETFROM:-0500
TZOFFSETTO:-0400
TZNAME:EDT
DTSTART:20270314T070000
END:DAYLIGHT
BEGIN:STANDARD
TZOFFSETFROM:-0400
TZOFFSETTO:-0500
TZNAME:EST
DTSTART:20271107T060000
END:STANDARD
END:VTIMEZONE
BEGIN:VEVENT
DTSTART;VALUE=DATE:20260113
DTEND;VALUE=DATE:20260207
DTSTAMP:20260420T083949
CREATED:20250413T040812Z
LAST-MODIFIED:20260210T150943Z
UID:10010445-1768262400-1770422399@necc.edu
SUMMARY:Book voucher period for Full Semester and Session I classes
DESCRIPTION:Print View
URL:https://necc.edu/event/book-voucher-period-for-full-semester-and-session-i-classes-3/
CATEGORIES:Academic Calendar
END:VEVENT
BEGIN:VEVENT
DTSTART;VALUE=DATE:20260113
DTEND;VALUE=DATE:20260211
DTSTAMP:20260420T083949
CREATED:20260109T194204Z
LAST-MODIFIED:20260109T194204Z
UID:10011337-1768262400-1770767999@necc.edu
SUMMARY:NECC Internship Stipend | Spring 2026 Applications
DESCRIPTION:Are you a current student doing an internship for course credit this spring semester? Consider applying for a stipend! \nNorthern Essex Community College is providing stipends to assist students completing a for-credit\, unpaid or underpaid internship\, or other experiential learning. This is intended to help alleviate the cost of expenses and the reduced ability to work while completing this academic experience. We have limited stipends available and anticipate a competitive application pool. Practicums and clinicals could be considered eligible for this stipend; however\, some programs have external accreditation restrictions that prohibit them from receiving payment for experiential learning hours required for licensure (e.g.\, Respiratory Care\, Sleep Technologist). \nApplications will be accepted from January 13th until February 10th at 11:59 pm. \nVisit this link to review eligibility criteria\, guidelines\, and apply. \n  \n Print View
URL:https://necc.edu/event/necc-internship-stipend-spring-2026-applications/
CATEGORIES:Home Page Events
ORGANIZER;CN="Career Services":MAILTO:kyeatonhromada@necc.mass.edu
END:VEVENT
BEGIN:VEVENT
DTSTART;VALUE=DATE:20260129
DTEND;VALUE=DATE:20260208
DTSTAMP:20260420T083949
CREATED:20250413T040822Z
LAST-MODIFIED:20260207T233320Z
UID:10010460-1769644800-1770508799@necc.edu
SUMMARY:No Show period for Full Semester and Session I classes
DESCRIPTION:No Show (NS) roster due by noon on Feb 7th for Full Semester classes \n Print View
URL:https://necc.edu/event/no-show-period-for-full-semester-classes/
CATEGORIES:Academic Calendar
END:VEVENT
BEGIN:VEVENT
DTSTART;TZID=America/New_York:20260201T080000
DTEND;TZID=America/New_York:20260301T170000
DTSTAMP:20260420T083949
CREATED:20260109T190314Z
LAST-MODIFIED:20260130T145336Z
UID:10011335-1769932800-1772384400@necc.edu
SUMMARY:NECC Library Celebrates Black History Month
DESCRIPTION:Celebrate Black History Month\, Sunday\, February 1\, 2026 – Sunday\, March 1\, by reading a book from our curated booklists that highlights Black life\, history\, and culture across generations. This year’s theme\, “A Century of Black History Commemorations\,” marks the 100th anniversary of the national observance of Black History Month.  Visit Bentley Library – Haverhill Campus or the Lawrence Campus Library (L-007) to explore stories that inform\, inspire\, and encourage reflection throughout the month: NECC Reads Black History Month\, and NECC Reads Black History Month Picture Books. \nPlease contact Susan Leonardi for any questions. \n Print View
URL:https://necc.edu/event/necc-library-celebrates-black-history-month/
CATEGORIES:Liberal Arts Center,Library,Student Activities,Student Life,The Commons
ORGANIZER;CN="Susan Leonardi":MAILTO:sleonardi@necc.mass.edu
END:VEVENT
BEGIN:VEVENT
DTSTART;VALUE=DATE:20260202
DTEND;VALUE=DATE:20260513
DTSTAMP:20260420T083949
CREATED:20260120T184156Z
LAST-MODIFIED:20260120T184320Z
UID:10011380-1769990400-1778630399@necc.edu
SUMMARY:2026-2027 General Scholarship
DESCRIPTION:Apply through the NECC Scholarship portal here: https://necc.academicworks.com/ \nDates: February 2\, 2026 until May 12\, 2026 \nhttps://www.necc.mass.edu/admissions/tuition/financial-aid/scholarships/necc-general-scholarships/ \nNECC General Scholarship application has over 42 scholarship opportunities\, that are made possible by the generosity of individual donors\, businesses\, corporations\, and foundations\, all of whom believe that all students should have access to a high quality education. They are available to you through NECC’s Office of Institutional Advancement.  \n Print View
URL:https://necc.edu/event/2026-2027-general-scholarship/
CATEGORIES:Student Life
END:VEVENT
BEGIN:VEVENT
DTSTART;VALUE=DATE:20260204
DTEND;VALUE=DATE:20260205
DTSTAMP:20260420T083949
CREATED:20250413T040819Z
LAST-MODIFIED:20260204T225002Z
UID:10010455-1770163200-1770249599@necc.edu
SUMMARY:Withdrawal period begins for Full Semester and Session I classes
DESCRIPTION:Print View
URL:https://necc.edu/event/withdrawal-period-begins-for-full-semester-classes-3/
CATEGORIES:Academic Calendar
END:VEVENT
BEGIN:VEVENT
DTSTART;TZID=America/New_York:20260204T133000
DTEND;TZID=America/New_York:20260204T150000
DTSTAMP:20260420T083949
CREATED:20260108T153148Z
LAST-MODIFIED:20260108T153148Z
UID:10011324-1770211800-1770217200@necc.edu
SUMMARY:Poppin’ Chats: Pop Your Goals
DESCRIPTION:Kick off the month with popcorn and a little motivation. Stop by to grab fresh popcorn\, connect with Student Life staff and peers\, and jot down a goal or intention for the semester. Keep it for yourself or add it to our community board. No pressure\, just a quick pop-in. \n  \nC Building Lobby \n1:30 PM – 3:00 PM \n Print View
URL:https://necc.edu/event/poppin-chats-pop-your-goals/
LOCATION:Haverhill Campus\, 100 Elliott St\, Haverhill\, MA\, United States
CATEGORIES:Home Page Events,Student Activities,Student Life
ORGANIZER;CN="Student Life":MAILTO:studentlife@necc.mass.edu
GEO:42.797649;-71.05113
X-APPLE-STRUCTURED-LOCATION;VALUE=URI;X-ADDRESS=Haverhill Campus 100 Elliott St Haverhill MA United States;X-APPLE-RADIUS=500;X-TITLE=100 Elliott St:geo:-71.05113,42.797649
END:VEVENT
BEGIN:VEVENT
DTSTART;TZID=America/New_York:20260204T160000
DTEND;TZID=America/New_York:20260204T180000
DTSTAMP:20260420T083949
CREATED:20250211T170820Z
LAST-MODIFIED:20260406T151312Z
UID:10009442-1770220800-1770228000@necc.edu
SUMMARY:Enrollment Support Extended Hours
DESCRIPTION:Recruitment counselors available every Wednesday to assist with FAFSA\, guided self-placement and orientation \n Print View
URL:https://necc.edu/event/haverhill-campus-after-hours-enrollment-support/2026-02-04/
LOCATION:Haverhill Campus\, 100 Elliott St\, Haverhill\, MA\, United States
CATEGORIES:Info Sessions and Tours
ORGANIZER;CN="Admissions":MAILTO:enrollmentservices@necc.mass.edu
GEO:42.797649;-71.05113
X-APPLE-STRUCTURED-LOCATION;VALUE=URI;X-ADDRESS=Haverhill Campus 100 Elliott St Haverhill MA United States;X-APPLE-RADIUS=500;X-TITLE=100 Elliott St:geo:-71.05113,42.797649
END:VEVENT
END:VCALENDAR