BEGIN:VCALENDAR
VERSION:2.0
PRODID:-//Northern Essex CC - ECPv6.15.12//NONSGML v1.0//EN
CALSCALE:GREGORIAN
METHOD:PUBLISH
X-WR-CALNAME:Northern Essex CC
X-ORIGINAL-URL:https://necc.edu
X-WR-CALDESC:Events for Northern Essex CC
REFRESH-INTERVAL;VALUE=DURATION:PT1H
X-Robots-Tag:noindex
X-PUBLISHED-TTL:PT1H
BEGIN:VTIMEZONE
TZID:America/New_York
BEGIN:DAYLIGHT
TZOFFSETFROM:-0500
TZOFFSETTO:-0400
TZNAME:EDT
DTSTART:20240310T070000
END:DAYLIGHT
BEGIN:STANDARD
TZOFFSETFROM:-0400
TZOFFSETTO:-0500
TZNAME:EST
DTSTART:20241103T060000
END:STANDARD
BEGIN:DAYLIGHT
TZOFFSETFROM:-0500
TZOFFSETTO:-0400
TZNAME:EDT
DTSTART:20250309T070000
END:DAYLIGHT
BEGIN:STANDARD
TZOFFSETFROM:-0400
TZOFFSETTO:-0500
TZNAME:EST
DTSTART:20251102T060000
END:STANDARD
BEGIN:DAYLIGHT
TZOFFSETFROM:-0500
TZOFFSETTO:-0400
TZNAME:EDT
DTSTART:20260308T070000
END:DAYLIGHT
BEGIN:STANDARD
TZOFFSETFROM:-0400
TZOFFSETTO:-0500
TZNAME:EST
DTSTART:20261101T060000
END:STANDARD
BEGIN:DAYLIGHT
TZOFFSETFROM:-0500
TZOFFSETTO:-0400
TZNAME:EDT
DTSTART:20270314T070000
END:DAYLIGHT
BEGIN:STANDARD
TZOFFSETFROM:-0400
TZOFFSETTO:-0500
TZNAME:EST
DTSTART:20271107T060000
END:STANDARD
END:VTIMEZONE
BEGIN:VEVENT
DTSTART;TZID=America/New_York:20260408T180000
DTEND;TZID=America/New_York:20260408T210000
DTSTAMP:20260422T203025
CREATED:20260327T153611Z
LAST-MODIFIED:20260406T184346Z
UID:10011586-1775671200-1775682000@necc.edu
SUMMARY:NJCAA Men's Basketball Championship Celebration
DESCRIPTION:You’re Invited! \nCome celebrate an incredible achievement as our Men’s Basketball team brings home the national championship! \nWednesday\, April 8 \n6:00 PM \nHaverhill Campus Gym \nThe evening will include: \n* Speeches\, including remarks from President Glenn \n* Jersey framing ceremony for our players \n* Special appearances from alumni players \n* The official championship banner unveiling \nGuests are invited to stay\, connect\, and celebrate with the team and community. Let’s come together to honor our Knights and this historic win—see you there! \n Print View
URL:https://necc.edu/event/njcaa-mens-basketball-championship-celebration/
LOCATION:Haverhill Campus\, 100 Elliott St\, Haverhill\, MA\, United States
CATEGORIES:Home Page Events
ORGANIZER;CN="Administration & Finance":MAILTO:kteixeira@necc.mass.edu
GEO:42.797649;-71.05113
X-APPLE-STRUCTURED-LOCATION;VALUE=URI;X-ADDRESS=Haverhill Campus 100 Elliott St Haverhill MA United States;X-APPLE-RADIUS=500;X-TITLE=100 Elliott St:geo:-71.05113,42.797649
END:VEVENT
BEGIN:VEVENT
DTSTART;TZID=America/New_York:20260121T123000
DTEND;TZID=America/New_York:20260121T133000
DTSTAMP:20260422T203025
CREATED:20260108T002542Z
LAST-MODIFIED:20260108T002543Z
UID:10011318-1768998600-1769002200@necc.edu
SUMMARY:Administration and Finance Open Forum
DESCRIPTION:Administration and Finance Open Forum\nWith Michael McCarthy\, NECC’s Executive Vice President\, CFO/COO\nThe Open Forum is an opportunity for any of NECC’s Faculty and Staff to bring questions for Mike and to participate in discussions on how the school operates behind the scenes within areas such as Finance\, IT\, Public Safety and more.\nTime: \n12:30-1:30PM \nDate:\nWednesday\, January 21\, 2026 \nLocations: \nHaverhill Campus\, TC103A (video conferenced to Lawrence L244) \nWe welcome requests for sign language interpreting and other access requests (i.e. Computer Aided Real Time (CART)\, food allergies\, etc.). Please reach out to Kathleen Teixeira (kteixeira@necc.mass.edu or 978-556-3892) for requests\, questions or event information. \n  \n Print View
URL:https://necc.edu/event/administration-and-finance-open-forum/
LOCATION:Haverhill Campus\, 100 Elliott St\, Haverhill\, MA\, United States
CATEGORIES:Home Page Events
ORGANIZER;CN="Administration & Finance":MAILTO:kteixeira@necc.mass.edu
GEO:42.797649;-71.05113
X-APPLE-STRUCTURED-LOCATION;VALUE=URI;X-ADDRESS=Haverhill Campus 100 Elliott St Haverhill MA United States;X-APPLE-RADIUS=500;X-TITLE=100 Elliott St:geo:-71.05113,42.797649
END:VEVENT
BEGIN:VEVENT
DTSTART;TZID=America/New_York:20251209T110000
DTEND;TZID=America/New_York:20251209T140000
DTSTAMP:20260422T203025
CREATED:20250813T152518Z
LAST-MODIFIED:20250813T152518Z
UID:10010743-1765278000-1765288800@necc.edu
SUMMARY:UTEC Food Truck - Lawrence Campus
DESCRIPTION:🚚 UTEC Food Truck is Back!\nWe’re excited to welcome the UTEC Food Truck to campus every other Tuesday this Fall Semester! Come by for delicious\, freshly made meals and support a great cause—UTEC’s mission to help young adults reach their full potential. Don’t miss it! \n Print View
URL:https://necc.edu/event/utec-food-truck-lawrence-campus/2025-12-09/
LOCATION:Lawrence Campus\, Lawrence\, MA\, United States
CATEGORIES:Home Page Events
ORGANIZER;CN="Administration & Finance":MAILTO:kteixeira@necc.mass.edu
GEO:42.70734;-71.161052
END:VEVENT
BEGIN:VEVENT
DTSTART;TZID=America/New_York:20251202T110000
DTEND;TZID=America/New_York:20251202T140000
DTSTAMP:20260422T203025
CREATED:20250813T145721Z
LAST-MODIFIED:20250813T151157Z
UID:10010710-1764673200-1764684000@necc.edu
SUMMARY:UTEC Food Truck - Haverhill Campus
DESCRIPTION:🚚 UTEC Food Truck is Back!\nWe’re excited to welcome back the UTEC Food Truck to campus every other Tuesday this Fall Semester! Come by for delicious\, freshly made meals and support a great cause—UTEC’s mission to help young adults reach their full potential. Don’t miss it! \n Print View
URL:https://necc.edu/event/utec-food-truck-haverhill-campus/2025-12-02/
LOCATION:Haverhill Campus\, 100 Elliott St\, Haverhill\, MA\, United States
CATEGORIES:Home Page Events
ORGANIZER;CN="Administration & Finance":MAILTO:kteixeira@necc.mass.edu
GEO:42.797649;-71.05113
X-APPLE-STRUCTURED-LOCATION;VALUE=URI;X-ADDRESS=Haverhill Campus 100 Elliott St Haverhill MA United States;X-APPLE-RADIUS=500;X-TITLE=100 Elliott St:geo:-71.05113,42.797649
END:VEVENT
BEGIN:VEVENT
DTSTART;TZID=America/New_York:20251125T110000
DTEND;TZID=America/New_York:20251125T140000
DTSTAMP:20260422T203026
CREATED:20250813T152518Z
LAST-MODIFIED:20250813T152518Z
UID:10010742-1764068400-1764079200@necc.edu
SUMMARY:UTEC Food Truck - Lawrence Campus
DESCRIPTION:🚚 UTEC Food Truck is Back!\nWe’re excited to welcome the UTEC Food Truck to campus every other Tuesday this Fall Semester! Come by for delicious\, freshly made meals and support a great cause—UTEC’s mission to help young adults reach their full potential. Don’t miss it! \n Print View
URL:https://necc.edu/event/utec-food-truck-lawrence-campus/2025-11-25/
LOCATION:Lawrence Campus\, Lawrence\, MA\, United States
CATEGORIES:Home Page Events
ORGANIZER;CN="Administration & Finance":MAILTO:kteixeira@necc.mass.edu
GEO:42.70734;-71.161052
END:VEVENT
BEGIN:VEVENT
DTSTART;TZID=America/New_York:20251118T110000
DTEND;TZID=America/New_York:20251118T140000
DTSTAMP:20260422T203026
CREATED:20250813T145721Z
LAST-MODIFIED:20250813T151157Z
UID:10010709-1763463600-1763474400@necc.edu
SUMMARY:UTEC Food Truck - Haverhill Campus
DESCRIPTION:🚚 UTEC Food Truck is Back!\nWe’re excited to welcome back the UTEC Food Truck to campus every other Tuesday this Fall Semester! Come by for delicious\, freshly made meals and support a great cause—UTEC’s mission to help young adults reach their full potential. Don’t miss it! \n Print View
URL:https://necc.edu/event/utec-food-truck-haverhill-campus/2025-11-18/
LOCATION:Haverhill Campus\, 100 Elliott St\, Haverhill\, MA\, United States
CATEGORIES:Home Page Events
ORGANIZER;CN="Administration & Finance":MAILTO:kteixeira@necc.mass.edu
GEO:42.797649;-71.05113
X-APPLE-STRUCTURED-LOCATION;VALUE=URI;X-ADDRESS=Haverhill Campus 100 Elliott St Haverhill MA United States;X-APPLE-RADIUS=500;X-TITLE=100 Elliott St:geo:-71.05113,42.797649
END:VEVENT
BEGIN:VEVENT
DTSTART;TZID=America/New_York:20251111T110000
DTEND;TZID=America/New_York:20251111T140000
DTSTAMP:20260422T203026
CREATED:20250813T152518Z
LAST-MODIFIED:20250813T152518Z
UID:10010741-1762858800-1762869600@necc.edu
SUMMARY:UTEC Food Truck - Lawrence Campus
DESCRIPTION:🚚 UTEC Food Truck is Back!\nWe’re excited to welcome the UTEC Food Truck to campus every other Tuesday this Fall Semester! Come by for delicious\, freshly made meals and support a great cause—UTEC’s mission to help young adults reach their full potential. Don’t miss it! \n Print View
URL:https://necc.edu/event/utec-food-truck-lawrence-campus/2025-11-11/
LOCATION:Lawrence Campus\, Lawrence\, MA\, United States
CATEGORIES:Home Page Events
ORGANIZER;CN="Administration & Finance":MAILTO:kteixeira@necc.mass.edu
GEO:42.70734;-71.161052
END:VEVENT
BEGIN:VEVENT
DTSTART;TZID=America/New_York:20251104T110000
DTEND;TZID=America/New_York:20251104T140000
DTSTAMP:20260422T203026
CREATED:20251031T173445Z
LAST-MODIFIED:20251031T173446Z
UID:10010708-1762254000-1762264800@necc.edu
SUMMARY:No UTEC Food Truck in Haverhill Campus on November 4
DESCRIPTION:The UTEC Food Truck will not be available on November 4. \nPlease check the Campus Dining page for most up to date schedule. \n Print View
URL:https://necc.edu/event/utec-food-truck-haverhill-campus-2/
LOCATION:Haverhill Campus\, 100 Elliott St\, Haverhill\, MA\, United States
CATEGORIES:Home Page Events
ORGANIZER;CN="Administration & Finance":MAILTO:kteixeira@necc.mass.edu
GEO:42.797649;-71.05113
X-APPLE-STRUCTURED-LOCATION;VALUE=URI;X-ADDRESS=Haverhill Campus 100 Elliott St Haverhill MA United States;X-APPLE-RADIUS=500;X-TITLE=100 Elliott St:geo:-71.05113,42.797649
END:VEVENT
BEGIN:VEVENT
DTSTART;TZID=America/New_York:20251028T110000
DTEND;TZID=America/New_York:20251028T140000
DTSTAMP:20260422T203026
CREATED:20250813T152518Z
LAST-MODIFIED:20250813T152518Z
UID:10010740-1761649200-1761660000@necc.edu
SUMMARY:UTEC Food Truck - Lawrence Campus
DESCRIPTION:🚚 UTEC Food Truck is Back!\nWe’re excited to welcome the UTEC Food Truck to campus every other Tuesday this Fall Semester! Come by for delicious\, freshly made meals and support a great cause—UTEC’s mission to help young adults reach their full potential. Don’t miss it! \n Print View
URL:https://necc.edu/event/utec-food-truck-lawrence-campus/2025-10-28/
LOCATION:Lawrence Campus\, Lawrence\, MA\, United States
CATEGORIES:Home Page Events
ORGANIZER;CN="Administration & Finance":MAILTO:kteixeira@necc.mass.edu
GEO:42.70734;-71.161052
END:VEVENT
BEGIN:VEVENT
DTSTART;TZID=America/New_York:20251021T110000
DTEND;TZID=America/New_York:20251021T140000
DTSTAMP:20260422T203026
CREATED:20250813T145721Z
LAST-MODIFIED:20250813T151157Z
UID:10010707-1761044400-1761055200@necc.edu
SUMMARY:UTEC Food Truck - Haverhill Campus
DESCRIPTION:🚚 UTEC Food Truck is Back!\nWe’re excited to welcome back the UTEC Food Truck to campus every other Tuesday this Fall Semester! Come by for delicious\, freshly made meals and support a great cause—UTEC’s mission to help young adults reach their full potential. Don’t miss it! \n Print View
URL:https://necc.edu/event/utec-food-truck-haverhill-campus/2025-10-21/
LOCATION:Haverhill Campus\, 100 Elliott St\, Haverhill\, MA\, United States
CATEGORIES:Home Page Events
ORGANIZER;CN="Administration & Finance":MAILTO:kteixeira@necc.mass.edu
GEO:42.797649;-71.05113
X-APPLE-STRUCTURED-LOCATION;VALUE=URI;X-ADDRESS=Haverhill Campus 100 Elliott St Haverhill MA United States;X-APPLE-RADIUS=500;X-TITLE=100 Elliott St:geo:-71.05113,42.797649
END:VEVENT
BEGIN:VEVENT
DTSTART;TZID=America/New_York:20251014T110000
DTEND;TZID=America/New_York:20251014T140000
DTSTAMP:20260422T203026
CREATED:20250813T152518Z
LAST-MODIFIED:20250813T152518Z
UID:10010739-1760439600-1760450400@necc.edu
SUMMARY:UTEC Food Truck - Lawrence Campus
DESCRIPTION:🚚 UTEC Food Truck is Back!\nWe’re excited to welcome the UTEC Food Truck to campus every other Tuesday this Fall Semester! Come by for delicious\, freshly made meals and support a great cause—UTEC’s mission to help young adults reach their full potential. Don’t miss it! \n Print View
URL:https://necc.edu/event/utec-food-truck-lawrence-campus/2025-10-14/
LOCATION:Lawrence Campus\, Lawrence\, MA\, United States
CATEGORIES:Home Page Events
ORGANIZER;CN="Administration & Finance":MAILTO:kteixeira@necc.mass.edu
GEO:42.70734;-71.161052
END:VEVENT
BEGIN:VEVENT
DTSTART;TZID=America/New_York:20251007T110000
DTEND;TZID=America/New_York:20251007T140000
DTSTAMP:20260422T203026
CREATED:20250813T145721Z
LAST-MODIFIED:20250813T151157Z
UID:10010706-1759834800-1759845600@necc.edu
SUMMARY:UTEC Food Truck - Haverhill Campus
DESCRIPTION:🚚 UTEC Food Truck is Back!\nWe’re excited to welcome back the UTEC Food Truck to campus every other Tuesday this Fall Semester! Come by for delicious\, freshly made meals and support a great cause—UTEC’s mission to help young adults reach their full potential. Don’t miss it! \n Print View
URL:https://necc.edu/event/utec-food-truck-haverhill-campus/2025-10-07/
LOCATION:Haverhill Campus\, 100 Elliott St\, Haverhill\, MA\, United States
CATEGORIES:Home Page Events
ORGANIZER;CN="Administration & Finance":MAILTO:kteixeira@necc.mass.edu
GEO:42.797649;-71.05113
X-APPLE-STRUCTURED-LOCATION;VALUE=URI;X-ADDRESS=Haverhill Campus 100 Elliott St Haverhill MA United States;X-APPLE-RADIUS=500;X-TITLE=100 Elliott St:geo:-71.05113,42.797649
END:VEVENT
BEGIN:VEVENT
DTSTART;TZID=America/New_York:20250930T110000
DTEND;TZID=America/New_York:20250930T140000
DTSTAMP:20260422T203026
CREATED:20250813T152518Z
LAST-MODIFIED:20250813T152518Z
UID:10010738-1759230000-1759240800@necc.edu
SUMMARY:UTEC Food Truck - Lawrence Campus
DESCRIPTION:🚚 UTEC Food Truck is Back!\nWe’re excited to welcome the UTEC Food Truck to campus every other Tuesday this Fall Semester! Come by for delicious\, freshly made meals and support a great cause—UTEC’s mission to help young adults reach their full potential. Don’t miss it! \n Print View
URL:https://necc.edu/event/utec-food-truck-lawrence-campus/2025-09-30/
LOCATION:Lawrence Campus\, Lawrence\, MA\, United States
CATEGORIES:Home Page Events
ORGANIZER;CN="Administration & Finance":MAILTO:kteixeira@necc.mass.edu
GEO:42.70734;-71.161052
END:VEVENT
BEGIN:VEVENT
DTSTART;TZID=America/New_York:20250923T110000
DTEND;TZID=America/New_York:20250923T140000
DTSTAMP:20260422T203026
CREATED:20250813T145721Z
LAST-MODIFIED:20250813T151157Z
UID:10010705-1758625200-1758636000@necc.edu
SUMMARY:UTEC Food Truck - Haverhill Campus
DESCRIPTION:🚚 UTEC Food Truck is Back!\nWe’re excited to welcome back the UTEC Food Truck to campus every other Tuesday this Fall Semester! Come by for delicious\, freshly made meals and support a great cause—UTEC’s mission to help young adults reach their full potential. Don’t miss it! \n Print View
URL:https://necc.edu/event/utec-food-truck-haverhill-campus/2025-09-23/
LOCATION:Haverhill Campus\, 100 Elliott St\, Haverhill\, MA\, United States
CATEGORIES:Home Page Events
ORGANIZER;CN="Administration & Finance":MAILTO:kteixeira@necc.mass.edu
GEO:42.797649;-71.05113
X-APPLE-STRUCTURED-LOCATION;VALUE=URI;X-ADDRESS=Haverhill Campus 100 Elliott St Haverhill MA United States;X-APPLE-RADIUS=500;X-TITLE=100 Elliott St:geo:-71.05113,42.797649
END:VEVENT
BEGIN:VEVENT
DTSTART;TZID=America/New_York:20250916T110000
DTEND;TZID=America/New_York:20250916T140000
DTSTAMP:20260422T203026
CREATED:20250813T152518Z
LAST-MODIFIED:20250813T152518Z
UID:10010737-1758020400-1758031200@necc.edu
SUMMARY:UTEC Food Truck - Lawrence Campus
DESCRIPTION:🚚 UTEC Food Truck is Back!\nWe’re excited to welcome the UTEC Food Truck to campus every other Tuesday this Fall Semester! Come by for delicious\, freshly made meals and support a great cause—UTEC’s mission to help young adults reach their full potential. Don’t miss it! \n Print View
URL:https://necc.edu/event/utec-food-truck-lawrence-campus/2025-09-16/
LOCATION:Lawrence Campus\, Lawrence\, MA\, United States
CATEGORIES:Home Page Events
ORGANIZER;CN="Administration & Finance":MAILTO:kteixeira@necc.mass.edu
GEO:42.70734;-71.161052
END:VEVENT
BEGIN:VEVENT
DTSTART;TZID=America/New_York:20250909T110000
DTEND;TZID=America/New_York:20250909T140000
DTSTAMP:20260422T203026
CREATED:20250813T145721Z
LAST-MODIFIED:20250813T151157Z
UID:10010704-1757415600-1757426400@necc.edu
SUMMARY:UTEC Food Truck - Haverhill Campus
DESCRIPTION:🚚 UTEC Food Truck is Back!\nWe’re excited to welcome back the UTEC Food Truck to campus every other Tuesday this Fall Semester! Come by for delicious\, freshly made meals and support a great cause—UTEC’s mission to help young adults reach their full potential. Don’t miss it! \n Print View
URL:https://necc.edu/event/utec-food-truck-haverhill-campus/2025-09-09/
LOCATION:Haverhill Campus\, 100 Elliott St\, Haverhill\, MA\, United States
CATEGORIES:Home Page Events
ORGANIZER;CN="Administration & Finance":MAILTO:kteixeira@necc.mass.edu
GEO:42.797649;-71.05113
X-APPLE-STRUCTURED-LOCATION;VALUE=URI;X-ADDRESS=Haverhill Campus 100 Elliott St Haverhill MA United States;X-APPLE-RADIUS=500;X-TITLE=100 Elliott St:geo:-71.05113,42.797649
END:VEVENT
BEGIN:VEVENT
DTSTART;VALUE=DATE:20250804
DTEND;VALUE=DATE:20250805
DTSTAMP:20260422T203026
CREATED:20250804T161636Z
LAST-MODIFIED:20250804T162005Z
UID:10010641-1754265600-1754351999@necc.edu
SUMMARY:Launch on NECC One - NECC Online Bookstore and Campus Store Information
DESCRIPTION:Please visit the following link to find the NEW NECC One page with NECC online bookstore and campus store information.  \nNECC One – Online Bookstore and Campus Store \n Print View
URL:https://necc.edu/event/launch-on-necc-one-necc-online-bookstore-and-campus-store-information/
LOCATION:Online\, United States
CATEGORIES:Home Page Events
ORGANIZER;CN="Administration & Finance":MAILTO:kteixeira@necc.mass.edu
END:VEVENT
BEGIN:VEVENT
DTSTART;TZID=America/New_York:20250506T123000
DTEND;TZID=America/New_York:20250506T133000
DTSTAMP:20260422T203026
CREATED:20250505T155835Z
LAST-MODIFIED:20250505T155835Z
UID:10010527-1746534600-1746538200@necc.edu
SUMMARY:Admin and Finance - Open Forum - Jones Architecture Update
DESCRIPTION:Print View
URL:https://necc.edu/event/admin-and-finance-open-forum-jones-architecture-update/
LOCATION:Haverhill Campus\, 100 Elliott St\, Haverhill\, MA\, United States
CATEGORIES:Home Page Events
ORGANIZER;CN="Administration & Finance":MAILTO:kteixeira@necc.mass.edu
GEO:42.797649;-71.05113
X-APPLE-STRUCTURED-LOCATION;VALUE=URI;X-ADDRESS=Haverhill Campus 100 Elliott St Haverhill MA United States;X-APPLE-RADIUS=500;X-TITLE=100 Elliott St:geo:-71.05113,42.797649
END:VEVENT
BEGIN:VEVENT
DTSTART;TZID=America/New_York:20250506T120000
DTEND;TZID=America/New_York:20250506T140000
DTSTAMP:20260422T203026
CREATED:20250423T171753Z
LAST-MODIFIED:20250423T171754Z
UID:10010500-1746532800-1746540000@necc.edu
SUMMARY:UTEC Food Truck-LAST DAY in Haverhill
DESCRIPTION:MENU \nPlease visit the food truck for the last day in Haverhill until the fall semester.  The food truck will be outside the library from 12:00pm-2:00pm. \n Print View
URL:https://necc.edu/event/utec-food-truck-last-day-in-haverhill/
LOCATION:Haverhill Campus\, 100 Elliott St\, Haverhill\, MA\, United States
CATEGORIES:Home Page Events
ORGANIZER;CN="Administration & Finance":MAILTO:kteixeira@necc.mass.edu
GEO:42.797649;-71.05113
X-APPLE-STRUCTURED-LOCATION;VALUE=URI;X-ADDRESS=Haverhill Campus 100 Elliott St Haverhill MA United States;X-APPLE-RADIUS=500;X-TITLE=100 Elliott St:geo:-71.05113,42.797649
END:VEVENT
BEGIN:VEVENT
DTSTART;TZID=America/New_York:20250429T120000
DTEND;TZID=America/New_York:20250429T140000
DTSTAMP:20260422T203026
CREATED:20250423T171140Z
LAST-MODIFIED:20250428T134446Z
UID:10010499-1745928000-1745935200@necc.edu
SUMMARY:UTEC Food Truck - Final Day in Lawrence
DESCRIPTION:MENU \nLast day in Lawrence until the fall semester.  Please visit the food truck in the Dimitry Parking lot from 12:00pm-2:00pm. \n Print View
URL:https://necc.edu/event/utec-food-truck-last-day-in-lawrence/
CATEGORIES:Home Page Events
ORGANIZER;CN="Administration & Finance":MAILTO:kteixeira@necc.mass.edu
END:VEVENT
BEGIN:VEVENT
DTSTART;TZID=America/New_York:20250127T100000
DTEND;TZID=America/New_York:20250127T113000
DTSTAMP:20260422T203026
CREATED:20250116T213145Z
LAST-MODIFIED:20250121T160525Z
UID:10009103-1737972000-1737977400@necc.edu
SUMMARY:Coffee with Winnie
DESCRIPTION:Welcome back for the spring semester! \nTake a paws and join us for Coffee with Winnie\, our college’s beloved comfort dog. Enjoy some coffee\, munchkins\, and puppy cuddles to start the semester off right! \nWhere: El Hefni Lobby \nWe can’t wait to see you there—and neither can Winnie! 🐶💛 \n  \n Print View
URL:https://necc.edu/event/coffee-with-winnie/
LOCATION:Lawrence Campus\, Lawrence\, MA\, United States
CATEGORIES:Home Page Events
ORGANIZER;CN="Administration & Finance":MAILTO:kteixeira@necc.mass.edu
GEO:42.70734;-71.161052
END:VEVENT
BEGIN:VEVENT
DTSTART;TZID=America/New_York:20250123T120000
DTEND;TZID=America/New_York:20250123T143000
DTSTAMP:20260422T203026
CREATED:20250116T144157Z
LAST-MODIFIED:20250122T153524Z
UID:10009096-1737633600-1737642600@necc.edu
SUMMARY:UTEC Food Truck at NECC
DESCRIPTION:This spring\, UTEC will bring its food truck to both campuses! \nThe opening week is next week\, and the food truck will be at NECC’s Lawrence Campus in the Dimitry Parking Lot. They will be accepting $10.00 student vouchers. \nMenu: Click here to view the menu\nSchedule: Click here for the latest schedule of the UTEC food truck at NECC \nWe hope you’ll stop by and enjoy some great food! \n Print View
URL:https://necc.edu/event/utec-food-truck-at-necc/
LOCATION:Lawrence Campus\, Lawrence\, MA\, United States
CATEGORIES:Home Page Events
ORGANIZER;CN="Administration & Finance":MAILTO:kteixeira@necc.mass.edu
GEO:42.70734;-71.161052
END:VEVENT
END:VCALENDAR