BEGIN:VCALENDAR
VERSION:2.0
PRODID:-//Northern Essex CC - ECPv6.15.12//NONSGML v1.0//EN
CALSCALE:GREGORIAN
METHOD:PUBLISH
X-WR-CALNAME:Northern Essex CC
X-ORIGINAL-URL:https://necc.edu
X-WR-CALDESC:Events for Northern Essex CC
REFRESH-INTERVAL;VALUE=DURATION:PT1H
X-Robots-Tag:noindex
X-PUBLISHED-TTL:PT1H
BEGIN:VTIMEZONE
TZID:America/New_York
BEGIN:DAYLIGHT
TZOFFSETFROM:-0500
TZOFFSETTO:-0400
TZNAME:EDT
DTSTART:20250309T070000
END:DAYLIGHT
BEGIN:STANDARD
TZOFFSETFROM:-0400
TZOFFSETTO:-0500
TZNAME:EST
DTSTART:20251102T060000
END:STANDARD
BEGIN:DAYLIGHT
TZOFFSETFROM:-0500
TZOFFSETTO:-0400
TZNAME:EDT
DTSTART:20260308T070000
END:DAYLIGHT
BEGIN:STANDARD
TZOFFSETFROM:-0400
TZOFFSETTO:-0500
TZNAME:EST
DTSTART:20261101T060000
END:STANDARD
BEGIN:DAYLIGHT
TZOFFSETFROM:-0500
TZOFFSETTO:-0400
TZNAME:EDT
DTSTART:20270314T070000
END:DAYLIGHT
BEGIN:STANDARD
TZOFFSETFROM:-0400
TZOFFSETTO:-0500
TZNAME:EST
DTSTART:20271107T060000
END:STANDARD
END:VTIMEZONE
BEGIN:VEVENT
DTSTART;TZID=America/New_York:20260503T140000
DTEND;TZID=America/New_York:20260503T170000
DTSTAMP:20260422T160004
CREATED:20260304T171122Z
LAST-MODIFIED:20260304T171122Z
UID:10011505-1777816800-1777827600@necc.edu
SUMMARY:NECC Choir Concert
DESCRIPTION:The NECC Chorus will present their Spring Concert on Sunday\, May 3rd.   Music from the 1600’s all the way to Broadway and Disney will be presented.   \nThis event will raise money for our memorial Music Scholarship fund in honor of Bonnie Surowiec a 2009 NECC Music graduate.   \nTC103 on the Haverhill campus \nAdmission is $5 \n Print View
URL:https://necc.edu/event/necc-choir-concert/
LOCATION:Haverhill Campus\, 100 Elliott St\, Haverhill\, MA\, United States
CATEGORIES:Home Page Events
ORGANIZER;CN="Alisa Bucchiere":MAILTO:abucchiere@necc.mass.edu
GEO:42.797649;-71.05113
X-APPLE-STRUCTURED-LOCATION;VALUE=URI;X-ADDRESS=Haverhill Campus 100 Elliott St Haverhill MA United States;X-APPLE-RADIUS=500;X-TITLE=100 Elliott St:geo:-71.05113,42.797649
END:VEVENT
BEGIN:VEVENT
DTSTART;TZID=America/New_York:20260507T180000
DTEND;TZID=America/New_York:20260507T210000
DTSTAMP:20260422T160004
CREATED:20260304T171331Z
LAST-MODIFIED:20260304T171331Z
UID:10011506-1778176800-1778187600@necc.edu
SUMMARY:NECC Jazz/Rock Ensemble Concert
DESCRIPTION:The NECC Jazz/Rock Ensemble will present their Spring Concert. \nTC 103 on the Haverhill Campus \nFree admission.  \n Print View
URL:https://necc.edu/event/necc-jazz-rock-ensemble-concert-3/
LOCATION:Haverhill Campus\, 100 Elliott St\, Haverhill\, MA\, United States
CATEGORIES:Home Page Events
ORGANIZER;CN="Alisa Bucchiere":MAILTO:abucchiere@necc.mass.edu
GEO:42.797649;-71.05113
X-APPLE-STRUCTURED-LOCATION;VALUE=URI;X-ADDRESS=Haverhill Campus 100 Elliott St Haverhill MA United States;X-APPLE-RADIUS=500;X-TITLE=100 Elliott St:geo:-71.05113,42.797649
END:VEVENT
BEGIN:VEVENT
DTSTART;TZID=America/New_York:20260512T133000
DTEND;TZID=America/New_York:20260512T153000
DTSTAMP:20260422T160004
CREATED:20260304T171616Z
LAST-MODIFIED:20260304T171616Z
UID:10011507-1778592600-1778599800@necc.edu
SUMMARY:NECC Music: Final Performance Workshop Exams
DESCRIPTION:The Performance Workshop classes are all about learning how to perform music!  Our music students will be presenting duets\, trios\, quartets and quintets! \nCome be an audience member to see how our student musicians grow in their craft!   \nTC103 on the Haverhill campus \nFree admission. \n  \n Print View
URL:https://necc.edu/event/necc-music-final-performance-workshop-exams/
LOCATION:Haverhill Campus\, 100 Elliott St\, Haverhill\, MA\, United States
CATEGORIES:Home Page Events
ORGANIZER;CN="Alisa Bucchiere":MAILTO:abucchiere@necc.mass.edu
GEO:42.797649;-71.05113
X-APPLE-STRUCTURED-LOCATION;VALUE=URI;X-ADDRESS=Haverhill Campus 100 Elliott St Haverhill MA United States;X-APPLE-RADIUS=500;X-TITLE=100 Elliott St:geo:-71.05113,42.797649
END:VEVENT
END:VCALENDAR